BEGIN:VCALENDAR
VERSION:2.0
PRODID:-//AA Región 87 - ECPv6.15.17//NONSGML v1.0//EN
CALSCALE:GREGORIAN
METHOD:PUBLISH
X-WR-CALNAME:AA Región 87
X-ORIGINAL-URL:https://www.aa87.org/es/
X-WR-CALDESC:Eventos para AA Región 87
REFRESH-INTERVAL;VALUE=DURATION:PT1H
X-Robots-Tag:noindex
X-PUBLISHED-TTL:PT1H
BEGIN:VTIMEZONE
TZID:America/Toronto
BEGIN:DAYLIGHT
TZOFFSETFROM:-0500
TZOFFSETTO:-0400
TZNAME:EDT
DTSTART:20260308T070000
END:DAYLIGHT
BEGIN:STANDARD
TZOFFSETFROM:-0400
TZOFFSETTO:-0500
TZNAME:EST
DTSTART:20261101T060000
END:STANDARD
BEGIN:DAYLIGHT
TZOFFSETFROM:-0500
TZOFFSETTO:-0400
TZNAME:EDT
DTSTART:20270314T070000
END:DAYLIGHT
BEGIN:STANDARD
TZOFFSETFROM:-0400
TZOFFSETTO:-0500
TZNAME:EST
DTSTART:20271107T060000
END:STANDARD
BEGIN:DAYLIGHT
TZOFFSETFROM:-0500
TZOFFSETTO:-0400
TZNAME:EDT
DTSTART:20280312T070000
END:DAYLIGHT
BEGIN:STANDARD
TZOFFSETFROM:-0400
TZOFFSETTO:-0500
TZNAME:EST
DTSTART:20281105T060000
END:STANDARD
END:VTIMEZONE
BEGIN:VEVENT
DTSTART;VALUE=DATE:20271014
DTEND;VALUE=DATE:20271015
DTSTAMP:20260419T111520
CREATED:20250731T135639Z
LAST-MODIFIED:20250731T140031Z
UID:10024467-1823472000-1823558399@www.aa87.org
SUMMARY:Reflexión diaria 14 de octubre
DESCRIPTION:Un programa para vivir\n14 de octubre\n\nPor la noche\, cuando nos acostamos\, revisamos constructivamente nuestro día… Al despertar\, pensemos en las veinticuatro horas que tenemos por delante… Antes de empezar\, le pedimos a Dios que dirija nuestro pensamiento\, pidiendo especialmente que esté libre de autoconmiseración y de motivos falsos y egoístas. \nAlcohólicos Anónimos\, p. 86 \nA mí me faltaba serenidad. Tenía una gran cantidad de trabajo por hacer y\, aunque me esforzara mucho\, cada vez estaba más atrasado. Las preocupaciones por las cosas que no había hecho ayer y el temor de los plazos límites de mañana me quitaban la calma que yo necesitaba para ser eficaz cada día. Antes de dar los Pasos Diez y Once\, empecé a leer párrafos como el citado arriba. Trataba de enfocarme en la voluntad de Dios\, no en mis problemas\, y de confiar en que Él manejaría mi día. ¡Dio resultados! Lentamente\, pero dio resultados. \nDel libro Reflexiones diarias\nCopyright © 1991 por Alcoholics Anonymous World Services\, Inc. Todos los derechos reservados. \nTodas las reflexiones diarias
URL:https://www.aa87.org/es/evenement/rq1014/2027-10-14/
CATEGORIES:Réflexion Quotidiennes
END:VEVENT
END:VCALENDAR