BEGIN:VCALENDAR
VERSION:2.0
PRODID:-//AA Región 87 - ECPv6.15.17//NONSGML v1.0//EN
CALSCALE:GREGORIAN
METHOD:PUBLISH
X-WR-CALNAME:AA Región 87
X-ORIGINAL-URL:https://www.aa87.org/es/
X-WR-CALDESC:Eventos para AA Región 87
REFRESH-INTERVAL;VALUE=DURATION:PT1H
X-Robots-Tag:noindex
X-PUBLISHED-TTL:PT1H
BEGIN:VTIMEZONE
TZID:America/Toronto
BEGIN:DAYLIGHT
TZOFFSETFROM:-0500
TZOFFSETTO:-0400
TZNAME:EDT
DTSTART:20290311T070000
END:DAYLIGHT
BEGIN:STANDARD
TZOFFSETFROM:-0400
TZOFFSETTO:-0500
TZNAME:EST
DTSTART:20291104T060000
END:STANDARD
BEGIN:DAYLIGHT
TZOFFSETFROM:-0500
TZOFFSETTO:-0400
TZNAME:EDT
DTSTART:20300310T070000
END:DAYLIGHT
BEGIN:STANDARD
TZOFFSETFROM:-0400
TZOFFSETTO:-0500
TZNAME:EST
DTSTART:20301103T060000
END:STANDARD
BEGIN:DAYLIGHT
TZOFFSETFROM:-0500
TZOFFSETTO:-0400
TZNAME:EDT
DTSTART:20310309T070000
END:DAYLIGHT
BEGIN:STANDARD
TZOFFSETFROM:-0400
TZOFFSETTO:-0500
TZNAME:EST
DTSTART:20311102T060000
END:STANDARD
END:VTIMEZONE
BEGIN:VEVENT
DTSTART;VALUE=DATE:20301105
DTEND;VALUE=DATE:20301106
DTSTAMP:20260419T111507
CREATED:20241027T232643Z
LAST-MODIFIED:20251126T214316Z
UID:10025884-1920067200-1920153599@www.aa87.org
SUMMARY:Reflexión diaria 05 noviembre
DESCRIPTION:“LA CALIDAD DE LA FE”\n5 de noviembre\n\n… tiene que ver con la… calidad [de la fe]. Nunca\, en ningún sentido profundo y significativo\, habíamos examinado nuestra conciencia… Ni siquiera había- mos rezado como se debe rezar. Siempre habíamos dicho\, “Concédeme mis deseos\,” en vez de “Hágase tu voluntad”. \nDOCE PASOS Y DOCE TRADICIONES\, p. 30 \nDios no me otorga posesiones materiales\, no me quita mis sufrimientos\, ni me libra de desastres\, pero Él me da una buena vida\, habilidad para salir adelante y tranquilidad de espíritu. Mis oraciones son sencillas: primero\, expresan mi gratitud por las buenas cosas de mi vida\, aunque tenga que hacer un gran esfuerzo para encontrarlas; y segundo\, pido solamente la fortaleza y sabiduría para hacer Su voluntad. Él responde con soluciones a mis problemas\, reforzando mi capacidad para superar las frustraciones diarias con una serenidad que yo no creía que existía\, y con la fortaleza para practicar los principios de A.A. en todos mis asuntos cotidianos. \n\nDel libro Reflexiones diarias\nCopyright © 1991 por Alcoholics Anonymous World Services\, Inc. Todos los derechos reservados. \nTodas las reflexiones diarias \n\n 
URL:https://www.aa87.org/es/evenement/rq1105/2030-11-05/
LOCATION:aa87.org
CATEGORIES:Réflexion Quotidiennes
END:VEVENT
END:VCALENDAR