BEGIN:VCALENDAR
VERSION:2.0
PRODID:-//AA Región 87 - ECPv6.15.17//NONSGML v1.0//EN
CALSCALE:GREGORIAN
METHOD:PUBLISH
X-WR-CALNAME:AA Región 87
X-ORIGINAL-URL:https://www.aa87.org/es/
X-WR-CALDESC:Eventos para AA Región 87
REFRESH-INTERVAL;VALUE=DURATION:PT1H
X-Robots-Tag:noindex
X-PUBLISHED-TTL:PT1H
BEGIN:VTIMEZONE
TZID:America/Toronto
BEGIN:DAYLIGHT
TZOFFSETFROM:-0500
TZOFFSETTO:-0400
TZNAME:EDT
DTSTART:20260308T070000
END:DAYLIGHT
BEGIN:STANDARD
TZOFFSETFROM:-0400
TZOFFSETTO:-0500
TZNAME:EST
DTSTART:20261101T060000
END:STANDARD
BEGIN:DAYLIGHT
TZOFFSETFROM:-0500
TZOFFSETTO:-0400
TZNAME:EDT
DTSTART:20270314T070000
END:DAYLIGHT
BEGIN:STANDARD
TZOFFSETFROM:-0400
TZOFFSETTO:-0500
TZNAME:EST
DTSTART:20271107T060000
END:STANDARD
BEGIN:DAYLIGHT
TZOFFSETFROM:-0500
TZOFFSETTO:-0400
TZNAME:EDT
DTSTART:20280312T070000
END:DAYLIGHT
BEGIN:STANDARD
TZOFFSETFROM:-0400
TZOFFSETTO:-0500
TZNAME:EST
DTSTART:20281105T060000
END:STANDARD
END:VTIMEZONE
BEGIN:VEVENT
DTSTART;VALUE=DATE:20271108
DTEND;VALUE=DATE:20271109
DTSTAMP:20260419T102413
CREATED:20241102T190908Z
LAST-MODIFIED:20251126T214913Z
UID:10008907-1825632000-1825718399@www.aa87.org
SUMMARY:Reflexión diaria 08 noviembre
DESCRIPTION:Una aventura individual\n8 de noviembre\n\nLa meditación es algo que siempre puede perfeccionarse. No tiene límites\, ni de altura ni de amplitud. Aunque aprovechamos las enseñanzas y los ejemplos que podamos encontrar\, la meditación es\, en su esencia\, una aventura individual\, y cada uno de nosotros la practica a su manera. \nDoce pasos y doce tradiciones\, p. 99 \nMi desarrollo espiritual es con Dios como yo Lo concibo. Con Él encuentro mi verdadero ser interior. La meditación y la oración diarias fortalecen y renuevan mi fuente de bienestar. Recibo entonces la disposición para aceptar todo lo que Él tiene para ofrecerme. Con Dios tengo la seguridad de que mi viaje será tal como Él lo quiere para mí\, y por esto estoy agradecido de tener a Dios en mi vida. \n\n\n\nDel libro Reflexiones diarias\nCopyright © 1991 por Alcoholics Anonymous World Services\, Inc. Todos los derechos reservados. \nTodas las reflexiones diarias
URL:https://www.aa87.org/es/evenement/rq1108/2027-11-08/
LOCATION:aa87.org
CATEGORIES:Réflexion Quotidiennes
END:VEVENT
END:VCALENDAR