BEGIN:VCALENDAR
VERSION:2.0
PRODID:-//AA Región 87 - ECPv6.15.17//NONSGML v1.0//EN
CALSCALE:GREGORIAN
METHOD:PUBLISH
X-WR-CALNAME:AA Región 87
X-ORIGINAL-URL:https://www.aa87.org/es/
X-WR-CALDESC:Eventos para AA Región 87
REFRESH-INTERVAL;VALUE=DURATION:PT1H
X-Robots-Tag:noindex
X-PUBLISHED-TTL:PT1H
BEGIN:VTIMEZONE
TZID:America/Toronto
BEGIN:DAYLIGHT
TZOFFSETFROM:-0500
TZOFFSETTO:-0400
TZNAME:EDT
DTSTART:20230312T070000
END:DAYLIGHT
BEGIN:STANDARD
TZOFFSETFROM:-0400
TZOFFSETTO:-0500
TZNAME:EST
DTSTART:20231105T060000
END:STANDARD
BEGIN:DAYLIGHT
TZOFFSETFROM:-0500
TZOFFSETTO:-0400
TZNAME:EDT
DTSTART:20240310T070000
END:DAYLIGHT
BEGIN:STANDARD
TZOFFSETFROM:-0400
TZOFFSETTO:-0500
TZNAME:EST
DTSTART:20241103T060000
END:STANDARD
BEGIN:DAYLIGHT
TZOFFSETFROM:-0500
TZOFFSETTO:-0400
TZNAME:EDT
DTSTART:20250309T070000
END:DAYLIGHT
BEGIN:STANDARD
TZOFFSETFROM:-0400
TZOFFSETTO:-0500
TZNAME:EST
DTSTART:20251102T060000
END:STANDARD
END:VTIMEZONE
BEGIN:VEVENT
DTSTART;VALUE=DATE:20241218
DTEND;VALUE=DATE:20241219
DTSTAMP:20260419T082747
CREATED:20241205T004202Z
LAST-MODIFIED:20241205T004230Z
UID:10010397-1734480000-1734566399@www.aa87.org
SUMMARY:Reflexión diaria 18 de diciembre
DESCRIPTION:Honestidad con los recién llegados\n18 de diciembre\n\nDile exactamente qué fue lo que sucedió. Haz hincapié sin reserva en el aspecto espiritual. \nAlcohólicos Anónimos\, p. 93 \nLo maravilloso de A.A. es que sólo cuento lo que me sucedió a mí. No pierdo el tiempo ofreciendo consejo a posibles principiantes\, porque si el consejo diera buenos resultados\, nadie llegaría a A.A. Todo lo que tengo que hacer es mostrar lo que me ha traído la sobriedad y lo que ha cambiado mi vida. Si dejo de hacer hincapié en el aspecto espiritual del programa de A.A.\, soy deshonesto. No se le debe causar al recién llegado una falsa impresión de la sobriedad. Yo estoy sobrio solamente por la gracia de mi Poder Superior\, y esto hace posible que yo comparta con otros. \n\n\nDel libro Reflexiones diarias\nCopyright © 1991 por Alcoholics Anonymous World Services\, Inc. Todos los derechos reservados. \nTodas las reflexiones diarias
URL:https://www.aa87.org/es/evenement/rq1218/2024-12-18/
LOCATION:aa87.org
CATEGORIES:Réflexion Quotidiennes
END:VEVENT
END:VCALENDAR