BEGIN:VCALENDAR
VERSION:2.0
PRODID:-//AA Región 87 - ECPv6.15.17//NONSGML v1.0//EN
CALSCALE:GREGORIAN
METHOD:PUBLISH
X-ORIGINAL-URL:https://www.aa87.org/es/
X-WR-CALDESC:Eventos para AA Región 87
REFRESH-INTERVAL;VALUE=DURATION:PT1H
X-Robots-Tag:noindex
X-PUBLISHED-TTL:PT1H
BEGIN:VTIMEZONE
TZID:America/Toronto
BEGIN:DAYLIGHT
TZOFFSETFROM:-0500
TZOFFSETTO:-0400
TZNAME:EDT
DTSTART:20270314T070000
END:DAYLIGHT
BEGIN:STANDARD
TZOFFSETFROM:-0400
TZOFFSETTO:-0500
TZNAME:EST
DTSTART:20271107T060000
END:STANDARD
BEGIN:DAYLIGHT
TZOFFSETFROM:-0500
TZOFFSETTO:-0400
TZNAME:EDT
DTSTART:20280312T070000
END:DAYLIGHT
BEGIN:STANDARD
TZOFFSETFROM:-0400
TZOFFSETTO:-0500
TZNAME:EST
DTSTART:20281105T060000
END:STANDARD
BEGIN:DAYLIGHT
TZOFFSETFROM:-0500
TZOFFSETTO:-0400
TZNAME:EDT
DTSTART:20290311T070000
END:DAYLIGHT
BEGIN:STANDARD
TZOFFSETFROM:-0400
TZOFFSETTO:-0500
TZNAME:EST
DTSTART:20291104T060000
END:STANDARD
BEGIN:DAYLIGHT
TZOFFSETFROM:-0500
TZOFFSETTO:-0400
TZNAME:EDT
DTSTART:20300310T070000
END:DAYLIGHT
BEGIN:STANDARD
TZOFFSETFROM:-0400
TZOFFSETTO:-0500
TZNAME:EST
DTSTART:20301103T060000
END:STANDARD
BEGIN:DAYLIGHT
TZOFFSETFROM:-0500
TZOFFSETTO:-0400
TZNAME:EDT
DTSTART:20310309T070000
END:DAYLIGHT
BEGIN:STANDARD
TZOFFSETFROM:-0400
TZOFFSETTO:-0500
TZNAME:EST
DTSTART:20311102T060000
END:STANDARD
END:VTIMEZONE
BEGIN:VEVENT
DTSTART;TZID=America/Toronto:20281025T190000
DTEND;TZID=America/Toronto:20281025T210000
DTSTAMP:20260419T132806
CREATED:20250128T233245Z
LAST-MODIFIED:20260314T155641Z
UID:10018927-1856113200-1856120400@www.aa87.org
SUMMARY:Comité d’info publique du District 87-02
DESCRIPTION:Sala 5 \nAsistir a la reunión\n \n  \nIdentificación de la reunión: 924 7313 7786\nCódigo secreto: 1234
URL:https://www.aa87.org/es/evenement/infopubliquedistrict-87-02/2028-10-25/
CATEGORIES:District 02,District AA87
ORGANIZER;CN="District 2%2C Rosemont%2C St-Michel%2C Villeray":MAILTO:district02@aa87.org
LOCATION:
END:VEVENT
BEGIN:VEVENT
DTSTART;TZID=America/Toronto:20281120T190000
DTEND;TZID=America/Toronto:20281120T210000
DTSTAMP:20260419T132806
CREATED:20241218T003040Z
LAST-MODIFIED:20260314T155351Z
UID:10033475-1858359600-1858366800@www.aa87.org
SUMMARY:Reunión de los GSR del Distrito 87-02
DESCRIPTION:Reunión mensual híbrida. \nSala 2 \nUnirse a la reunión\n \n  \nID de la reunión: 918 2068 6211 \nCódigo secreto: 1234
URL:https://www.aa87.org/es/evenement/district-02-2-2/2028-11-20/
LOCATION:BSR / ASO\, 3920\, rue Rachel Est\, Montréal QC\, H1X 1Z3\, 3920\, Rachel Est\, Montréal\, Québec\, H1X 1Z3\, Canada
CATEGORIES:District 02
ORGANIZER;CN="District 2%2C Rosemont%2C St-Michel%2C Villeray":MAILTO:district02@aa87.org
END:VEVENT
BEGIN:VEVENT
DTSTART;TZID=America/Toronto:20281122T190000
DTEND;TZID=America/Toronto:20281122T210000
DTSTAMP:20260419T132806
CREATED:20250128T233245Z
LAST-MODIFIED:20260314T155641Z
UID:10018928-1858532400-1858539600@www.aa87.org
SUMMARY:Comité d’info publique du District 87-02
DESCRIPTION:Sala 5 \nAsistir a la reunión\n \n  \nIdentificación de la reunión: 924 7313 7786\nCódigo secreto: 1234
URL:https://www.aa87.org/es/evenement/infopubliquedistrict-87-02/2028-11-22/
CATEGORIES:District 02,District AA87
ORGANIZER;CN="District 2%2C Rosemont%2C St-Michel%2C Villeray":MAILTO:district02@aa87.org
LOCATION:
END:VEVENT
BEGIN:VEVENT
DTSTART;TZID=America/Toronto:20281218T190000
DTEND;TZID=America/Toronto:20281218T210000
DTSTAMP:20260419T132806
CREATED:20241218T003040Z
LAST-MODIFIED:20260314T155351Z
UID:10033476-1860778800-1860786000@www.aa87.org
SUMMARY:Reunión de los GSR del Distrito 87-02
DESCRIPTION:Reunión mensual híbrida. \nSala 2 \nUnirse a la reunión\n \n  \nID de la reunión: 918 2068 6211 \nCódigo secreto: 1234
URL:https://www.aa87.org/es/evenement/district-02-2-2/2028-12-18/
LOCATION:BSR / ASO\, 3920\, rue Rachel Est\, Montréal QC\, H1X 1Z3\, 3920\, Rachel Est\, Montréal\, Québec\, H1X 1Z3\, Canada
CATEGORIES:District 02
ORGANIZER;CN="District 2%2C Rosemont%2C St-Michel%2C Villeray":MAILTO:district02@aa87.org
END:VEVENT
BEGIN:VEVENT
DTSTART;TZID=America/Toronto:20281227T190000
DTEND;TZID=America/Toronto:20281227T210000
DTSTAMP:20260419T132806
CREATED:20250128T233245Z
LAST-MODIFIED:20260314T155641Z
UID:10018929-1861556400-1861563600@www.aa87.org
SUMMARY:Comité d’info publique du District 87-02
DESCRIPTION:Sala 5 \nAsistir a la reunión\n \n  \nIdentificación de la reunión: 924 7313 7786\nCódigo secreto: 1234
URL:https://www.aa87.org/es/evenement/infopubliquedistrict-87-02/2028-12-27/
CATEGORIES:District 02,District AA87
ORGANIZER;CN="District 2%2C Rosemont%2C St-Michel%2C Villeray":MAILTO:district02@aa87.org
LOCATION:
END:VEVENT
BEGIN:VEVENT
DTSTART;TZID=America/Toronto:20290115T190000
DTEND;TZID=America/Toronto:20290115T210000
DTSTAMP:20260419T132806
CREATED:20241218T003040Z
LAST-MODIFIED:20260314T155351Z
UID:10033477-1863198000-1863205200@www.aa87.org
SUMMARY:Reunión de los GSR del Distrito 87-02
DESCRIPTION:Reunión mensual híbrida. \nSala 2 \nUnirse a la reunión\n \n  \nID de la reunión: 918 2068 6211 \nCódigo secreto: 1234
URL:https://www.aa87.org/es/evenement/district-02-2-2/2029-01-15/
LOCATION:BSR / ASO\, 3920\, rue Rachel Est\, Montréal QC\, H1X 1Z3\, 3920\, Rachel Est\, Montréal\, Québec\, H1X 1Z3\, Canada
CATEGORIES:District 02
ORGANIZER;CN="District 2%2C Rosemont%2C St-Michel%2C Villeray":MAILTO:district02@aa87.org
END:VEVENT
BEGIN:VEVENT
DTSTART;TZID=America/Toronto:20290124T190000
DTEND;TZID=America/Toronto:20290124T210000
DTSTAMP:20260419T132806
CREATED:20250128T233245Z
LAST-MODIFIED:20260314T155641Z
UID:10018930-1863975600-1863982800@www.aa87.org
SUMMARY:Comité d’info publique du District 87-02
DESCRIPTION:Sala 5 \nAsistir a la reunión\n \n  \nIdentificación de la reunión: 924 7313 7786\nCódigo secreto: 1234
URL:https://www.aa87.org/es/evenement/infopubliquedistrict-87-02/2029-01-24/
CATEGORIES:District 02,District AA87
ORGANIZER;CN="District 2%2C Rosemont%2C St-Michel%2C Villeray":MAILTO:district02@aa87.org
LOCATION:
END:VEVENT
BEGIN:VEVENT
DTSTART;TZID=America/Toronto:20290219T190000
DTEND;TZID=America/Toronto:20290219T210000
DTSTAMP:20260419T132806
CREATED:20241218T003040Z
LAST-MODIFIED:20260314T155351Z
UID:10033478-1866222000-1866229200@www.aa87.org
SUMMARY:Reunión de los GSR del Distrito 87-02
DESCRIPTION:Reunión mensual híbrida. \nSala 2 \nUnirse a la reunión\n \n  \nID de la reunión: 918 2068 6211 \nCódigo secreto: 1234
URL:https://www.aa87.org/es/evenement/district-02-2-2/2029-02-19/
LOCATION:BSR / ASO\, 3920\, rue Rachel Est\, Montréal QC\, H1X 1Z3\, 3920\, Rachel Est\, Montréal\, Québec\, H1X 1Z3\, Canada
CATEGORIES:District 02
ORGANIZER;CN="District 2%2C Rosemont%2C St-Michel%2C Villeray":MAILTO:district02@aa87.org
END:VEVENT
BEGIN:VEVENT
DTSTART;TZID=America/Toronto:20290228T190000
DTEND;TZID=America/Toronto:20290228T210000
DTSTAMP:20260419T132806
CREATED:20250128T233245Z
LAST-MODIFIED:20260314T155641Z
UID:10018931-1866999600-1867006800@www.aa87.org
SUMMARY:Comité d’info publique du District 87-02
DESCRIPTION:Sala 5 \nAsistir a la reunión\n \n  \nIdentificación de la reunión: 924 7313 7786\nCódigo secreto: 1234
URL:https://www.aa87.org/es/evenement/infopubliquedistrict-87-02/2029-02-28/
CATEGORIES:District 02,District AA87
ORGANIZER;CN="District 2%2C Rosemont%2C St-Michel%2C Villeray":MAILTO:district02@aa87.org
LOCATION:
END:VEVENT
BEGIN:VEVENT
DTSTART;TZID=America/Toronto:20290319T190000
DTEND;TZID=America/Toronto:20290319T210000
DTSTAMP:20260419T132806
CREATED:20241218T003040Z
LAST-MODIFIED:20260314T155351Z
UID:10033479-1868641200-1868648400@www.aa87.org
SUMMARY:Reunión de los GSR del Distrito 87-02
DESCRIPTION:Reunión mensual híbrida. \nSala 2 \nUnirse a la reunión\n \n  \nID de la reunión: 918 2068 6211 \nCódigo secreto: 1234
URL:https://www.aa87.org/es/evenement/district-02-2-2/2029-03-19/
LOCATION:BSR / ASO\, 3920\, rue Rachel Est\, Montréal QC\, H1X 1Z3\, 3920\, Rachel Est\, Montréal\, Québec\, H1X 1Z3\, Canada
CATEGORIES:District 02
ORGANIZER;CN="District 2%2C Rosemont%2C St-Michel%2C Villeray":MAILTO:district02@aa87.org
END:VEVENT
BEGIN:VEVENT
DTSTART;TZID=America/Toronto:20290328T190000
DTEND;TZID=America/Toronto:20290328T210000
DTSTAMP:20260419T132806
CREATED:20250128T233245Z
LAST-MODIFIED:20260314T155641Z
UID:10018932-1869418800-1869426000@www.aa87.org
SUMMARY:Comité d’info publique du District 87-02
DESCRIPTION:Sala 5 \nAsistir a la reunión\n \n  \nIdentificación de la reunión: 924 7313 7786\nCódigo secreto: 1234
URL:https://www.aa87.org/es/evenement/infopubliquedistrict-87-02/2029-03-28/
CATEGORIES:District 02,District AA87
ORGANIZER;CN="District 2%2C Rosemont%2C St-Michel%2C Villeray":MAILTO:district02@aa87.org
LOCATION:
END:VEVENT
BEGIN:VEVENT
DTSTART;TZID=America/Toronto:20290416T190000
DTEND;TZID=America/Toronto:20290416T210000
DTSTAMP:20260419T132806
CREATED:20241218T003040Z
LAST-MODIFIED:20260314T155351Z
UID:10033480-1871060400-1871067600@www.aa87.org
SUMMARY:Reunión de los GSR del Distrito 87-02
DESCRIPTION:Reunión mensual híbrida. \nSala 2 \nUnirse a la reunión\n \n  \nID de la reunión: 918 2068 6211 \nCódigo secreto: 1234
URL:https://www.aa87.org/es/evenement/district-02-2-2/2029-04-16/
LOCATION:BSR / ASO\, 3920\, rue Rachel Est\, Montréal QC\, H1X 1Z3\, 3920\, Rachel Est\, Montréal\, Québec\, H1X 1Z3\, Canada
CATEGORIES:District 02
ORGANIZER;CN="District 2%2C Rosemont%2C St-Michel%2C Villeray":MAILTO:district02@aa87.org
END:VEVENT
BEGIN:VEVENT
DTSTART;TZID=America/Toronto:20290425T190000
DTEND;TZID=America/Toronto:20290425T210000
DTSTAMP:20260419T132806
CREATED:20250128T233245Z
LAST-MODIFIED:20260314T155641Z
UID:10018933-1871838000-1871845200@www.aa87.org
SUMMARY:Comité d’info publique du District 87-02
DESCRIPTION:Sala 5 \nAsistir a la reunión\n \n  \nIdentificación de la reunión: 924 7313 7786\nCódigo secreto: 1234
URL:https://www.aa87.org/es/evenement/infopubliquedistrict-87-02/2029-04-25/
CATEGORIES:District 02,District AA87
ORGANIZER;CN="District 2%2C Rosemont%2C St-Michel%2C Villeray":MAILTO:district02@aa87.org
LOCATION:
END:VEVENT
BEGIN:VEVENT
DTSTART;TZID=America/Toronto:20290521T190000
DTEND;TZID=America/Toronto:20290521T210000
DTSTAMP:20260419T132806
CREATED:20241218T003040Z
LAST-MODIFIED:20260314T155351Z
UID:10033481-1874084400-1874091600@www.aa87.org
SUMMARY:Reunión de los GSR del Distrito 87-02
DESCRIPTION:Reunión mensual híbrida. \nSala 2 \nUnirse a la reunión\n \n  \nID de la reunión: 918 2068 6211 \nCódigo secreto: 1234
URL:https://www.aa87.org/es/evenement/district-02-2-2/2029-05-21/
LOCATION:BSR / ASO\, 3920\, rue Rachel Est\, Montréal QC\, H1X 1Z3\, 3920\, Rachel Est\, Montréal\, Québec\, H1X 1Z3\, Canada
CATEGORIES:District 02
ORGANIZER;CN="District 2%2C Rosemont%2C St-Michel%2C Villeray":MAILTO:district02@aa87.org
END:VEVENT
BEGIN:VEVENT
DTSTART;TZID=America/Toronto:20290523T190000
DTEND;TZID=America/Toronto:20290523T210000
DTSTAMP:20260419T132806
CREATED:20250128T233245Z
LAST-MODIFIED:20260314T155641Z
UID:10018934-1874257200-1874264400@www.aa87.org
SUMMARY:Comité d’info publique du District 87-02
DESCRIPTION:Sala 5 \nAsistir a la reunión\n \n  \nIdentificación de la reunión: 924 7313 7786\nCódigo secreto: 1234
URL:https://www.aa87.org/es/evenement/infopubliquedistrict-87-02/2029-05-23/
CATEGORIES:District 02,District AA87
ORGANIZER;CN="District 2%2C Rosemont%2C St-Michel%2C Villeray":MAILTO:district02@aa87.org
LOCATION:
END:VEVENT
BEGIN:VEVENT
DTSTART;TZID=America/Toronto:20290618T190000
DTEND;TZID=America/Toronto:20290618T210000
DTSTAMP:20260419T132806
CREATED:20241218T003040Z
LAST-MODIFIED:20260314T155351Z
UID:10033482-1876503600-1876510800@www.aa87.org
SUMMARY:Reunión de los GSR del Distrito 87-02
DESCRIPTION:Reunión mensual híbrida. \nSala 2 \nUnirse a la reunión\n \n  \nID de la reunión: 918 2068 6211 \nCódigo secreto: 1234
URL:https://www.aa87.org/es/evenement/district-02-2-2/2029-06-18/
LOCATION:BSR / ASO\, 3920\, rue Rachel Est\, Montréal QC\, H1X 1Z3\, 3920\, Rachel Est\, Montréal\, Québec\, H1X 1Z3\, Canada
CATEGORIES:District 02
ORGANIZER;CN="District 2%2C Rosemont%2C St-Michel%2C Villeray":MAILTO:district02@aa87.org
END:VEVENT
BEGIN:VEVENT
DTSTART;TZID=America/Toronto:20290627T190000
DTEND;TZID=America/Toronto:20290627T210000
DTSTAMP:20260419T132806
CREATED:20250128T233245Z
LAST-MODIFIED:20260314T155641Z
UID:10018935-1877281200-1877288400@www.aa87.org
SUMMARY:Comité d’info publique du District 87-02
DESCRIPTION:Sala 5 \nAsistir a la reunión\n \n  \nIdentificación de la reunión: 924 7313 7786\nCódigo secreto: 1234
URL:https://www.aa87.org/es/evenement/infopubliquedistrict-87-02/2029-06-27/
CATEGORIES:District 02,District AA87
ORGANIZER;CN="District 2%2C Rosemont%2C St-Michel%2C Villeray":MAILTO:district02@aa87.org
LOCATION:
END:VEVENT
BEGIN:VEVENT
DTSTART;TZID=America/Toronto:20290716T190000
DTEND;TZID=America/Toronto:20290716T210000
DTSTAMP:20260419T132806
CREATED:20241218T003040Z
LAST-MODIFIED:20260314T155351Z
UID:10033483-1878922800-1878930000@www.aa87.org
SUMMARY:Reunión de los GSR del Distrito 87-02
DESCRIPTION:Reunión mensual híbrida. \nSala 2 \nUnirse a la reunión\n \n  \nID de la reunión: 918 2068 6211 \nCódigo secreto: 1234
URL:https://www.aa87.org/es/evenement/district-02-2-2/2029-07-16/
LOCATION:BSR / ASO\, 3920\, rue Rachel Est\, Montréal QC\, H1X 1Z3\, 3920\, Rachel Est\, Montréal\, Québec\, H1X 1Z3\, Canada
CATEGORIES:District 02
ORGANIZER;CN="District 2%2C Rosemont%2C St-Michel%2C Villeray":MAILTO:district02@aa87.org
END:VEVENT
BEGIN:VEVENT
DTSTART;TZID=America/Toronto:20290725T190000
DTEND;TZID=America/Toronto:20290725T210000
DTSTAMP:20260419T132806
CREATED:20250128T233245Z
LAST-MODIFIED:20260314T155641Z
UID:10018936-1879700400-1879707600@www.aa87.org
SUMMARY:Comité d’info publique du District 87-02
DESCRIPTION:Sala 5 \nAsistir a la reunión\n \n  \nIdentificación de la reunión: 924 7313 7786\nCódigo secreto: 1234
URL:https://www.aa87.org/es/evenement/infopubliquedistrict-87-02/2029-07-25/
CATEGORIES:District 02,District AA87
ORGANIZER;CN="District 2%2C Rosemont%2C St-Michel%2C Villeray":MAILTO:district02@aa87.org
LOCATION:
END:VEVENT
BEGIN:VEVENT
DTSTART;TZID=America/Toronto:20290820T190000
DTEND;TZID=America/Toronto:20290820T210000
DTSTAMP:20260419T132806
CREATED:20241218T003040Z
LAST-MODIFIED:20260314T155351Z
UID:10033484-1881946800-1881954000@www.aa87.org
SUMMARY:Reunión de los GSR del Distrito 87-02
DESCRIPTION:Reunión mensual híbrida. \nSala 2 \nUnirse a la reunión\n \n  \nID de la reunión: 918 2068 6211 \nCódigo secreto: 1234
URL:https://www.aa87.org/es/evenement/district-02-2-2/2029-08-20/
LOCATION:BSR / ASO\, 3920\, rue Rachel Est\, Montréal QC\, H1X 1Z3\, 3920\, Rachel Est\, Montréal\, Québec\, H1X 1Z3\, Canada
CATEGORIES:District 02
ORGANIZER;CN="District 2%2C Rosemont%2C St-Michel%2C Villeray":MAILTO:district02@aa87.org
END:VEVENT
BEGIN:VEVENT
DTSTART;TZID=America/Toronto:20290822T190000
DTEND;TZID=America/Toronto:20290822T210000
DTSTAMP:20260419T132806
CREATED:20250128T233245Z
LAST-MODIFIED:20260314T155641Z
UID:10018937-1882119600-1882126800@www.aa87.org
SUMMARY:Comité d’info publique du District 87-02
DESCRIPTION:Sala 5 \nAsistir a la reunión\n \n  \nIdentificación de la reunión: 924 7313 7786\nCódigo secreto: 1234
URL:https://www.aa87.org/es/evenement/infopubliquedistrict-87-02/2029-08-22/
CATEGORIES:District 02,District AA87
ORGANIZER;CN="District 2%2C Rosemont%2C St-Michel%2C Villeray":MAILTO:district02@aa87.org
LOCATION:
END:VEVENT
BEGIN:VEVENT
DTSTART;TZID=America/Toronto:20290917T190000
DTEND;TZID=America/Toronto:20290917T210000
DTSTAMP:20260419T132806
CREATED:20241218T003040Z
LAST-MODIFIED:20260314T155351Z
UID:10033485-1884366000-1884373200@www.aa87.org
SUMMARY:Reunión de los GSR del Distrito 87-02
DESCRIPTION:Reunión mensual híbrida. \nSala 2 \nUnirse a la reunión\n \n  \nID de la reunión: 918 2068 6211 \nCódigo secreto: 1234
URL:https://www.aa87.org/es/evenement/district-02-2-2/2029-09-17/
LOCATION:BSR / ASO\, 3920\, rue Rachel Est\, Montréal QC\, H1X 1Z3\, 3920\, Rachel Est\, Montréal\, Québec\, H1X 1Z3\, Canada
CATEGORIES:District 02
ORGANIZER;CN="District 2%2C Rosemont%2C St-Michel%2C Villeray":MAILTO:district02@aa87.org
END:VEVENT
BEGIN:VEVENT
DTSTART;TZID=America/Toronto:20290926T190000
DTEND;TZID=America/Toronto:20290926T210000
DTSTAMP:20260419T132806
CREATED:20250128T233245Z
LAST-MODIFIED:20260314T155641Z
UID:10018938-1885143600-1885150800@www.aa87.org
SUMMARY:Comité d’info publique du District 87-02
DESCRIPTION:Sala 5 \nAsistir a la reunión\n \n  \nIdentificación de la reunión: 924 7313 7786\nCódigo secreto: 1234
URL:https://www.aa87.org/es/evenement/infopubliquedistrict-87-02/2029-09-26/
CATEGORIES:District 02,District AA87
ORGANIZER;CN="District 2%2C Rosemont%2C St-Michel%2C Villeray":MAILTO:district02@aa87.org
LOCATION:
END:VEVENT
BEGIN:VEVENT
DTSTART;TZID=America/Toronto:20291015T190000
DTEND;TZID=America/Toronto:20291015T210000
DTSTAMP:20260419T132806
CREATED:20241218T003040Z
LAST-MODIFIED:20260314T155351Z
UID:10033486-1886785200-1886792400@www.aa87.org
SUMMARY:Reunión de los GSR del Distrito 87-02
DESCRIPTION:Reunión mensual híbrida. \nSala 2 \nUnirse a la reunión\n \n  \nID de la reunión: 918 2068 6211 \nCódigo secreto: 1234
URL:https://www.aa87.org/es/evenement/district-02-2-2/2029-10-15/
LOCATION:BSR / ASO\, 3920\, rue Rachel Est\, Montréal QC\, H1X 1Z3\, 3920\, Rachel Est\, Montréal\, Québec\, H1X 1Z3\, Canada
CATEGORIES:District 02
ORGANIZER;CN="District 2%2C Rosemont%2C St-Michel%2C Villeray":MAILTO:district02@aa87.org
END:VEVENT
BEGIN:VEVENT
DTSTART;TZID=America/Toronto:20291024T190000
DTEND;TZID=America/Toronto:20291024T210000
DTSTAMP:20260419T132806
CREATED:20250128T233245Z
LAST-MODIFIED:20260314T155641Z
UID:10018939-1887562800-1887570000@www.aa87.org
SUMMARY:Comité d’info publique du District 87-02
DESCRIPTION:Sala 5 \nAsistir a la reunión\n \n  \nIdentificación de la reunión: 924 7313 7786\nCódigo secreto: 1234
URL:https://www.aa87.org/es/evenement/infopubliquedistrict-87-02/2029-10-24/
CATEGORIES:District 02,District AA87
ORGANIZER;CN="District 2%2C Rosemont%2C St-Michel%2C Villeray":MAILTO:district02@aa87.org
LOCATION:
END:VEVENT
BEGIN:VEVENT
DTSTART;TZID=America/Toronto:20291119T190000
DTEND;TZID=America/Toronto:20291119T210000
DTSTAMP:20260419T132806
CREATED:20241218T003040Z
LAST-MODIFIED:20260314T155351Z
UID:10033487-1889809200-1889816400@www.aa87.org
SUMMARY:Reunión de los GSR del Distrito 87-02
DESCRIPTION:Reunión mensual híbrida. \nSala 2 \nUnirse a la reunión\n \n  \nID de la reunión: 918 2068 6211 \nCódigo secreto: 1234
URL:https://www.aa87.org/es/evenement/district-02-2-2/2029-11-19/
LOCATION:BSR / ASO\, 3920\, rue Rachel Est\, Montréal QC\, H1X 1Z3\, 3920\, Rachel Est\, Montréal\, Québec\, H1X 1Z3\, Canada
CATEGORIES:District 02
ORGANIZER;CN="District 2%2C Rosemont%2C St-Michel%2C Villeray":MAILTO:district02@aa87.org
END:VEVENT
BEGIN:VEVENT
DTSTART;TZID=America/Toronto:20291128T190000
DTEND;TZID=America/Toronto:20291128T210000
DTSTAMP:20260419T132806
CREATED:20250128T233245Z
LAST-MODIFIED:20260314T155641Z
UID:10018940-1890586800-1890594000@www.aa87.org
SUMMARY:Comité d’info publique du District 87-02
DESCRIPTION:Sala 5 \nAsistir a la reunión\n \n  \nIdentificación de la reunión: 924 7313 7786\nCódigo secreto: 1234
URL:https://www.aa87.org/es/evenement/infopubliquedistrict-87-02/2029-11-28/
CATEGORIES:District 02,District AA87
ORGANIZER;CN="District 2%2C Rosemont%2C St-Michel%2C Villeray":MAILTO:district02@aa87.org
LOCATION:
END:VEVENT
BEGIN:VEVENT
DTSTART;TZID=America/Toronto:20291217T190000
DTEND;TZID=America/Toronto:20291217T210000
DTSTAMP:20260419T132806
CREATED:20241218T003040Z
LAST-MODIFIED:20260314T155351Z
UID:10033488-1892228400-1892235600@www.aa87.org
SUMMARY:Reunión de los GSR del Distrito 87-02
DESCRIPTION:Reunión mensual híbrida. \nSala 2 \nUnirse a la reunión\n \n  \nID de la reunión: 918 2068 6211 \nCódigo secreto: 1234
URL:https://www.aa87.org/es/evenement/district-02-2-2/2029-12-17/
LOCATION:BSR / ASO\, 3920\, rue Rachel Est\, Montréal QC\, H1X 1Z3\, 3920\, Rachel Est\, Montréal\, Québec\, H1X 1Z3\, Canada
CATEGORIES:District 02
ORGANIZER;CN="District 2%2C Rosemont%2C St-Michel%2C Villeray":MAILTO:district02@aa87.org
END:VEVENT
BEGIN:VEVENT
DTSTART;TZID=America/Toronto:20291226T190000
DTEND;TZID=America/Toronto:20291226T210000
DTSTAMP:20260419T132806
CREATED:20250128T233245Z
LAST-MODIFIED:20260314T155641Z
UID:10018941-1893006000-1893013200@www.aa87.org
SUMMARY:Comité d’info publique du District 87-02
DESCRIPTION:Sala 5 \nAsistir a la reunión\n \n  \nIdentificación de la reunión: 924 7313 7786\nCódigo secreto: 1234
URL:https://www.aa87.org/es/evenement/infopubliquedistrict-87-02/2029-12-26/
CATEGORIES:District 02,District AA87
ORGANIZER;CN="District 2%2C Rosemont%2C St-Michel%2C Villeray":MAILTO:district02@aa87.org
LOCATION:
END:VEVENT
BEGIN:VEVENT
DTSTART;TZID=America/Toronto:20300121T190000
DTEND;TZID=America/Toronto:20300121T210000
DTSTAMP:20260419T132806
CREATED:20241218T003040Z
LAST-MODIFIED:20260314T155351Z
UID:10033489-1895252400-1895259600@www.aa87.org
SUMMARY:Reunión de los GSR del Distrito 87-02
DESCRIPTION:Reunión mensual híbrida. \nSala 2 \nUnirse a la reunión\n \n  \nID de la reunión: 918 2068 6211 \nCódigo secreto: 1234
URL:https://www.aa87.org/es/evenement/district-02-2-2/2030-01-21/
LOCATION:BSR / ASO\, 3920\, rue Rachel Est\, Montréal QC\, H1X 1Z3\, 3920\, Rachel Est\, Montréal\, Québec\, H1X 1Z3\, Canada
CATEGORIES:District 02
ORGANIZER;CN="District 2%2C Rosemont%2C St-Michel%2C Villeray":MAILTO:district02@aa87.org
END:VEVENT
END:VCALENDAR