BEGIN:VCALENDAR
VERSION:2.0
PRODID:-//Alcooliques Anonymes Région 87 - ECPv6.15.17//NONSGML v1.0//EN
CALSCALE:GREGORIAN
METHOD:PUBLISH
X-WR-CALNAME:Alcooliques Anonymes Région 87
X-ORIGINAL-URL:https://www.aa87.org
X-WR-CALDESC:Évènements pour Alcooliques Anonymes Région 87
REFRESH-INTERVAL;VALUE=DURATION:PT1H
X-Robots-Tag:noindex
X-PUBLISHED-TTL:PT1H
BEGIN:VTIMEZONE
TZID:America/Toronto
BEGIN:DAYLIGHT
TZOFFSETFROM:-0500
TZOFFSETTO:-0400
TZNAME:EDT
DTSTART:20240310T070000
END:DAYLIGHT
BEGIN:STANDARD
TZOFFSETFROM:-0400
TZOFFSETTO:-0500
TZNAME:EST
DTSTART:20241103T060000
END:STANDARD
BEGIN:DAYLIGHT
TZOFFSETFROM:-0500
TZOFFSETTO:-0400
TZNAME:EDT
DTSTART:20250309T070000
END:DAYLIGHT
BEGIN:STANDARD
TZOFFSETFROM:-0400
TZOFFSETTO:-0500
TZNAME:EST
DTSTART:20251102T060000
END:STANDARD
BEGIN:DAYLIGHT
TZOFFSETFROM:-0500
TZOFFSETTO:-0400
TZNAME:EDT
DTSTART:20260308T070000
END:DAYLIGHT
BEGIN:STANDARD
TZOFFSETFROM:-0400
TZOFFSETTO:-0500
TZNAME:EST
DTSTART:20261101T060000
END:STANDARD
END:VTIMEZONE
BEGIN:VEVENT
DTSTART;TZID=America/Toronto:20250516T180000
DTEND;TZID=America/Toronto:20250516T230000
DTSTAMP:20260419T092040
CREATED:20250301T163200Z
LAST-MODIFIED:20250301T163753Z
UID:10020572-1747418400-1747436400@www.aa87.org
SUMMARY:Congrès AA de la Rive-Sud
DESCRIPTION:La mission première du Congrès de la Rive Sud\, du 16 au 18 mai 2025\, est de tenir un événement festif et convivial destiné à mieux faire connaître les AA aux membres actuels et aux nouveaux membres\, en leur transmettant un message de courage et d’espoir. \nÀ ce grand rassemblement annuel et ouvert à tous\, nous partageons la scène avec les Groupes familiaux Al-Anon/Alateen. Également\, plusieurs comités de service de la Région 87 sont présents pour se faire connaître et répondre à vos questions. \nVenez vous rétablir avec nous et profiter de cette occasion pour faire connaître notre Mouvement à votre entourage. \n\n\n\n\nCongrès de la Rive Sud\nRejoignez-nous à notre événement! \n\n\n\nVoir les détails du congrès
URL:https://www.aa87.org/evenement/congres-aa-de-la-rive-sud/2025-05-16/
LOCATION:7905\, avenue San Francisco Brossard\, Québec J4X 2A4 Canada\, 7905\, avenue San Francisco\, Brossard\, Québec\, J4X 2A4\, Canada
END:VEVENT
END:VCALENDAR