BEGIN:VCALENDAR
VERSION:2.0
PRODID:-//Alcooliques Anonymes Région 87 - ECPv6.15.17//NONSGML v1.0//EN
CALSCALE:GREGORIAN
METHOD:PUBLISH
X-WR-CALNAME:Alcooliques Anonymes Région 87
X-ORIGINAL-URL:https://www.aa87.org
X-WR-CALDESC:Évènements pour Alcooliques Anonymes Région 87
REFRESH-INTERVAL;VALUE=DURATION:PT1H
X-Robots-Tag:noindex
X-PUBLISHED-TTL:PT1H
BEGIN:VTIMEZONE
TZID:America/Toronto
BEGIN:DAYLIGHT
TZOFFSETFROM:-0500
TZOFFSETTO:-0400
TZNAME:EDT
DTSTART:20240310T070000
END:DAYLIGHT
BEGIN:STANDARD
TZOFFSETFROM:-0400
TZOFFSETTO:-0500
TZNAME:EST
DTSTART:20241103T060000
END:STANDARD
BEGIN:DAYLIGHT
TZOFFSETFROM:-0500
TZOFFSETTO:-0400
TZNAME:EDT
DTSTART:20250309T070000
END:DAYLIGHT
BEGIN:STANDARD
TZOFFSETFROM:-0400
TZOFFSETTO:-0500
TZNAME:EST
DTSTART:20251102T060000
END:STANDARD
BEGIN:DAYLIGHT
TZOFFSETFROM:-0500
TZOFFSETTO:-0400
TZNAME:EDT
DTSTART:20260308T070000
END:DAYLIGHT
BEGIN:STANDARD
TZOFFSETFROM:-0400
TZOFFSETTO:-0500
TZNAME:EST
DTSTART:20261101T060000
END:STANDARD
END:VTIMEZONE
BEGIN:VEVENT
DTSTART;TZID=America/Toronto:20250315T120000
DTEND;TZID=America/Toronto:20250315T120000
DTSTAMP:20260419T232603
CREATED:20250308T140132Z
LAST-MODIFIED:20250308T140632Z
UID:129544-1742040000-1742040000@www.aa87.org
SUMMARY:Journée de gratitude District 87-17
DESCRIPTION:Nous avons le plaisir de vous inviter à notre prochain événement : \nJOURNÉE DE GRATITUDE DISTRICT 87-17\nSamedi 15 mars\nDe midi à minuit \nCentre Roger-Rousseau\n7501 av. Rondeau\,\nAnjou\, Québec\, H1K 4Y3\nMapIt \nContribution volontaire.\nPartages et espoir.\nMusique et danse en soirée.\nExplication des étapes.\nPartage de couple.\nAchat de boîte repas poulet 12$ sur place avant 16h. \nVoir l’annonce
URL:https://www.aa87.org/evenement/journeedegratitudedistrict87-17/
LOCATION:Centre Roger-Rousseau\, Anjou
ORGANIZER;CN="District 17%2C Montr%C3%A9al Est%2C Anjou":MAILTO:district17@aa87.org
END:VEVENT
END:VCALENDAR