BEGIN:VCALENDAR
VERSION:2.0
PRODID:-//Alcooliques Anonymes Région 87 - ECPv6.15.17//NONSGML v1.0//EN
CALSCALE:GREGORIAN
METHOD:PUBLISH
X-WR-CALNAME:Alcooliques Anonymes Région 87
X-ORIGINAL-URL:https://www.aa87.org
X-WR-CALDESC:Évènements pour Alcooliques Anonymes Région 87
REFRESH-INTERVAL;VALUE=DURATION:PT1H
X-Robots-Tag:noindex
X-PUBLISHED-TTL:PT1H
BEGIN:VTIMEZONE
TZID:America/Toronto
BEGIN:DAYLIGHT
TZOFFSETFROM:-0500
TZOFFSETTO:-0400
TZNAME:EDT
DTSTART:20240310T070000
END:DAYLIGHT
BEGIN:STANDARD
TZOFFSETFROM:-0400
TZOFFSETTO:-0500
TZNAME:EST
DTSTART:20241103T060000
END:STANDARD
BEGIN:DAYLIGHT
TZOFFSETFROM:-0500
TZOFFSETTO:-0400
TZNAME:EDT
DTSTART:20250309T070000
END:DAYLIGHT
BEGIN:STANDARD
TZOFFSETFROM:-0400
TZOFFSETTO:-0500
TZNAME:EST
DTSTART:20251102T060000
END:STANDARD
BEGIN:DAYLIGHT
TZOFFSETFROM:-0500
TZOFFSETTO:-0400
TZNAME:EDT
DTSTART:20260308T070000
END:DAYLIGHT
BEGIN:STANDARD
TZOFFSETFROM:-0400
TZOFFSETTO:-0500
TZNAME:EST
DTSTART:20261101T060000
END:STANDARD
END:VTIMEZONE
BEGIN:VEVENT
DTSTART;VALUE=DATE:20250225
DTEND;VALUE=DATE:20250226
DTSTAMP:20260419T120458
CREATED:20250213T234805Z
LAST-MODIFIED:20250213T234805Z
UID:10019710-1740441600-1740527999@www.aa87.org
SUMMARY:Réflexion quotidienne 25 février
DESCRIPTION:La leçon des échecs\n25 février\n\nDans le plan divin\, rien n’est gaspillé. L’échec nous donne une leçon d’humilité douloureuse mais nécessaire. \nRéflexions de Bill\, P. 31 \nComme je suis reconnaissant\, aujourd’hui\, de savoir que tous mes échecs passés\, sans exception\, m’ont permis d’arriver là où je suis maintenant. L’expérience est venue par la souffrance\, et la souffrance m’a rendu docile. J’ai recherché Dieu\, tel que je le conçois\, et il a partagé avec moi ses précieux dons. Grâce à l’expérience et à l’obéissance\, j’ai connu la croissance\, puis la gratitude. Et ce fut enfin la paix d’esprit d’une vie sobre et ouverte aux autres. \n\nExtrait du livre Réflexions quotidiennes\nCopyright © 1991 par Alcoholics Anonymous World Services\, Inc. Tous droits réservés. \nTous les Réflexions quotidiennes
URL:https://www.aa87.org/evenement/reflexion-quotidienne-25-fevrier/2025-02-25/
LOCATION:aa87.org
CATEGORIES:Réflexions Quotidiennes
END:VEVENT
END:VCALENDAR