BEGIN:VCALENDAR
VERSION:2.0
PRODID:-//Alcooliques Anonymes Région 87 - ECPv6.15.17//NONSGML v1.0//EN
CALSCALE:GREGORIAN
METHOD:PUBLISH
X-WR-CALNAME:Alcooliques Anonymes Région 87
X-ORIGINAL-URL:https://www.aa87.org
X-WR-CALDESC:Évènements pour Alcooliques Anonymes Région 87
REFRESH-INTERVAL;VALUE=DURATION:PT1H
X-Robots-Tag:noindex
X-PUBLISHED-TTL:PT1H
BEGIN:VTIMEZONE
TZID:America/Toronto
BEGIN:DAYLIGHT
TZOFFSETFROM:-0500
TZOFFSETTO:-0400
TZNAME:EDT
DTSTART:20250309T070000
END:DAYLIGHT
BEGIN:STANDARD
TZOFFSETFROM:-0400
TZOFFSETTO:-0500
TZNAME:EST
DTSTART:20251102T060000
END:STANDARD
BEGIN:DAYLIGHT
TZOFFSETFROM:-0500
TZOFFSETTO:-0400
TZNAME:EDT
DTSTART:20260308T070000
END:DAYLIGHT
BEGIN:STANDARD
TZOFFSETFROM:-0400
TZOFFSETTO:-0500
TZNAME:EST
DTSTART:20261101T060000
END:STANDARD
BEGIN:DAYLIGHT
TZOFFSETFROM:-0500
TZOFFSETTO:-0400
TZNAME:EDT
DTSTART:20270314T070000
END:DAYLIGHT
BEGIN:STANDARD
TZOFFSETFROM:-0400
TZOFFSETTO:-0500
TZNAME:EST
DTSTART:20271107T060000
END:STANDARD
END:VTIMEZONE
BEGIN:VEVENT
DTSTART;VALUE=DATE:20260107
DTEND;VALUE=DATE:20260108
DTSTAMP:20260419T082619
CREATED:20241219T000648Z
LAST-MODIFIED:20260308T131356Z
UID:10015500-1767744000-1767830399@www.aa87.org
SUMMARY:Réflexion quotidienne 07 janvier
DESCRIPTION:À un tournant\n7 janvier\n\nLes demi-mesures ne nous ont rien donné. Nous nous trouvions à un tournant de notre vie. Nous avons demandé Sa protection et Son aide et nous nous sommes abandonnés à Lui complètement. \nLes Alcooliques Anonymes\, p. 66 \nTous les jours\, je me retrouve à un tournant. Mes pensées et mes actions peuvent me propulser vers la croissance ou me ramener en arrière\, sur la route des vieilles habitudes et de l’alcool. Parfois\, les tournants sont des débuts\, comme lorsque je décide de féliciter quelqu’un plutôt que de le condamner\, ou lorsque je commence à demander de l’aide plutôt que de vouloir m’en sortir seul. D’autres fois\, les tournants sont des fins\, comme quand je vois qu’il est temps de cesser de couver ma rancœur ou mon égoïsme paralysant. Chaque jour\, mes défauts tentent de se manifester\, ce qui me donne de nombreuses occasions d’en prendre conscience. Ils surgissent tous sous une forme ou sous une autre : culpabilité\, colère\, fuite\, orgueil\, désir de vengeance\, folie des grandeurs. \nLes demi-mesures que j’adopte pour éliminer ces défauts ne peuvent que freiner mes efforts de changement. Ce n’est que lorsque je demande l’aide d’une Puissance supérieure et que je m’abandonne complètement que j’obtiens la volonté et la capacité de changer. \n\n\nExtrait du livre Réflexions quotidiennes \n\n\nCopyright © 1991 par Alcoholics Anonymous World Services\, Inc. Tous droits réservés. \nTous les Réflexions quotidiennes
URL:https://www.aa87.org/evenement/rq0107/2026-01-07/
LOCATION:aa87.org
CATEGORIES:Réflexions Quotidiennes
END:VEVENT
END:VCALENDAR