BEGIN:VCALENDAR
VERSION:2.0
PRODID:-//Alcooliques Anonymes Région 87 - ECPv6.15.17//NONSGML v1.0//EN
CALSCALE:GREGORIAN
METHOD:PUBLISH
X-WR-CALNAME:Alcooliques Anonymes Région 87
X-ORIGINAL-URL:https://www.aa87.org
X-WR-CALDESC:Évènements pour Alcooliques Anonymes Région 87
REFRESH-INTERVAL;VALUE=DURATION:PT1H
X-Robots-Tag:noindex
X-PUBLISHED-TTL:PT1H
BEGIN:VTIMEZONE
TZID:America/Toronto
BEGIN:DAYLIGHT
TZOFFSETFROM:-0500
TZOFFSETTO:-0400
TZNAME:EDT
DTSTART:20240310T070000
END:DAYLIGHT
BEGIN:STANDARD
TZOFFSETFROM:-0400
TZOFFSETTO:-0500
TZNAME:EST
DTSTART:20241103T060000
END:STANDARD
BEGIN:DAYLIGHT
TZOFFSETFROM:-0500
TZOFFSETTO:-0400
TZNAME:EDT
DTSTART:20250309T070000
END:DAYLIGHT
BEGIN:STANDARD
TZOFFSETFROM:-0400
TZOFFSETTO:-0500
TZNAME:EST
DTSTART:20251102T060000
END:STANDARD
BEGIN:DAYLIGHT
TZOFFSETFROM:-0500
TZOFFSETTO:-0400
TZNAME:EDT
DTSTART:20260308T070000
END:DAYLIGHT
BEGIN:STANDARD
TZOFFSETFROM:-0400
TZOFFSETTO:-0500
TZNAME:EST
DTSTART:20261101T060000
END:STANDARD
END:VTIMEZONE
BEGIN:VEVENT
DTSTART;VALUE=DATE:20250120
DTEND;VALUE=DATE:20250121
DTSTAMP:20260419T143710
CREATED:20241229T200413Z
LAST-MODIFIED:20260308T133607Z
UID:10017477-1737331200-1737417599@www.aa87.org
SUMMARY:Réflexion quotidienne 20 janvier
DESCRIPTION:Nous faisons une pause…et nous demandons…\n20 janvier\n\nAu cours de la journée\, nous faisons une pause lorsque l’agitation et le doute s’emparent de nous pour demander d’avoir la bonne pensée ou la bonne action. \nLes Alcooliques Anonymes\, p. 99 \nAujourd’hui\, je demande humblement à ma Puissance supérieure la grâce de séparer mes impulsions de mes actions\, de laisser passer une brise rafraîchissante quand je m’apprête à réagir trop vivement\, de remplacer ma virulence par une douceur paisible\, de reconnaître le moment où jugement devient discernement\, de me réfugier dans le silence quand ma langue est pressée d’attaquer ou de défendre. \nJe promets de profiter de la moindre occasion pour me tourner vers ma Puissance supérieure afin de savoir comment agir. Je sais où se trouve cette Puissance ; elle est en moi\, claire comme un ruisseau de montagne\, cachée dans les replis de mon cœur – c’est la Ressource intérieure insoupçonnée. \nJe rends grâce à ma Puissance supérieure pour le monde de lumière et de vérité que je vois\, quand je lui permets de diriger mon regard. Je lui fais confiance aujourd’hui et j’espère qu’elle me fait confiance\, sachant que je fais de mon mieux pour chercher la bonne pensée ou la bonne action de la journée. \n\nExtrait du livre Réflexions quotidiennes\nCopyright © 1991 par Alcoholics Anonymous World Services\, Inc. Tous droits réservés. \nTous les Réflexions quotidiennes
URL:https://www.aa87.org/evenement/rq0120/2025-01-20/
LOCATION:aa87.org
CATEGORIES:Réflexions Quotidiennes
END:VEVENT
END:VCALENDAR