BEGIN:VCALENDAR
VERSION:2.0
PRODID:-//Alcooliques Anonymes Région 87 - ECPv6.15.17//NONSGML v1.0//EN
CALSCALE:GREGORIAN
METHOD:PUBLISH
X-WR-CALNAME:Alcooliques Anonymes Région 87
X-ORIGINAL-URL:https://www.aa87.org
X-WR-CALDESC:Évènements pour Alcooliques Anonymes Région 87
REFRESH-INTERVAL;VALUE=DURATION:PT1H
X-Robots-Tag:noindex
X-PUBLISHED-TTL:PT1H
BEGIN:VTIMEZONE
TZID:America/Toronto
BEGIN:DAYLIGHT
TZOFFSETFROM:-0500
TZOFFSETTO:-0400
TZNAME:EDT
DTSTART:20250309T070000
END:DAYLIGHT
BEGIN:STANDARD
TZOFFSETFROM:-0400
TZOFFSETTO:-0500
TZNAME:EST
DTSTART:20251102T060000
END:STANDARD
BEGIN:DAYLIGHT
TZOFFSETFROM:-0500
TZOFFSETTO:-0400
TZNAME:EDT
DTSTART:20260308T070000
END:DAYLIGHT
BEGIN:STANDARD
TZOFFSETFROM:-0400
TZOFFSETTO:-0500
TZNAME:EST
DTSTART:20261101T060000
END:STANDARD
BEGIN:DAYLIGHT
TZOFFSETFROM:-0500
TZOFFSETTO:-0400
TZNAME:EDT
DTSTART:20270314T070000
END:DAYLIGHT
BEGIN:STANDARD
TZOFFSETFROM:-0400
TZOFFSETTO:-0500
TZNAME:EST
DTSTART:20271107T060000
END:STANDARD
END:VTIMEZONE
BEGIN:VEVENT
DTSTART;VALUE=DATE:20260310
DTEND;VALUE=DATE:20260311
DTSTAMP:20260422T004909
CREATED:20250308T120932Z
LAST-MODIFIED:20260419T230211Z
UID:10042005-1773100800-1773187199@www.aa87.org
SUMMARY:Réflexion quotidienne 10 mars
DESCRIPTION:Aujourd’hui\, j’ai le choix\n10 mars\n\nMais invariablement\, nous découvrons que dans le passé\, nous avons pris une décision égoïste qui nous a exposés à être blessés plus tard. \nLes Alcooliques Anonymes\, p. 70 \nLorsque j’ai été capable d’admettre que j’avais joué un rôle dans la tournure qu’avait prise ma vie\, mon attitude a changé de façon spectaculaire. C’est à ce moment-là que le mode de vie des AA a commencé à fonctionner pour moi. Par le passé\, j’avais toujours blâmé les autres (Dieu ou les gens) pour ce qui m’arrivait. Je n’avais jamais senti que j’avais le choix de changer de vie. Mes décisions\, prises par peur\, par orgueil ou par égoïsme\, m’avaient mené sur le sentier de l’autodestruction. Aujourd’hui\, j’essaie de laisser ma Puissance supérieure me guider sur la voie de la raison. Je suis responsable de mes actions – ou de mon inaction – peu importe les conséquences. \n\nExtrait du livre Réflexions quotidiennes\nCopyright © 1991 par Alcoholics Anonymous World Services\, Inc. Tous droits réservés. \nTous les Réflexions quotidiennes
URL:https://www.aa87.org/evenement/rq0310/2026-03-10/
LOCATION:aa87.org
CATEGORIES:Réflexions Quotidiennes
END:VEVENT
END:VCALENDAR