BEGIN:VCALENDAR
VERSION:2.0
PRODID:-//Alcooliques Anonymes Région 87 - ECPv6.15.17//NONSGML v1.0//EN
CALSCALE:GREGORIAN
METHOD:PUBLISH
X-WR-CALNAME:Alcooliques Anonymes Région 87
X-ORIGINAL-URL:https://www.aa87.org
X-WR-CALDESC:Évènements pour Alcooliques Anonymes Région 87
REFRESH-INTERVAL;VALUE=DURATION:PT1H
X-Robots-Tag:noindex
X-PUBLISHED-TTL:PT1H
BEGIN:VTIMEZONE
TZID:America/Toronto
BEGIN:DAYLIGHT
TZOFFSETFROM:-0500
TZOFFSETTO:-0400
TZNAME:EDT
DTSTART:20280312T070000
END:DAYLIGHT
BEGIN:STANDARD
TZOFFSETFROM:-0400
TZOFFSETTO:-0500
TZNAME:EST
DTSTART:20281105T060000
END:STANDARD
BEGIN:DAYLIGHT
TZOFFSETFROM:-0500
TZOFFSETTO:-0400
TZNAME:EDT
DTSTART:20290311T070000
END:DAYLIGHT
BEGIN:STANDARD
TZOFFSETFROM:-0400
TZOFFSETTO:-0500
TZNAME:EST
DTSTART:20291104T060000
END:STANDARD
BEGIN:DAYLIGHT
TZOFFSETFROM:-0500
TZOFFSETTO:-0400
TZNAME:EDT
DTSTART:20300310T070000
END:DAYLIGHT
BEGIN:STANDARD
TZOFFSETFROM:-0400
TZOFFSETTO:-0500
TZNAME:EST
DTSTART:20301103T060000
END:STANDARD
END:VTIMEZONE
BEGIN:VEVENT
DTSTART;VALUE=DATE:20290412
DTEND;VALUE=DATE:20290413
DTSTAMP:20260419T081847
CREATED:20250824T195642Z
LAST-MODIFIED:20250824T195642Z
UID:10024960-1870646400-1870732799@www.aa87.org
SUMMARY:Réflexion quotidienne 12 avril
DESCRIPTION:Renoncer à la folie\n12 avril\n\n… nous étions frappés d’insanité dès qu’il s’agissait d’alcool. \nLes Alcooliques Anonymes\, p. 43 \nL’alcoolisme me forçait à boire\, que je le veuille ou non. La folie qui dominait ma vie était l’essence même de ma maladie. Elle me privait de la liberté de choisir autre chose que l’alcool et\, par conséquent\, de tous les autres choix. Quand je buvais\, j’étais incapable de faire des choix valables dans aucun domaine de ma vie\, et j’ai perdu la maîtrise de ma vie. \nJe demande à Dieu de m’aider à comprendre et à accepter toute la signification de la maladie de l’alcoolisme. \nExtrait du livre Réflexions quotidiennes\nCopyright © 1991 par Alcoholics Anonymous World Services\, Inc. Tous droits réservés. \nTous les Réflexions quotidiennes
URL:https://www.aa87.org/evenement/rq0412/2029-04-12/
CATEGORIES:Réflexions Quotidiennes
END:VEVENT
END:VCALENDAR