BEGIN:VCALENDAR
VERSION:2.0
PRODID:-//Alcooliques Anonymes Région 87 - ECPv6.15.17//NONSGML v1.0//EN
CALSCALE:GREGORIAN
METHOD:PUBLISH
X-WR-CALNAME:Alcooliques Anonymes Région 87
X-ORIGINAL-URL:https://www.aa87.org
X-WR-CALDESC:Évènements pour Alcooliques Anonymes Région 87
REFRESH-INTERVAL;VALUE=DURATION:PT1H
X-Robots-Tag:noindex
X-PUBLISHED-TTL:PT1H
BEGIN:VTIMEZONE
TZID:America/Toronto
BEGIN:DAYLIGHT
TZOFFSETFROM:-0500
TZOFFSETTO:-0400
TZNAME:EDT
DTSTART:20290311T070000
END:DAYLIGHT
BEGIN:STANDARD
TZOFFSETFROM:-0400
TZOFFSETTO:-0500
TZNAME:EST
DTSTART:20291104T060000
END:STANDARD
BEGIN:DAYLIGHT
TZOFFSETFROM:-0500
TZOFFSETTO:-0400
TZNAME:EDT
DTSTART:20300310T070000
END:DAYLIGHT
BEGIN:STANDARD
TZOFFSETFROM:-0400
TZOFFSETTO:-0500
TZNAME:EST
DTSTART:20301103T060000
END:STANDARD
BEGIN:DAYLIGHT
TZOFFSETFROM:-0500
TZOFFSETTO:-0400
TZNAME:EDT
DTSTART:20310309T070000
END:DAYLIGHT
BEGIN:STANDARD
TZOFFSETFROM:-0400
TZOFFSETTO:-0500
TZNAME:EST
DTSTART:20311102T060000
END:STANDARD
END:VTIMEZONE
BEGIN:VEVENT
DTSTART;VALUE=DATE:20300414
DTEND;VALUE=DATE:20300415
DTSTAMP:20260419T103934
CREATED:20250827T224226Z
LAST-MODIFIED:20250827T224226Z
UID:10025090-1902355200-1902441599@www.aa87.org
SUMMARY:Réflexion quotidienne 14 avril
DESCRIPTION:Le grand ennemi\n14 avril\n\nLe ressentiment est l’ennemi « no 1 ». Ce senti- ment détruit plus d’alcooliques que toute autre chose. Il donne lieu à toutes les formes de ma- ladies spirituelles car nous étions atteints non seulement mentalement et physiquement\, mais spirituellement aussi. \nLes Alcooliques Anonymes\, p. 72 \nEn regardant la manière dont je pratique la Quatrième Étape\, je constate que je passe facilement sur mes propres torts\, parce que je n’ai pas de mal à voir qu’il s’agissait de me venger des torts que j’avais subis. Quand je persiste à raviver de vieilles blessures\, j’éprouve du ressentiment\, et ce ressentiment empêche le soleil d’entrer dans mon âme. Si je continue de ressasser mes blessures et mes haines\, je vais me blesser et me haïr moimême. Après avoir passé des années dans le noir de mon ressentiment\, j’ai fini par trouver le soleil. Je dois abandonner mes rancunes\, je ne peux plus me les permettre. \nExtrait du livre Réflexions quotidiennes\nCopyright © 1991 par Alcoholics Anonymous World Services\, Inc. Tous droits réservés. \nTous les Réflexions quotidiennes
URL:https://www.aa87.org/evenement/rq0414/2030-04-14/
CATEGORIES:Réflexions Quotidiennes
END:VEVENT
END:VCALENDAR