BEGIN:VCALENDAR
VERSION:2.0
PRODID:-//Alcooliques Anonymes Région 87 - ECPv6.15.17//NONSGML v1.0//EN
CALSCALE:GREGORIAN
METHOD:PUBLISH
X-WR-CALNAME:Alcooliques Anonymes Région 87
X-ORIGINAL-URL:https://www.aa87.org
X-WR-CALDESC:Évènements pour Alcooliques Anonymes Région 87
REFRESH-INTERVAL;VALUE=DURATION:PT1H
X-Robots-Tag:noindex
X-PUBLISHED-TTL:PT1H
BEGIN:VTIMEZONE
TZID:America/Toronto
BEGIN:DAYLIGHT
TZOFFSETFROM:-0500
TZOFFSETTO:-0400
TZNAME:EDT
DTSTART:20260308T070000
END:DAYLIGHT
BEGIN:STANDARD
TZOFFSETFROM:-0400
TZOFFSETTO:-0500
TZNAME:EST
DTSTART:20261101T060000
END:STANDARD
BEGIN:DAYLIGHT
TZOFFSETFROM:-0500
TZOFFSETTO:-0400
TZNAME:EDT
DTSTART:20270314T070000
END:DAYLIGHT
BEGIN:STANDARD
TZOFFSETFROM:-0400
TZOFFSETTO:-0500
TZNAME:EST
DTSTART:20271107T060000
END:STANDARD
BEGIN:DAYLIGHT
TZOFFSETFROM:-0500
TZOFFSETTO:-0400
TZNAME:EDT
DTSTART:20280312T070000
END:DAYLIGHT
BEGIN:STANDARD
TZOFFSETFROM:-0400
TZOFFSETTO:-0500
TZNAME:EST
DTSTART:20281105T060000
END:STANDARD
END:VTIMEZONE
BEGIN:VEVENT
DTSTART;VALUE=DATE:20270425
DTEND;VALUE=DATE:20270426
DTSTAMP:20260422T063337
CREATED:20250915T222534Z
LAST-MODIFIED:20250915T222534Z
UID:10025480-1808611200-1808697599@www.aa87.org
SUMMARY:Réflexion quotidienne 25 avril
DESCRIPTION:Une nouvelle dimension\n25 avril\n\nAux derniers stades de notre alcoolisme\, la volon- té de résister a fui. Par contre\, lorsque nous admet- tons notre défaite totale et lorsque nous devenons entièrement disposés à faire l’essai des principes des AA\, l’obsession nous quitte et nous entrons dans une nouvelle dimension : la liberté entre les mains de Dieu tel que nous Le concevons. \nRéflexions de Bill\, p. 283 \nJ’ai le bonheur de faire partie de ceux qui ont connu cette impressionnante transformation dans leur vie. Quand j’ai passé la porte des AA\, seul et désespéré\, j’étais découragé au point de croire n’importe quoi. L’une des choses qu’on m’a dites était : « Ça pourrait être ton dernier lendemain de la veille\,sinon tu peux continuer de tourner en rond. » De toute évidence\, l’homme qui m’a dit ça se portait beaucoup mieux que moi. J’ai aimé cette idée d’admettre ma défaite et\, depuis\, je suis libre ! Mon cœur a entendu ce que ma raison n’avait jamais voulu entendre : « Être impuissant devant l’alcool n’est pas la fin du monde. » Je suis libre – et reconnaissant ! \nExtrait du livre Réflexions quotidiennes\nCopyright © 1991 par Alcoholics Anonymous World Services\, Inc. Tous droits réservés. \nTous les Réflexions quotidiennes
URL:https://www.aa87.org/evenement/rq0425/2027-04-25/
CATEGORIES:Réflexions Quotidiennes
END:VEVENT
END:VCALENDAR