BEGIN:VCALENDAR
VERSION:2.0
PRODID:-//Alcooliques Anonymes Région 87 - ECPv6.15.17//NONSGML v1.0//EN
CALSCALE:GREGORIAN
METHOD:PUBLISH
X-WR-CALNAME:Alcooliques Anonymes Région 87
X-ORIGINAL-URL:https://www.aa87.org
X-WR-CALDESC:Évènements pour Alcooliques Anonymes Région 87
REFRESH-INTERVAL;VALUE=DURATION:PT1H
X-Robots-Tag:noindex
X-PUBLISHED-TTL:PT1H
BEGIN:VTIMEZONE
TZID:America/Toronto
BEGIN:DAYLIGHT
TZOFFSETFROM:-0500
TZOFFSETTO:-0400
TZNAME:EDT
DTSTART:20290311T070000
END:DAYLIGHT
BEGIN:STANDARD
TZOFFSETFROM:-0400
TZOFFSETTO:-0500
TZNAME:EST
DTSTART:20291104T060000
END:STANDARD
BEGIN:DAYLIGHT
TZOFFSETFROM:-0500
TZOFFSETTO:-0400
TZNAME:EDT
DTSTART:20300310T070000
END:DAYLIGHT
BEGIN:STANDARD
TZOFFSETFROM:-0400
TZOFFSETTO:-0500
TZNAME:EST
DTSTART:20301103T060000
END:STANDARD
BEGIN:DAYLIGHT
TZOFFSETFROM:-0500
TZOFFSETTO:-0400
TZNAME:EDT
DTSTART:20310309T070000
END:DAYLIGHT
BEGIN:STANDARD
TZOFFSETFROM:-0400
TZOFFSETTO:-0500
TZNAME:EST
DTSTART:20311102T060000
END:STANDARD
END:VTIMEZONE
BEGIN:VEVENT
DTSTART;VALUE=DATE:20300428
DTEND;VALUE=DATE:20300429
DTSTAMP:20260419T110803
CREATED:20250915T223647Z
LAST-MODIFIED:20250915T223647Z
UID:10025498-1903564800-1903651199@www.aa87.org
SUMMARY:Réflexion quotidienne 26 avril
DESCRIPTION:Ce n’est pas une question de bonheur\n26 avril\n\nJe ne pense qu’il s’agisse de bonheur ou de mal- heur. Comment affrontons-nous les problèmes ? Comment y puisons-nous les meilleures leçons et les communiquons-nous aux autres\, lorsqu’ils acceptent de les recevoir ? \nRéflexions de Bill\, p. 306 \nDans ma recherche du bonheur\, j’ai changé d’emploi\, je me suis marié\, j’ai divorcé\, j’ai recherché le dépaysement et je me suis endetté – financièrement\, émotionnellement et spirituellement. Chez les AA\, j’apprends à grandir. Plutôt que d’attendre le bonheur des gens\, des lieux et des événements\, je demande à Dieu de m’aider à m’accepter tel que je suis. Quand un problème me dépasse\, les Douze Étapes m’aident à grandir par la souffrance. La connaissance que j’en retire pourra peut-être servir à d’autres qui souffrent du même problème. Comme l’ajoute Bill : « Si la souffrance fait son apparition\, nous devons consentir à en tirer une leçon et à aider les autres à en faire autant. Si nous nageons dans le bonheur\, nous l’acceptons comme un don et rendons grâce à Dieu. » \nExtrait du livre Réflexions quotidiennes\nCopyright © 1991 par Alcoholics Anonymous World Services\, Inc. Tous droits réservés. \nTous les Réflexions quotidiennes
URL:https://www.aa87.org/evenement/rq0426/2030-04-28/
CATEGORIES:Réflexions Quotidiennes
END:VEVENT
END:VCALENDAR