BEGIN:VCALENDAR
VERSION:2.0
PRODID:-//Alcooliques Anonymes Région 87 - ECPv6.15.17//NONSGML v1.0//EN
CALSCALE:GREGORIAN
METHOD:PUBLISH
X-WR-CALNAME:Alcooliques Anonymes Région 87
X-ORIGINAL-URL:https://www.aa87.org
X-WR-CALDESC:Évènements pour Alcooliques Anonymes Région 87
REFRESH-INTERVAL;VALUE=DURATION:PT1H
X-Robots-Tag:noindex
X-PUBLISHED-TTL:PT1H
BEGIN:VTIMEZONE
TZID:America/Toronto
BEGIN:DAYLIGHT
TZOFFSETFROM:-0500
TZOFFSETTO:-0400
TZNAME:EDT
DTSTART:20240310T070000
END:DAYLIGHT
BEGIN:STANDARD
TZOFFSETFROM:-0400
TZOFFSETTO:-0500
TZNAME:EST
DTSTART:20241103T060000
END:STANDARD
BEGIN:DAYLIGHT
TZOFFSETFROM:-0500
TZOFFSETTO:-0400
TZNAME:EDT
DTSTART:20250309T070000
END:DAYLIGHT
BEGIN:STANDARD
TZOFFSETFROM:-0400
TZOFFSETTO:-0500
TZNAME:EST
DTSTART:20251102T060000
END:STANDARD
BEGIN:DAYLIGHT
TZOFFSETFROM:-0500
TZOFFSETTO:-0400
TZNAME:EDT
DTSTART:20260308T070000
END:DAYLIGHT
BEGIN:STANDARD
TZOFFSETFROM:-0400
TZOFFSETTO:-0500
TZNAME:EST
DTSTART:20261101T060000
END:STANDARD
END:VTIMEZONE
BEGIN:VEVENT
DTSTART;VALUE=DATE:20250519
DTEND;VALUE=DATE:20250520
DTSTAMP:20260419T153300
CREATED:20250517T134146Z
LAST-MODIFIED:20250517T134146Z
UID:10022146-1747612800-1747699199@www.aa87.org
SUMMARY:Réflexion quotidienne 19 mai
DESCRIPTION:Donner sans rien demander en retour\n19 mai\n\nPour s’être dévoué sans rien demander en retour\, il sait très bien que sa vie s’est enrichie d’un dividende de plus. \nRéflexions de Bill\, p. 69 \nÀ mon entrée dans le mouvement\, l’idée de donner sans rien demander en retour n’a pas été facile à comprendre. Je me méfiais quand les autres tentaient de m’aider. Je me disais : « Qu’est-ce qu’ils vont me demander en échange ? » Mais j’ai vite découvert la joie d’aider un autre alcoolique et j’ai compris pourquoi les autres avaient été à mes côtés au début. Mon attitude a changé et j’ai cherché à aider les autres. J’étais parfois impatient dans mon grand désir de leur faire connaître les joies de la sobriété\, de la belle vie retrouvée. Quand ma vie est remplie d’un Dieu d’amour\, tel que je le conçois\, et que je transmets cet amour à d’autres alcooliques\, je ressens une richesse spéciale\, difficile à expliquer. \nExtrait du livre Réflexions quotidiennes\nCopyright © 1991 par Alcoholics Anonymous World Services\, Inc. Tous droits réservés. \nTous les Réflexions quotidiennes
URL:https://www.aa87.org/evenement/rq0519/2025-05-19/
CATEGORIES:Réflexions Quotidiennes
END:VEVENT
END:VCALENDAR