BEGIN:VCALENDAR
VERSION:2.0
PRODID:-//Alcooliques Anonymes Région 87 - ECPv6.15.17//NONSGML v1.0//EN
CALSCALE:GREGORIAN
METHOD:PUBLISH
X-WR-CALNAME:Alcooliques Anonymes Région 87
X-ORIGINAL-URL:https://www.aa87.org
X-WR-CALDESC:Évènements pour Alcooliques Anonymes Région 87
REFRESH-INTERVAL;VALUE=DURATION:PT1H
X-Robots-Tag:noindex
X-PUBLISHED-TTL:PT1H
BEGIN:VTIMEZONE
TZID:America/Toronto
BEGIN:DAYLIGHT
TZOFFSETFROM:-0500
TZOFFSETTO:-0400
TZNAME:EDT
DTSTART:20280312T070000
END:DAYLIGHT
BEGIN:STANDARD
TZOFFSETFROM:-0400
TZOFFSETTO:-0500
TZNAME:EST
DTSTART:20281105T060000
END:STANDARD
BEGIN:DAYLIGHT
TZOFFSETFROM:-0500
TZOFFSETTO:-0400
TZNAME:EDT
DTSTART:20290311T070000
END:DAYLIGHT
BEGIN:STANDARD
TZOFFSETFROM:-0400
TZOFFSETTO:-0500
TZNAME:EST
DTSTART:20291104T060000
END:STANDARD
BEGIN:DAYLIGHT
TZOFFSETFROM:-0500
TZOFFSETTO:-0400
TZNAME:EDT
DTSTART:20300310T070000
END:DAYLIGHT
BEGIN:STANDARD
TZOFFSETFROM:-0400
TZOFFSETTO:-0500
TZNAME:EST
DTSTART:20301103T060000
END:STANDARD
END:VTIMEZONE
BEGIN:VEVENT
DTSTART;VALUE=DATE:20290704
DTEND;VALUE=DATE:20290705
DTSTAMP:20260419T082556
CREATED:20250702T234839Z
LAST-MODIFIED:20250702T234839Z
UID:10022585-1877817600-1877903999@www.aa87.org
SUMMARY:Réflexion quotidienne 04 juillet
DESCRIPTION:Une foi naturelle\n4 juillet\n\n… au plus profond de chaque être humain\, homme\, femme ou enfant\, repose l’idée fondamentale de Dieu. Elle peut être masquée par le malheur\, la vanité\, le culte d’autres valeurs\, mais elle est là\, sous une forme ou sous une autre. La foi en une Puissance supérieure à nous-mêmes et les manifestations miraculeuses de cette force dans la vie d’êtres humains sont des faits aussi anciens que l’homme lui-même. \nLes Alcooliques Anonymes\, p. 62 \nJ’ai vu un Dieu invisible à l’œuvre dans les réunions des AA d’un bout à l’autre du pays. Le miracle du rétablissement est manifeste partout. Maintenant\, je crois que Dieu est présent dans les salles de réunion et dans mon cœur. Aujourd’hui\, il est aussi naturel pour moi\, ancien agnostique\, de croire que de respirer\, de manger et de dormir. Les Douze Étapes m’ont permis de changer ma vie de bien des manières\, mais aucune ne vaut le choix d’une Puissance supérieure. \nExtrait du livre Réflexions quotidiennes\nCopyright © 1991 par Alcoholics Anonymous World Services\, Inc. Tous droits réservés. \nTous les Réflexions quotidiennes
URL:https://www.aa87.org/evenement/rq0704/2029-07-04/
CATEGORIES:Réflexions Quotidiennes
END:VEVENT
END:VCALENDAR