BEGIN:VCALENDAR
VERSION:2.0
PRODID:-//Alcooliques Anonymes Région 87 - ECPv6.15.17//NONSGML v1.0//EN
CALSCALE:GREGORIAN
METHOD:PUBLISH
X-WR-CALNAME:Alcooliques Anonymes Région 87
X-ORIGINAL-URL:https://www.aa87.org
X-WR-CALDESC:Évènements pour Alcooliques Anonymes Région 87
REFRESH-INTERVAL;VALUE=DURATION:PT1H
X-Robots-Tag:noindex
X-PUBLISHED-TTL:PT1H
BEGIN:VTIMEZONE
TZID:America/Toronto
BEGIN:DAYLIGHT
TZOFFSETFROM:-0500
TZOFFSETTO:-0400
TZNAME:EDT
DTSTART:20280312T070000
END:DAYLIGHT
BEGIN:STANDARD
TZOFFSETFROM:-0400
TZOFFSETTO:-0500
TZNAME:EST
DTSTART:20281105T060000
END:STANDARD
BEGIN:DAYLIGHT
TZOFFSETFROM:-0500
TZOFFSETTO:-0400
TZNAME:EDT
DTSTART:20290311T070000
END:DAYLIGHT
BEGIN:STANDARD
TZOFFSETFROM:-0400
TZOFFSETTO:-0500
TZNAME:EST
DTSTART:20291104T060000
END:STANDARD
BEGIN:DAYLIGHT
TZOFFSETFROM:-0500
TZOFFSETTO:-0400
TZNAME:EDT
DTSTART:20300310T070000
END:DAYLIGHT
BEGIN:STANDARD
TZOFFSETFROM:-0400
TZOFFSETTO:-0500
TZNAME:EST
DTSTART:20301103T060000
END:STANDARD
END:VTIMEZONE
BEGIN:VEVENT
DTSTART;VALUE=DATE:20290721
DTEND;VALUE=DATE:20290722
DTSTAMP:20260419T111336
CREATED:20250712T132647Z
LAST-MODIFIED:20250712T132647Z
UID:10022833-1879286400-1879372799@www.aa87.org
SUMMARY:Réflexion quotidienne 21 juillet
DESCRIPTION:Un présent inestimable\n21 juillet\n\nEn toute probabilité\, à ce stade\, nous avons été quelque peu libéré de nos défauts les plus graves. Nous avons connu des moments qui ressemblaient à la vraie paix d’esprit. Pour ceux d’entre nous qui n’avaient jusqu’à maintenant connu que l’excitation\, la dépression et l’angoisse – en d’autres mots\, pour nous tous – cette paix nouvelle est un cadeau sans prix. \nLes douze étapes et les douze traditions\, P. 86 \nJ’apprends à lâcher prise et à laisser agir Dieu\, à avoir l’esprit ouvert et le cœur disposé à recevoir la grâce de Dieu dans tout ce que je fais. De cette façon\, j’éprouve la paix et la liberté qui résultent de la capitulation. Il a été démontré que la capitulation\, née de la défaite et du désespoir\, peut devenir un acte de foi permanent et que la foi est synonyme de liberté et de victoire. \nExtrait du livre Réflexions quotidiennes\nCopyright © 1991 par Alcoholics Anonymous World Services\, Inc. Tous droits réservés. \nTous les Réflexions quotidiennes
URL:https://www.aa87.org/evenement/rq0721/2029-07-21/
CATEGORIES:Réflexions Quotidiennes
END:VEVENT
END:VCALENDAR