BEGIN:VCALENDAR
VERSION:2.0
PRODID:-//Alcooliques Anonymes Région 87 - ECPv6.15.17//NONSGML v1.0//EN
CALSCALE:GREGORIAN
METHOD:PUBLISH
X-WR-CALNAME:Alcooliques Anonymes Région 87
X-ORIGINAL-URL:https://www.aa87.org
X-WR-CALDESC:Évènements pour Alcooliques Anonymes Région 87
REFRESH-INTERVAL;VALUE=DURATION:PT1H
X-Robots-Tag:noindex
X-PUBLISHED-TTL:PT1H
BEGIN:VTIMEZONE
TZID:America/Toronto
BEGIN:DAYLIGHT
TZOFFSETFROM:-0500
TZOFFSETTO:-0400
TZNAME:EDT
DTSTART:20280312T070000
END:DAYLIGHT
BEGIN:STANDARD
TZOFFSETFROM:-0400
TZOFFSETTO:-0500
TZNAME:EST
DTSTART:20281105T060000
END:STANDARD
BEGIN:DAYLIGHT
TZOFFSETFROM:-0500
TZOFFSETTO:-0400
TZNAME:EDT
DTSTART:20290311T070000
END:DAYLIGHT
BEGIN:STANDARD
TZOFFSETFROM:-0400
TZOFFSETTO:-0500
TZNAME:EST
DTSTART:20291104T060000
END:STANDARD
BEGIN:DAYLIGHT
TZOFFSETFROM:-0500
TZOFFSETTO:-0400
TZNAME:EDT
DTSTART:20300310T070000
END:DAYLIGHT
BEGIN:STANDARD
TZOFFSETFROM:-0400
TZOFFSETTO:-0500
TZNAME:EST
DTSTART:20301103T060000
END:STANDARD
END:VTIMEZONE
BEGIN:VEVENT
DTSTART;VALUE=DATE:20290722
DTEND;VALUE=DATE:20290723
DTSTAMP:20260419T112705
CREATED:20250713T123357Z
LAST-MODIFIED:20250713T123357Z
UID:10022848-1879372800-1879459199@www.aa87.org
SUMMARY:Réflexion quotidienne 22 juillet
DESCRIPTION:Le bon et le mauvais\n22 juillet\n\nMon Créateur\, je suis maintenant disposé à ce que Vous preniez tout ce que je suis\, bon ou mauvais. \nLes Alcooliques Anonymes\, p. 85 \nLa joie de vivre réside dans le don. Étant libéré de mes faiblesses\, je peux plus librement servir\, et l’humilité peut grandir en moi. Je peux humblement confier mes faiblesses à un Dieu aimant et il les fera disparaître. La Septième Étape se fonde sur l’humilité\, et quel meilleur moyen de rechercher l’humilité que de confier tout mon être à Dieu\, le bon et le mauvais\, pour qu’il puisse faire disparaître ce qui est mauvais et me redonner ce qui est bon? \n\nExtrait du livre Réflexions quotidiennes\nCopyright © 1991 par Alcoholics Anonymous World Services\, Inc. Tous droits réservés. \nTous les Réflexions quotidiennes
URL:https://www.aa87.org/evenement/rq0722/2029-07-22/
CATEGORIES:Réflexions Quotidiennes
END:VEVENT
END:VCALENDAR