BEGIN:VCALENDAR
VERSION:2.0
PRODID:-//Alcooliques Anonymes Région 87 - ECPv6.15.17//NONSGML v1.0//EN
CALSCALE:GREGORIAN
METHOD:PUBLISH
X-WR-CALNAME:Alcooliques Anonymes Région 87
X-ORIGINAL-URL:https://www.aa87.org
X-WR-CALDESC:Évènements pour Alcooliques Anonymes Région 87
REFRESH-INTERVAL;VALUE=DURATION:PT1H
X-Robots-Tag:noindex
X-PUBLISHED-TTL:PT1H
BEGIN:VTIMEZONE
TZID:America/Toronto
BEGIN:DAYLIGHT
TZOFFSETFROM:-0500
TZOFFSETTO:-0400
TZNAME:EDT
DTSTART:20240310T070000
END:DAYLIGHT
BEGIN:STANDARD
TZOFFSETFROM:-0400
TZOFFSETTO:-0500
TZNAME:EST
DTSTART:20241103T060000
END:STANDARD
BEGIN:DAYLIGHT
TZOFFSETFROM:-0500
TZOFFSETTO:-0400
TZNAME:EDT
DTSTART:20250309T070000
END:DAYLIGHT
BEGIN:STANDARD
TZOFFSETFROM:-0400
TZOFFSETTO:-0500
TZNAME:EST
DTSTART:20251102T060000
END:STANDARD
BEGIN:DAYLIGHT
TZOFFSETFROM:-0500
TZOFFSETTO:-0400
TZNAME:EDT
DTSTART:20260308T070000
END:DAYLIGHT
BEGIN:STANDARD
TZOFFSETFROM:-0400
TZOFFSETTO:-0500
TZNAME:EST
DTSTART:20261101T060000
END:STANDARD
END:VTIMEZONE
BEGIN:VEVENT
DTSTART;VALUE=DATE:20250801
DTEND;VALUE=DATE:20250802
DTSTAMP:20260420T083034
CREATED:20250714T223239Z
LAST-MODIFIED:20250714T223815Z
UID:10022994-1754006400-1754092799@www.aa87.org
SUMMARY:Réflexion quotidienne 01 août
DESCRIPTION:La vie spirituelle\n1 août\n\nLa vie spirituelle n’est pas une théorie. Nous devons la vivre. \nLes Alcooliques Anonymes\, p. 94 \nÀ mes débuts dans le mouvement\, je ne savais pas comment vivre la dimension spirituelle du programme\, mais maintenant que je suis abstinent\, je ne vois pas comment je pourrais m’en passer. En fait\, j’ai toujours recherché la spiritualité. Dieu\, tel que je le conçois\, m’a donné des réponses aux questions qui m’ont fait boire pendant vingt ans. En vivant ma spiritualité\, en demandant l’aide de Dieu\, j’ai appris à aimer mes semblables\, à m’occuper d’eux\, à avoir de la compassion pour eux ; j’ai appris à ressentir de la joie dans un monde où je n’avais auparavant ressenti que de la peur. \n\nExtrait du livre Réflexions quotidiennes\nCopyright © 1991 par Alcoholics Anonymous World Services\, Inc. Tous droits réservés. \nTous les Réflexions quotidiennes
URL:https://www.aa87.org/evenement/rq0801/2025-08-01/
CATEGORIES:Réflexions Quotidiennes
END:VEVENT
END:VCALENDAR