BEGIN:VCALENDAR
VERSION:2.0
PRODID:-//Alcooliques Anonymes Région 87 - ECPv6.15.17//NONSGML v1.0//EN
CALSCALE:GREGORIAN
METHOD:PUBLISH
X-WR-CALNAME:Alcooliques Anonymes Région 87
X-ORIGINAL-URL:https://www.aa87.org
X-WR-CALDESC:Évènements pour Alcooliques Anonymes Région 87
REFRESH-INTERVAL;VALUE=DURATION:PT1H
X-Robots-Tag:noindex
X-PUBLISHED-TTL:PT1H
BEGIN:VTIMEZONE
TZID:America/Toronto
BEGIN:DAYLIGHT
TZOFFSETFROM:-0500
TZOFFSETTO:-0400
TZNAME:EDT
DTSTART:20240310T070000
END:DAYLIGHT
BEGIN:STANDARD
TZOFFSETFROM:-0400
TZOFFSETTO:-0500
TZNAME:EST
DTSTART:20241103T060000
END:STANDARD
BEGIN:DAYLIGHT
TZOFFSETFROM:-0500
TZOFFSETTO:-0400
TZNAME:EDT
DTSTART:20250309T070000
END:DAYLIGHT
BEGIN:STANDARD
TZOFFSETFROM:-0400
TZOFFSETTO:-0500
TZNAME:EST
DTSTART:20251102T060000
END:STANDARD
BEGIN:DAYLIGHT
TZOFFSETFROM:-0500
TZOFFSETTO:-0400
TZNAME:EDT
DTSTART:20260308T070000
END:DAYLIGHT
BEGIN:STANDARD
TZOFFSETFROM:-0400
TZOFFSETTO:-0500
TZNAME:EST
DTSTART:20261101T060000
END:STANDARD
END:VTIMEZONE
BEGIN:VEVENT
DTSTART;VALUE=DATE:20250811
DTEND;VALUE=DATE:20250812
DTSTAMP:20260419T125457
CREATED:20250721T234045Z
LAST-MODIFIED:20250722T122711Z
UID:10023227-1754870400-1754956799@www.aa87.org
SUMMARY:Réflexion quotidienne 11 août
DESCRIPTION:Enlever le « verre broyé »\n11 août\n\nL’inventaire moral est un examen calme des dommages que nous avons subis dans la vie\, et un effort sincère pour les voir dans leur juste perspective. Il a pour effet de nous débarrasser de ce verre broyé\, cette substance émotionnelle qui continue à nous cisailler et à nous paralyser. \nRéflexions de Bill\, p. 140 \nÀ la Huitième Étape\, tenter de dresser ma liste provoquait habituellement un tourbillon de ressentiment. Après quatre ans d’abstinence\, j’étais bloquée par mes propres dénégations reliées à une relation abusive. Quand j’ai fait passer de ma tête à mon cœur les mots de cette Étape\, le débat entre la peur et l’orgueil s’est atténué. Pour la première fois depuis des années\, j’ai sorti ma boîte de peintures et j’ai dessiné une vraie colère\, une explosion de rouges\, de noirs et de jaunes. À travers des larmes de joie et de soulagement\, j’ai regardé mon dessin. Ma maladie m’avait emmenée à abandonner mon art\, une punition que je m’étais imposée et qui me faisait bien plus mal que toute autre punition imposée de l’extérieur. En me rétablissant\, je me rends compte que Dieu se sert de la souffrance même que m’infligent mes défauts pour me purifier et me libérer. \nExtrait du livre Réflexions quotidiennes\nCopyright © 1991 par Alcoholics Anonymous World Services\, Inc. Tous droits réservés. \nTous les Réflexions quotidiennes
URL:https://www.aa87.org/evenement/rq0811/2025-08-11/
CATEGORIES:Réflexions Quotidiennes
END:VEVENT
END:VCALENDAR