BEGIN:VCALENDAR
VERSION:2.0
PRODID:-//Alcooliques Anonymes Région 87 - ECPv6.15.17//NONSGML v1.0//EN
CALSCALE:GREGORIAN
METHOD:PUBLISH
X-WR-CALNAME:Alcooliques Anonymes Région 87
X-ORIGINAL-URL:https://www.aa87.org
X-WR-CALDESC:Évènements pour Alcooliques Anonymes Région 87
REFRESH-INTERVAL;VALUE=DURATION:PT1H
X-Robots-Tag:noindex
X-PUBLISHED-TTL:PT1H
BEGIN:VTIMEZONE
TZID:America/Toronto
BEGIN:DAYLIGHT
TZOFFSETFROM:-0500
TZOFFSETTO:-0400
TZNAME:EDT
DTSTART:20240310T070000
END:DAYLIGHT
BEGIN:STANDARD
TZOFFSETFROM:-0400
TZOFFSETTO:-0500
TZNAME:EST
DTSTART:20241103T060000
END:STANDARD
BEGIN:DAYLIGHT
TZOFFSETFROM:-0500
TZOFFSETTO:-0400
TZNAME:EDT
DTSTART:20250309T070000
END:DAYLIGHT
BEGIN:STANDARD
TZOFFSETFROM:-0400
TZOFFSETTO:-0500
TZNAME:EST
DTSTART:20251102T060000
END:STANDARD
BEGIN:DAYLIGHT
TZOFFSETFROM:-0500
TZOFFSETTO:-0400
TZNAME:EDT
DTSTART:20260308T070000
END:DAYLIGHT
BEGIN:STANDARD
TZOFFSETFROM:-0400
TZOFFSETTO:-0500
TZNAME:EST
DTSTART:20261101T060000
END:STANDARD
END:VTIMEZONE
BEGIN:VEVENT
DTSTART;VALUE=DATE:20250815
DTEND;VALUE=DATE:20250816
DTSTAMP:20260423T052925
CREATED:20250722T194825Z
LAST-MODIFIED:20250722T195210Z
UID:10023292-1755216000-1755302399@www.aa87.org
SUMMARY:Réflexion quotidienne 15 août
DESCRIPTION:Qui n’a jamais blessé personne ?\n15 août\n\nIl y en a parmi nous qui avons par contre été confrontés à un tout autre obstacle. Nous prétendions obstinément qu’en buvant\, nous n’avions jamais causé de tort à personne si ce n’est à nous-mêmes. \nLes douze étapes et les douze traditions\, p. 91 \nLa Huitième Étape semblait tellement facile. J’ai identifié plusieurs personnes que j’avais lésées\, mais elles n’étaient plus là. Pourtant\, cette Étape me mettait mal à l’aise et j’évitais les conversations sur ce sujet. Avec le temps\, j’ai appris à m’interroger sur les Étapes et sur les aspects de ma vie qui me mettaient mal à l’aise. En cherchant bien\, j’ai découvert que j’avais beaucoup fait souffrir mes parents en m’isolant d’eux\, que j’avais causé des soucis à mon employeur par mes absences\, mes pertes de mémoire et mes humeurs\, que j’avais fui mes amis sans explication. Face à ces torts bien réels\, la Huitième Étape a revêtu un sens nouveau. Je ne me sens plus mal à l’aise\, mais purifié et léger. \nExtrait du livre Réflexions quotidiennes\nCopyright © 1991 par Alcoholics Anonymous World Services\, Inc. Tous droits réservés. \nTous les Réflexions quotidiennes
URL:https://www.aa87.org/evenement/rq0815/2025-08-15/
CATEGORIES:Réflexions Quotidiennes
END:VEVENT
END:VCALENDAR