BEGIN:VCALENDAR
VERSION:2.0
PRODID:-//Alcooliques Anonymes Région 87 - ECPv6.15.17//NONSGML v1.0//EN
CALSCALE:GREGORIAN
METHOD:PUBLISH
X-WR-CALNAME:Alcooliques Anonymes Région 87
X-ORIGINAL-URL:https://www.aa87.org
X-WR-CALDESC:Évènements pour Alcooliques Anonymes Région 87
REFRESH-INTERVAL;VALUE=DURATION:PT1H
X-Robots-Tag:noindex
X-PUBLISHED-TTL:PT1H
BEGIN:VTIMEZONE
TZID:America/Toronto
BEGIN:DAYLIGHT
TZOFFSETFROM:-0500
TZOFFSETTO:-0400
TZNAME:EDT
DTSTART:20240310T070000
END:DAYLIGHT
BEGIN:STANDARD
TZOFFSETFROM:-0400
TZOFFSETTO:-0500
TZNAME:EST
DTSTART:20241103T060000
END:STANDARD
BEGIN:DAYLIGHT
TZOFFSETFROM:-0500
TZOFFSETTO:-0400
TZNAME:EDT
DTSTART:20250309T070000
END:DAYLIGHT
BEGIN:STANDARD
TZOFFSETFROM:-0400
TZOFFSETTO:-0500
TZNAME:EST
DTSTART:20251102T060000
END:STANDARD
BEGIN:DAYLIGHT
TZOFFSETFROM:-0500
TZOFFSETTO:-0400
TZNAME:EDT
DTSTART:20260308T070000
END:DAYLIGHT
BEGIN:STANDARD
TZOFFSETFROM:-0400
TZOFFSETTO:-0500
TZNAME:EST
DTSTART:20261101T060000
END:STANDARD
END:VTIMEZONE
BEGIN:VEVENT
DTSTART;VALUE=DATE:20250910
DTEND;VALUE=DATE:20250911
DTSTAMP:20260419T161844
CREATED:20250729T021826Z
LAST-MODIFIED:20250729T021826Z
UID:10024200-1757462400-1757548799@www.aa87.org
SUMMARY:Réflexion quotidienne 10 septembre
DESCRIPTION:Le rétablissement par procuration ?\n10 septembre\n\n[Les promesses] se matérialisent toujours si nous travaillons dans ce sens. \nLes Alcooliques Anonymes\, p. 95 \nParfois je me dis : « Réparer tous ses torts\, c’est aller un peu loin ! Personne ne devrait avoir à s’humilier ainsi ! » Pourtant\, c’est précisément dans la mesure où je vis cette expérience d’humilité que je me rapproche du « soleil de l’esprit ». Les AA sont mon seul espoir si je veux poursuivre ma convalescence et obtenir une vie pleine de bonheur\, d’amitié et d’harmonie. \nExtrait du livre Réflexions quotidiennes\nCopyright © 1991 par Alcoholics Anonymous World Services\, Inc. Tous droits réservés. \nTous les Réflexions quotidiennes
URL:https://www.aa87.org/evenement/rq0910/2025-09-10/
CATEGORIES:Réflexions Quotidiennes
END:VEVENT
END:VCALENDAR