BEGIN:VCALENDAR
VERSION:2.0
PRODID:-//Alcooliques Anonymes Région 87 - ECPv6.15.17//NONSGML v1.0//EN
CALSCALE:GREGORIAN
METHOD:PUBLISH
X-WR-CALNAME:Alcooliques Anonymes Région 87
X-ORIGINAL-URL:https://www.aa87.org
X-WR-CALDESC:Évènements pour Alcooliques Anonymes Région 87
REFRESH-INTERVAL;VALUE=DURATION:PT1H
X-Robots-Tag:noindex
X-PUBLISHED-TTL:PT1H
BEGIN:VTIMEZONE
TZID:America/Toronto
BEGIN:DAYLIGHT
TZOFFSETFROM:-0500
TZOFFSETTO:-0400
TZNAME:EDT
DTSTART:20230312T070000
END:DAYLIGHT
BEGIN:STANDARD
TZOFFSETFROM:-0400
TZOFFSETTO:-0500
TZNAME:EST
DTSTART:20231105T060000
END:STANDARD
BEGIN:DAYLIGHT
TZOFFSETFROM:-0500
TZOFFSETTO:-0400
TZNAME:EDT
DTSTART:20240310T070000
END:DAYLIGHT
BEGIN:STANDARD
TZOFFSETFROM:-0400
TZOFFSETTO:-0500
TZNAME:EST
DTSTART:20241103T060000
END:STANDARD
BEGIN:DAYLIGHT
TZOFFSETFROM:-0500
TZOFFSETTO:-0400
TZNAME:EDT
DTSTART:20250309T070000
END:DAYLIGHT
BEGIN:STANDARD
TZOFFSETFROM:-0400
TZOFFSETTO:-0500
TZNAME:EST
DTSTART:20251102T060000
END:STANDARD
END:VTIMEZONE
BEGIN:VEVENT
DTSTART;VALUE=DATE:20240924
DTEND;VALUE=DATE:20240925
DTSTAMP:20260419T133046
CREATED:20240920T200256Z
LAST-MODIFIED:20240921T124750Z
UID:10008147-1727136000-1727222399@www.aa87.org
SUMMARY:Réflexion quotidienne 24 septembre
DESCRIPTION:Vigilance\n24 septembre\n\nAinsi l’énoncé : Alcoolique un jour\, alcoolique toujours se vérifie-t-il constamment. Lorsque\, après une période d’abstinence\, nous retouchons à l’alcool\, nous retombons en peu de temps aussi bas qu’avant. Si nous voulons renoncer à boire\, nous devons le faire sans aucune réserve\, sans caresser l’espoir subtil d’être un jour immunisé contre l’alcool. \nLes Alcooliques Anonymes\, P. 37 \nAujourd’hui\, je suis alcoolique. Demain\, je le serai encore. L’alcoolisme est en moi pour toujours. Je ne dois jamais oublier ce que je suis. L’alcool me tuera sûrement si je néglige de reconnaître et d’accepter ma maladie\, jour après jour. Il ne s’agit pas d’un jeu où une perte n’est qu’un échec temporaire. Il s’agit d’une maladie – ma maladie – pour laquelle il n’existe aucun remède\, si ce n’est l’acceptation quotidienne et la vigilance. \n\nExtrait du livre Réflexions quotidiennes \n\nCopyright © 1991 par Alcoholics Anonymous World Services\, Inc. Tous droits réservés. \nTous les Réflexions quotidiennes
URL:https://www.aa87.org/evenement/rq0924/2024-09-24/
LOCATION:aa87.org
CATEGORIES:Réflexions Quotidiennes
END:VEVENT
END:VCALENDAR