BEGIN:VCALENDAR
VERSION:2.0
PRODID:-//Alcooliques Anonymes Région 87 - ECPv6.15.17//NONSGML v1.0//EN
CALSCALE:GREGORIAN
METHOD:PUBLISH
X-WR-CALNAME:Alcooliques Anonymes Région 87
X-ORIGINAL-URL:https://www.aa87.org
X-WR-CALDESC:Évènements pour Alcooliques Anonymes Région 87
REFRESH-INTERVAL;VALUE=DURATION:PT1H
X-Robots-Tag:noindex
X-PUBLISHED-TTL:PT1H
BEGIN:VTIMEZONE
TZID:America/Toronto
BEGIN:DAYLIGHT
TZOFFSETFROM:-0500
TZOFFSETTO:-0400
TZNAME:EDT
DTSTART:20260308T070000
END:DAYLIGHT
BEGIN:STANDARD
TZOFFSETFROM:-0400
TZOFFSETTO:-0500
TZNAME:EST
DTSTART:20261101T060000
END:STANDARD
BEGIN:DAYLIGHT
TZOFFSETFROM:-0500
TZOFFSETTO:-0400
TZNAME:EDT
DTSTART:20270314T070000
END:DAYLIGHT
BEGIN:STANDARD
TZOFFSETFROM:-0400
TZOFFSETTO:-0500
TZNAME:EST
DTSTART:20271107T060000
END:STANDARD
BEGIN:DAYLIGHT
TZOFFSETFROM:-0500
TZOFFSETTO:-0400
TZNAME:EDT
DTSTART:20280312T070000
END:DAYLIGHT
BEGIN:STANDARD
TZOFFSETFROM:-0400
TZOFFSETTO:-0500
TZNAME:EST
DTSTART:20281105T060000
END:STANDARD
END:VTIMEZONE
BEGIN:VEVENT
DTSTART;VALUE=DATE:20271009
DTEND;VALUE=DATE:20271010
DTSTAMP:20260419T145430
CREATED:20250730T122608Z
LAST-MODIFIED:20250730T122608Z
UID:10024417-1823040000-1823126399@www.aa87.org
SUMMARY:Réflexion quotidienne 09 octobre
DESCRIPTION:Un principe spitrituel\n9 octobre\n\nDans la vie spirituelle\, il y a un principe voulant que tout malaise\, quelle qu’en soit la cause\, soit l’indice qu’en nous-mêmes\, quelque chose ne va pas. \nLes douze étapes et les douze traditions\, p. 102 \nJe n’avais jamais vraiment bien compris le principe spirituel de la Dixième Étape\, jusqu’au jour où il m’est arrivé l’expérience suivante. J’étais en train de lire dans ma chambre aux petites heures du matin\, quand tout à coup j’ai entendu aboyer mes chiens dans la cour. Comme les voisins n’apprécient pas ce genre de tumulte\, j’ai aussitôt fait rentrer les chiens\, partagé entre la colère\, la honte et la crainte d’être blâmé. Quelques semaines plus tard\, la même chose s’est produite. Cette fois\, comme j’étais en paix avec moi-même\, j’ai pu accepter la situation en me disant qu’il est normal que des chiens jappent\, et je les ai fait rentrer avec calme. Ces deux incidents m’ont appris que si je réagis de manière différente à deux événements presque identiques\, ce n’est pas l’événement qui est important mais ma condition spirituelle. Les émotions viennent de l’intérieur et non des circonstances extérieures. Quand je suis en forme spirituellement\, je réagis positivement. \nExtrait du livre Réflexions quotidiennes\nCopyright © 1991 par Alcoholics Anonymous World Services\, Inc. Tous droits réservés. \nTous les Réflexions quotidiennes
URL:https://www.aa87.org/evenement/rq1009/2027-10-09/
CATEGORIES:Réflexions Quotidiennes
END:VEVENT
END:VCALENDAR