BEGIN:VCALENDAR
VERSION:2.0
PRODID:-//Alcooliques Anonymes Région 87 - ECPv6.15.17//NONSGML v1.0//EN
CALSCALE:GREGORIAN
METHOD:PUBLISH
X-WR-CALNAME:Alcooliques Anonymes Région 87
X-ORIGINAL-URL:https://www.aa87.org
X-WR-CALDESC:Évènements pour Alcooliques Anonymes Région 87
REFRESH-INTERVAL;VALUE=DURATION:PT1H
X-Robots-Tag:noindex
X-PUBLISHED-TTL:PT1H
BEGIN:VTIMEZONE
TZID:America/Toronto
BEGIN:DAYLIGHT
TZOFFSETFROM:-0500
TZOFFSETTO:-0400
TZNAME:EDT
DTSTART:20240310T070000
END:DAYLIGHT
BEGIN:STANDARD
TZOFFSETFROM:-0400
TZOFFSETTO:-0500
TZNAME:EST
DTSTART:20241103T060000
END:STANDARD
BEGIN:DAYLIGHT
TZOFFSETFROM:-0500
TZOFFSETTO:-0400
TZNAME:EDT
DTSTART:20250309T070000
END:DAYLIGHT
BEGIN:STANDARD
TZOFFSETFROM:-0400
TZOFFSETTO:-0500
TZNAME:EST
DTSTART:20251102T060000
END:STANDARD
BEGIN:DAYLIGHT
TZOFFSETFROM:-0500
TZOFFSETTO:-0400
TZNAME:EDT
DTSTART:20260308T070000
END:DAYLIGHT
BEGIN:STANDARD
TZOFFSETFROM:-0400
TZOFFSETTO:-0500
TZNAME:EST
DTSTART:20261101T060000
END:STANDARD
END:VTIMEZONE
BEGIN:VEVENT
DTSTART;VALUE=DATE:20251017
DTEND;VALUE=DATE:20251018
DTSTAMP:20260419T143654
CREATED:20241016T182209Z
LAST-MODIFIED:20241018T051718Z
UID:10008399-1760659200-1760745599@www.aa87.org
SUMMARY:Réflexion quotidienne 17 octobre
DESCRIPTION:Mise au point quotidienne\n17 octobre\n\nChaque jour\, le souci de la volonté de Dieu doit être présent dans notre esprit et se manifester dans toute notre conduite. \nLes alcooliques anonymes\, P. 96 \nComment conserver ma condition spirituelle ? Pour moi\, c’est très simple ; je demande quotidiennement à ma Puissance supérieure de m’accorder le don de la sobriété\, pour la journée ! J’ai parlé avec beaucoup d’alcooliques qui ont recommencé à boire et je leur ai demandé : « Avais-tu demandé la sobriété\, le jour où tu as pris ton premier verre ? » Aucun d’entre eux n’a répondu oui. En mettant en pratique la Dixième Étape et en tâchant\, chaque jour\, de garder ma maison propre\, j’ai la certitude que si je demande un sursis quotidien\, il me sera accordé. \n\n\nExtrait du livre Réflexions quotidiennes \nCopyright © 1991 par Alcoholics Anonymous World Services\, Inc. Tous droits réservés. \nTous les Réflexions quotidiennes
URL:https://www.aa87.org/evenement/rq1017/2025-10-17/
LOCATION:aa87.org
CATEGORIES:Réflexions Quotidiennes
END:VEVENT
END:VCALENDAR