BEGIN:VCALENDAR
VERSION:2.0
PRODID:-//Alcooliques Anonymes Région 87 - ECPv6.15.17//NONSGML v1.0//EN
CALSCALE:GREGORIAN
METHOD:PUBLISH
X-WR-CALNAME:Alcooliques Anonymes Région 87
X-ORIGINAL-URL:https://www.aa87.org
X-WR-CALDESC:Évènements pour Alcooliques Anonymes Région 87
REFRESH-INTERVAL;VALUE=DURATION:PT1H
X-Robots-Tag:noindex
X-PUBLISHED-TTL:PT1H
BEGIN:VTIMEZONE
TZID:America/Toronto
BEGIN:DAYLIGHT
TZOFFSETFROM:-0500
TZOFFSETTO:-0400
TZNAME:EDT
DTSTART:20250309T070000
END:DAYLIGHT
BEGIN:STANDARD
TZOFFSETFROM:-0400
TZOFFSETTO:-0500
TZNAME:EST
DTSTART:20251102T060000
END:STANDARD
BEGIN:DAYLIGHT
TZOFFSETFROM:-0500
TZOFFSETTO:-0400
TZNAME:EDT
DTSTART:20260308T070000
END:DAYLIGHT
BEGIN:STANDARD
TZOFFSETFROM:-0400
TZOFFSETTO:-0500
TZNAME:EST
DTSTART:20261101T060000
END:STANDARD
BEGIN:DAYLIGHT
TZOFFSETFROM:-0500
TZOFFSETTO:-0400
TZNAME:EDT
DTSTART:20270314T070000
END:DAYLIGHT
BEGIN:STANDARD
TZOFFSETFROM:-0400
TZOFFSETTO:-0500
TZNAME:EST
DTSTART:20271107T060000
END:STANDARD
END:VTIMEZONE
BEGIN:VEVENT
DTSTART;VALUE=DATE:20261121
DTEND;VALUE=DATE:20261122
DTSTAMP:20260419T143755
CREATED:20241109T214058Z
LAST-MODIFIED:20251126T230933Z
UID:10009385-1795219200-1795305599@www.aa87.org
SUMMARY:Réflexion quotidienne 21 novembre
DESCRIPTION:Une prière classique\n21 novembre\n\nSeigneur\, fais de moi un instrument de Ta paix ; là où se trouve la haine\, que j’apporte l’amour ; là où se trouve l’offense\, que j’apporte l’esprit de pardon ; là où se trouve la discorde\, que j’apporte l’harmonie ; là où se trouve l’erreur\, que j’apporte la vérité ; là où se trouve le doute\, que j’apporte la foi ; là où se trouve le désespoir\, que j’apporte l’espérance ; là où se trouve l’obscurité\, que j’apporte la lumière ; là où se trouve la tristesse\, que j’apporte la joie. Seigneur\, fais que je cherche à consoler plutôt qu’à être consolé ; à comprendre plutôt qu’à être compris ; à aimer plutôt qu’à être aimé. Car c’est en s’oubliant que l’on trouve. C’est en pardonnant qu’on reçoit le pardon. C’est en mourant qu’on s’éveille à la Vie éternelle. Amen. \nLes douze étapes et les douze traditions\, p. 113 \nPeu importe où j’en suis dans ma croissance spirituelle\, cette prière de saint François m’aide à améliorer mon contact conscient avec Dieu\, tel que je le conçois. Je crois que l’un des grands avantages de ma foi\, c’est de ne pas comprendre Dieu\, qui ou quoi qu’il soit. Il se peut que ma relation avec ma Puissance supérieure soit tellement fructueuse que je n’éprouve pas le besoin de comprendre. Je suis certain d’une seule chose : si je pratique ma Onzième Étape régulièrement de mon mieux\, je vais continuer d’améliorer mon contact conscient avec Dieu\, connaître sa volonté à mon égard et recevoir la force de l’exécuter. \nExtrait du livre Réflexions quotidiennes \n\n\nCopyright © 1991 par Alcoholics Anonymous World Services\, Inc. Tous droits réservés. \nTous les Réflexions quotidiennes
URL:https://www.aa87.org/evenement/rq1121/2026-11-21/
LOCATION:aa87.org
CATEGORIES:Réflexions Quotidiennes
END:VEVENT
END:VCALENDAR