BEGIN:VCALENDAR
VERSION:2.0
PRODID:-//Alcooliques Anonymes Région 87 - ECPv6.15.17//NONSGML v1.0//EN
CALSCALE:GREGORIAN
METHOD:PUBLISH
X-WR-CALNAME:Alcooliques Anonymes Région 87
X-ORIGINAL-URL:https://www.aa87.org
X-WR-CALDESC:Évènements pour Alcooliques Anonymes Région 87
REFRESH-INTERVAL;VALUE=DURATION:PT1H
X-Robots-Tag:noindex
X-PUBLISHED-TTL:PT1H
BEGIN:VTIMEZONE
TZID:America/Toronto
BEGIN:DAYLIGHT
TZOFFSETFROM:-0500
TZOFFSETTO:-0400
TZNAME:EDT
DTSTART:20260308T070000
END:DAYLIGHT
BEGIN:STANDARD
TZOFFSETFROM:-0400
TZOFFSETTO:-0500
TZNAME:EST
DTSTART:20261101T060000
END:STANDARD
BEGIN:DAYLIGHT
TZOFFSETFROM:-0500
TZOFFSETTO:-0400
TZNAME:EDT
DTSTART:20270314T070000
END:DAYLIGHT
BEGIN:STANDARD
TZOFFSETFROM:-0400
TZOFFSETTO:-0500
TZNAME:EST
DTSTART:20271107T060000
END:STANDARD
BEGIN:DAYLIGHT
TZOFFSETFROM:-0500
TZOFFSETTO:-0400
TZNAME:EDT
DTSTART:20280312T070000
END:DAYLIGHT
BEGIN:STANDARD
TZOFFSETFROM:-0400
TZOFFSETTO:-0500
TZNAME:EST
DTSTART:20281105T060000
END:STANDARD
END:VTIMEZONE
BEGIN:VEVENT
DTSTART;VALUE=DATE:20271218
DTEND;VALUE=DATE:20271219
DTSTAMP:20260419T133006
CREATED:20241205T003854Z
LAST-MODIFIED:20241205T003928Z
UID:10010390-1829088000-1829174399@www.aa87.org
SUMMARY:Réflexion quotidienne 18 décembre
DESCRIPTION:L’honnêteté avec les nouveaux membresx\n18 décembre\n\nDites-lui exactement ce qui vous est arrivé. Insistez en toute liberté sur l’aspect spirituel. \nLes Alcooliques Anonymes\, p. 105 \nCe qu’il y a de merveilleux chez les AA\, c’est de ne pas avoir à dire autre chose que ce qui m’est arrivé. Je ne perds pas de temps à donner des conseils à des candidats éventuels\, car si cette méthode fonctionnait\, personne n’aurait besoin de se rendre chez les AA. Tout ce que j’ai à faire\, c’est d’expliquer ce qui m’a procuré la sobriété et a changé ma vie. Si j’omets de présenter l’aspect spirituel du programme des AA\, je manque d’honnêteté. Je dois éviter de donner une impression erronée de la sobriété. Si je suis abstinent\, c’est grâce à ma Puissance supérieure ; sans elle je ne pourrais partager avec les autres. \n\n\nExtrait du livre Réflexions quotidiennes \n\n\nCopyright © 1991 par Alcoholics Anonymous World Services\, Inc. Tous droits réservés. \nTous les Réflexions quotidiennes
URL:https://www.aa87.org/evenement/rq1218/2027-12-18/
LOCATION:aa87.org
CATEGORIES:Réflexions Quotidiennes
END:VEVENT
END:VCALENDAR