BEGIN:VCALENDAR
VERSION:2.0
PRODID:-//Alcooliques Anonymes Région 87 - ECPv6.15.17//NONSGML v1.0//EN
CALSCALE:GREGORIAN
METHOD:PUBLISH
X-ORIGINAL-URL:https://www.aa87.org
X-WR-CALDESC:Évènements pour Alcooliques Anonymes Région 87
REFRESH-INTERVAL;VALUE=DURATION:PT1H
X-Robots-Tag:noindex
X-PUBLISHED-TTL:PT1H
BEGIN:VTIMEZONE
TZID:America/Toronto
BEGIN:DAYLIGHT
TZOFFSETFROM:-0500
TZOFFSETTO:-0400
TZNAME:EDT
DTSTART:20220313T070000
END:DAYLIGHT
BEGIN:STANDARD
TZOFFSETFROM:-0400
TZOFFSETTO:-0500
TZNAME:EST
DTSTART:20221106T060000
END:STANDARD
BEGIN:DAYLIGHT
TZOFFSETFROM:-0500
TZOFFSETTO:-0400
TZNAME:EDT
DTSTART:20230312T070000
END:DAYLIGHT
BEGIN:STANDARD
TZOFFSETFROM:-0400
TZOFFSETTO:-0500
TZNAME:EST
DTSTART:20231105T060000
END:STANDARD
BEGIN:DAYLIGHT
TZOFFSETFROM:-0500
TZOFFSETTO:-0400
TZNAME:EDT
DTSTART:20240310T070000
END:DAYLIGHT
BEGIN:STANDARD
TZOFFSETFROM:-0400
TZOFFSETTO:-0500
TZNAME:EST
DTSTART:20241103T060000
END:STANDARD
END:VTIMEZONE
BEGIN:VEVENT
DTSTART;TZID=America/Toronto:20230415T100000
DTEND;TZID=America/Toronto:20230415T160000
DTSTAMP:20260423T143914
CREATED:20230318T131049Z
LAST-MODIFIED:20230415T131437Z
UID:10004437-1681552800-1681574400@www.aa87.org
SUMMARY:Deuxième Assemblée pré-Conférence
DESCRIPTION:Samedi le 15 avril 2023\, de 10h00 à vers 16h00\nEn format hybride \nLe Centre St-Zotique\n75 Rue du Square Sir George Étienne Cartier\,\nMontréal\, QC H4C 3A1\nMap it \nLien direct : Cliquer ici \nID de réunion : 984 9889 7228\nCode secret : 1234\nPar téléphone : (438) 809-7799 \nLien direct vers l’annonce de l’assemblée
URL:https://www.aa87.org/evenement/deuxieme-assemblee-pre-conference/
LOCATION:Centre St-Zotique Zoom\, Québec\, Canada
CATEGORIES:Assemblée Pré-Conférence,Régional
END:VEVENT
BEGIN:VEVENT
DTSTART;TZID=America/Toronto:20230419T190000
DTEND;TZID=America/Toronto:20230419T190000
DTSTAMP:20260423T143914
CREATED:20221219T114012Z
LAST-MODIFIED:20230105T003745Z
UID:10002756-1681930800-1681930800@www.aa87.org
SUMMARY:CMP
DESCRIPTION:Salle 1 \nParticiper à la réunion Zoom \nID de réunion : 944 7943 6712 \nCode secret : 1234
URL:https://www.aa87.org/evenement/cmp-cpc/2023-04-19/
LOCATION:BSR / ASO\, 3920\, rue Rachel Est\, Montréal QC\, H1X 1Z3\, 3920\, Rachel Est\, Montréal\, Québec\, H1X 1Z3\, Canada
CATEGORIES:Comité CMP-CPC Committee
END:VEVENT
BEGIN:VEVENT
DTSTART;TZID=America/Toronto:20230419T190000
DTEND;TZID=America/Toronto:20230419T210000
DTSTAMP:20260423T143914
CREATED:20230105T010125Z
LAST-MODIFIED:20230107T141436Z
UID:10003713-1681930800-1681938000@www.aa87.org
SUMMARY:Comité Semaine de gratitude
DESCRIPTION:Salle 2 \nParticiper à la réunion Zoom \nID de réunion : 918 2068 6211 \nCode secret : 1234
URL:https://www.aa87.org/evenement/fin-de-semaine-de-gratitude-c-o/2023-04-19/
LOCATION:Québec
CATEGORIES:Semaine de gratitude
END:VEVENT
BEGIN:VEVENT
DTSTART;TZID=America/Toronto:20230420T193000
DTEND;TZID=America/Toronto:20230420T213000
DTSTAMP:20260423T143914
CREATED:20230105T175547Z
LAST-MODIFIED:20230109T005539Z
UID:10003988-1682019000-1682026200@www.aa87.org
SUMMARY:Dsictrict 24
DESCRIPTION:
URL:https://www.aa87.org/evenement/dsictric-24/2023-04-20/
LOCATION:Chapelle du Séminaire\, (Local L’Étape)\, 1090\, rue Pratte\, St-Hyacinthe\, Québec\, Canada
CATEGORIES:District 24
ORGANIZER;CN="District 24%2C Maskoutains (St-Hyacinthe)":MAILTO:district24@aa87.org
END:VEVENT
BEGIN:VEVENT
DTSTART;TZID=America/Toronto:20230427T190000
DTEND;TZID=America/Toronto:20230427T220000
DTSTAMP:20260423T143914
CREATED:20230908T121122Z
LAST-MODIFIED:20230908T121122Z
UID:10003355-1682622000-1682632800@www.aa87.org
SUMMARY:Comité de direction
DESCRIPTION:
URL:https://www.aa87.org/evenement/comite-de-direction-steering-committee/2023-04-27/
LOCATION:BSR / ASO\, 3920\, rue Rachel Est\, Montréal QC\, H1X 1Z3\, 3920\, Rachel Est\, Montréal\, Québec\, H1X 1Z3\, Canada
CATEGORIES:Comité de direction/Steering Committee
END:VEVENT
BEGIN:VEVENT
DTSTART;TZID=America/Toronto:20230427T190000
DTEND;TZID=America/Toronto:20230427T220000
DTSTAMP:20260423T143914
CREATED:20230908T121124Z
LAST-MODIFIED:20230908T121124Z
UID:10003384-1682622000-1682632800@www.aa87.org
SUMMARY:Steering Committee
DESCRIPTION:
URL:https://www.aa87.org/evenement/comite-de-direction-steering-committee/2023-04-27/
LOCATION:BSR / ASO\, 3920\, rue Rachel Est\, Montréal QC\, H1X 1Z3\, 3920\, Rachel Est\, Montréal\, Québec\, H1X 1Z3\, Canada
CATEGORIES:Comité de direction/Steering Committee
END:VEVENT
BEGIN:VEVENT
DTSTART;TZID=America/Toronto:20230427T190000
DTEND;TZID=America/Toronto:20230427T220000
DTSTAMP:20260423T143914
CREATED:20230908T121125Z
LAST-MODIFIED:20230908T121125Z
UID:10003406-1682622000-1682632800@www.aa87.org
SUMMARY:Comité de direcion
DESCRIPTION:
URL:https://www.aa87.org/evenement/comite-de-direction-steering-committee/2023-04-27/
LOCATION:BSR / ASO\, 3920\, rue Rachel Est\, Montréal QC\, H1X 1Z3\, 3920\, Rachel Est\, Montréal\, Québec\, H1X 1Z3\, Canada
CATEGORIES:Comité de direction/Steering Committee
END:VEVENT
END:VCALENDAR