BEGIN:VCALENDAR
VERSION:2.0
PRODID:-//Alcooliques Anonymes Région 87 - ECPv6.15.17//NONSGML v1.0//EN
CALSCALE:GREGORIAN
METHOD:PUBLISH
X-ORIGINAL-URL:https://www.aa87.org
X-WR-CALDESC:Évènements pour Alcooliques Anonymes Région 87
REFRESH-INTERVAL;VALUE=DURATION:PT1H
X-Robots-Tag:noindex
X-PUBLISHED-TTL:PT1H
BEGIN:VTIMEZONE
TZID:America/Toronto
BEGIN:DAYLIGHT
TZOFFSETFROM:-0500
TZOFFSETTO:-0400
TZNAME:EDT
DTSTART:20220313T070000
END:DAYLIGHT
BEGIN:STANDARD
TZOFFSETFROM:-0400
TZOFFSETTO:-0500
TZNAME:EST
DTSTART:20221106T060000
END:STANDARD
BEGIN:DAYLIGHT
TZOFFSETFROM:-0500
TZOFFSETTO:-0400
TZNAME:EDT
DTSTART:20230312T070000
END:DAYLIGHT
BEGIN:STANDARD
TZOFFSETFROM:-0400
TZOFFSETTO:-0500
TZNAME:EST
DTSTART:20231105T060000
END:STANDARD
BEGIN:DAYLIGHT
TZOFFSETFROM:-0500
TZOFFSETTO:-0400
TZNAME:EDT
DTSTART:20240310T070000
END:DAYLIGHT
BEGIN:STANDARD
TZOFFSETFROM:-0400
TZOFFSETTO:-0500
TZNAME:EST
DTSTART:20241103T060000
END:STANDARD
END:VTIMEZONE
BEGIN:VEVENT
DTSTART;VALUE=DATE:20231104
DTEND;VALUE=DATE:20231105
DTSTAMP:20260421T013024
CREATED:20230106T185421Z
LAST-MODIFIED:20230107T133036Z
UID:10004179-1699056000-1699142399@www.aa87.org
SUMMARY:Réunion comité interrégional
DESCRIPTION:04 mars et 04 novembre 2023 – Les Suites de Laviolette\, Trois-Rivières \n26 mai 2023 – 2323 Boul. Daniel-Johnson Laval
URL:https://www.aa87.org/evenement/reunion-comite-interregional/2023-11-04/
LOCATION:Les Suites de Laviolette\, Trois-Rivières\, 7201 rue Notre-Dame O\, Trpois-Rivières\, Québec\, G9B 1W2\, Canada
CATEGORIES:Comité interrégional
END:VEVENT
BEGIN:VEVENT
DTSTART;TZID=America/Toronto:20231115T190000
DTEND;TZID=America/Toronto:20231115T190000
DTSTAMP:20260421T013024
CREATED:20221219T114012Z
LAST-MODIFIED:20230105T003745Z
UID:10002761-1700074800-1700074800@www.aa87.org
SUMMARY:CMP
DESCRIPTION:Salle 1 \nParticiper à la réunion Zoom \nID de réunion : 944 7943 6712 \nCode secret : 1234
URL:https://www.aa87.org/evenement/cmp-cpc/2023-11-15/
LOCATION:BSR / ASO\, 3920\, rue Rachel Est\, Montréal QC\, H1X 1Z3\, 3920\, Rachel Est\, Montréal\, Québec\, H1X 1Z3\, Canada
CATEGORIES:Comité CMP-CPC Committee
END:VEVENT
BEGIN:VEVENT
DTSTART;TZID=America/Toronto:20231115T190000
DTEND;TZID=America/Toronto:20231115T210000
DTSTAMP:20260421T013024
CREATED:20230105T010125Z
LAST-MODIFIED:20230107T141436Z
UID:10003720-1700074800-1700082000@www.aa87.org
SUMMARY:Comité Semaine de gratitude
DESCRIPTION:Salle 2 \nParticiper à la réunion Zoom \nID de réunion : 918 2068 6211 \nCode secret : 1234
URL:https://www.aa87.org/evenement/fin-de-semaine-de-gratitude-c-o/2023-11-15/
LOCATION:Québec
CATEGORIES:Semaine de gratitude
END:VEVENT
BEGIN:VEVENT
DTSTART;TZID=America/Toronto:20231116T193000
DTEND;TZID=America/Toronto:20231116T213000
DTSTAMP:20260421T013024
CREATED:20230105T175547Z
LAST-MODIFIED:20230109T005539Z
UID:10003993-1700163000-1700170200@www.aa87.org
SUMMARY:Dsictrict 24
DESCRIPTION:
URL:https://www.aa87.org/evenement/dsictric-24/2023-11-16/
LOCATION:Chapelle du Séminaire\, (Local L’Étape)\, 1090\, rue Pratte\, St-Hyacinthe\, Québec\, Canada
CATEGORIES:District 24
ORGANIZER;CN="District 24%2C Maskoutains (St-Hyacinthe)":MAILTO:district24@aa87.org
END:VEVENT
BEGIN:VEVENT
DTSTART;TZID=America/Toronto:20231130T190000
DTEND;TZID=America/Toronto:20231130T220000
DTSTAMP:20260421T013024
CREATED:20230908T121122Z
LAST-MODIFIED:20230908T121122Z
UID:10003361-1701370800-1701381600@www.aa87.org
SUMMARY:Comité de direction
DESCRIPTION:
URL:https://www.aa87.org/evenement/comite-de-direction-steering-committee/2023-11-30/
LOCATION:BSR / ASO\, 3920\, rue Rachel Est\, Montréal QC\, H1X 1Z3\, 3920\, Rachel Est\, Montréal\, Québec\, H1X 1Z3\, Canada
CATEGORIES:Comité de direction/Steering Committee
END:VEVENT
BEGIN:VEVENT
DTSTART;TZID=America/Toronto:20231130T190000
DTEND;TZID=America/Toronto:20231130T220000
DTSTAMP:20260421T013024
CREATED:20230908T121124Z
LAST-MODIFIED:20230908T121124Z
UID:10003390-1701370800-1701381600@www.aa87.org
SUMMARY:Steering Committee
DESCRIPTION:
URL:https://www.aa87.org/evenement/comite-de-direction-steering-committee/2023-11-30/
LOCATION:BSR / ASO\, 3920\, rue Rachel Est\, Montréal QC\, H1X 1Z3\, 3920\, Rachel Est\, Montréal\, Québec\, H1X 1Z3\, Canada
CATEGORIES:Comité de direction/Steering Committee
END:VEVENT
BEGIN:VEVENT
DTSTART;TZID=America/Toronto:20231130T190000
DTEND;TZID=America/Toronto:20231130T220000
DTSTAMP:20260421T013024
CREATED:20230908T121125Z
LAST-MODIFIED:20230908T121125Z
UID:10003412-1701370800-1701381600@www.aa87.org
SUMMARY:Comité de direcion
DESCRIPTION:
URL:https://www.aa87.org/evenement/comite-de-direction-steering-committee/2023-11-30/
LOCATION:BSR / ASO\, 3920\, rue Rachel Est\, Montréal QC\, H1X 1Z3\, 3920\, Rachel Est\, Montréal\, Québec\, H1X 1Z3\, Canada
CATEGORIES:Comité de direction/Steering Committee
END:VEVENT
END:VCALENDAR