BEGIN:VCALENDAR
VERSION:2.0
PRODID:-//Alcooliques Anonymes Région 87 - ECPv6.15.17//NONSGML v1.0//EN
CALSCALE:GREGORIAN
METHOD:PUBLISH
X-WR-CALNAME:Alcooliques Anonymes Région 87
X-ORIGINAL-URL:https://www.aa87.org
X-WR-CALDESC:Évènements pour Alcooliques Anonymes Région 87
REFRESH-INTERVAL;VALUE=DURATION:PT1H
X-Robots-Tag:noindex
X-PUBLISHED-TTL:PT1H
BEGIN:VTIMEZONE
TZID:America/Toronto
BEGIN:DAYLIGHT
TZOFFSETFROM:-0500
TZOFFSETTO:-0400
TZNAME:EDT
DTSTART:20230312T070000
END:DAYLIGHT
BEGIN:STANDARD
TZOFFSETFROM:-0400
TZOFFSETTO:-0500
TZNAME:EST
DTSTART:20231105T060000
END:STANDARD
BEGIN:DAYLIGHT
TZOFFSETFROM:-0500
TZOFFSETTO:-0400
TZNAME:EDT
DTSTART:20240310T070000
END:DAYLIGHT
BEGIN:STANDARD
TZOFFSETFROM:-0400
TZOFFSETTO:-0500
TZNAME:EST
DTSTART:20241103T060000
END:STANDARD
BEGIN:DAYLIGHT
TZOFFSETFROM:-0500
TZOFFSETTO:-0400
TZNAME:EDT
DTSTART:20250309T070000
END:DAYLIGHT
BEGIN:STANDARD
TZOFFSETFROM:-0400
TZOFFSETTO:-0500
TZNAME:EST
DTSTART:20251102T060000
END:STANDARD
END:VTIMEZONE
BEGIN:VEVENT
DTSTART;TZID=America/Toronto:20240401T190000
DTEND;TZID=America/Toronto:20240401T220000
DTSTAMP:20260420T172803
CREATED:20231103T131611Z
LAST-MODIFIED:20240614T003816Z
UID:10006395-1711998000-1712008800@www.aa87.org
SUMMARY:District 19
DESCRIPTION:Salle 2 \nParticiper à la réunion Zoom \nID de réunion : 918 2068 6211 \nCode secret : 1234
URL:https://www.aa87.org/evenement/district-19-2/2024-04-01/
LOCATION:BSR / ASO\, 3920\, rue Rachel Est\, Montréal QC\, H1X 1Z3\, 3920\, Rachel Est\, Montréal\, Québec\, H1X 1Z3\, Canada
CATEGORIES:Activité / Activity,District 19
ORGANIZER;CN="District 19%2C Montreal%2C Westmount":MAILTO:district19@aa87.org
END:VEVENT
BEGIN:VEVENT
DTSTART;TZID=America/Toronto:20240401T193000
DTEND;TZID=America/Toronto:20240401T213000
DTSTAMP:20260420T172803
CREATED:20231229T174008Z
LAST-MODIFIED:20241217T010132Z
UID:10006550-1711999800-1712007000@www.aa87.org
SUMMARY:Réunion des RSG du District 87-26
DESCRIPTION:
URL:https://www.aa87.org/evenement/district-26-2/2024-04-01/
LOCATION:École Les Trois Saisons (entrée par l’arrière) 570\, boul. de Mortagne\, Boucherville QC\, J4B 5E4\, 570\, boul. de Mortagne\, Boucherville\, Québec\, J4B 5E4\, Canada
CATEGORIES:Activité / Activity,District 26,District AA87
ORGANIZER;CN="District 26%2C Longueuil%2C Contrec%C5%93ur":MAILTO:district26@aa87.org
END:VEVENT
BEGIN:VEVENT
DTSTART;TZID=America/Toronto:20240402T193000
DTEND;TZID=America/Toronto:20240402T213000
DTSTAMP:20260420T172803
CREATED:20231229T155357Z
LAST-MODIFIED:20241217T012449Z
UID:10006424-1712086200-1712093400@www.aa87.org
SUMMARY:Réunion des RSG du District 87-21
DESCRIPTION:
URL:https://www.aa87.org/evenement/district-21-2/2024-04-02/
LOCATION:Église United Church\, 101 Rue Principale\, Granby\, QC\, J2G 2T9\, Canada
CATEGORIES:Activité / Activity,District 21,District AA87
ORGANIZER;CN="District 21%2C Granby%2C Cowansville":MAILTO:district21@aa87.org
END:VEVENT
BEGIN:VEVENT
DTSTART;TZID=America/Toronto:20240403T190000
DTEND;TZID=America/Toronto:20240403T210000
DTSTAMP:20260420T172803
CREATED:20231217T165210Z
LAST-MODIFIED:20260303T000857Z
UID:10024993-1712170800-1712178000@www.aa87.org
SUMMARY:Comité de l'Information publique +
DESCRIPTION:Salle 1\nJoindre la réunion\n\n  \nID de réunion : 944 7943 6712\nCode secret : 1234
URL:https://www.aa87.org/evenement/information-publique/2024-04-03/
LOCATION:BSR / ASO\, 3920\, rue Rachel Est\, Montréal QC\, H1X 1Z3\, 3920\, Rachel Est\, Montréal\, Québec\, H1X 1Z3\, Canada
CATEGORIES:Activité / Activity,Comité d’Information Publique,Comités / Committees
END:VEVENT
BEGIN:VEVENT
DTSTART;TZID=America/Toronto:20240403T193000
DTEND;TZID=America/Toronto:20240403T213000
DTSTAMP:20260420T172803
CREATED:20231229T144655Z
LAST-MODIFIED:20241217T113214Z
UID:10008768-1712172600-1712179800@www.aa87.org
SUMMARY:Réunion des RSG du District 87-16
DESCRIPTION:
URL:https://www.aa87.org/evenement/district-16-2-2/2024-04-03/
LOCATION:Centre communautaire\, 53\, rue Rabastalière\, St-Bruno QC\, J3V 1Y7\, 53\, rue Rabastalière\, St-Bruno\, Québec\, J3V 1Y7\, Canada
CATEGORIES:District 16
ORGANIZER;CN="District 16%2C Bel%C5%93il%2C St-Hilaire":MAILTO:district16@aa87.org
END:VEVENT
BEGIN:VEVENT
DTSTART;TZID=America/Toronto:20240404T060000
DTEND;TZID=America/Toronto:20240404T060000
DTSTAMP:20260420T172803
CREATED:20231229T130646Z
LAST-MODIFIED:20241217T113831Z
UID:10012746-1712210400-1712210400@www.aa87.org
SUMMARY:Réunion des RSG du District 87-13
DESCRIPTION:
URL:https://www.aa87.org/evenement/district-13/2024-04-04/
LOCATION:Centre St-Zotique\, 75\, carré Sir Georges-Étienne Cartier\, salle 215\, Montréal QC\, H4C 3A1\, 75\, carré Sir Georges-Étienne Cartier\, salle 215\, Montréal\, Québec\, H4C 3A1\, Canada
CATEGORIES:Activité / Activity,District 13,District AA87
END:VEVENT
BEGIN:VEVENT
DTSTART;TZID=America/Toronto:20240404T190000
DTEND;TZID=America/Toronto:20240404T210000
DTSTAMP:20260420T172804
CREATED:20231228T153002Z
LAST-MODIFIED:20231229T175154Z
UID:10005794-1712257200-1712264400@www.aa87.org
SUMMARY:District 05
DESCRIPTION:Participer à la réunion Zoom \nID de réunion : 86244183943
URL:https://www.aa87.org/evenement/district-05/2024-04-04/
LOCATION:Place à l’emploi\, 125 Chem. du Coteau-Rouge\, Longueuil\, QC J4J 1W7\, Canada
CATEGORIES:Activité / Activity,District 05,District AA87
ORGANIZER;CN="District 5%2C Longueuil%2C St-Lambert":MAILTO:district05@aa87.org
END:VEVENT
BEGIN:VEVENT
DTSTART;TZID=America/Toronto:20240404T193000
DTEND;TZID=America/Toronto:20240404T213000
DTSTAMP:20260420T172804
CREATED:20231228T154525Z
LAST-MODIFIED:20231228T154839Z
UID:10005888-1712259000-1712266200@www.aa87.org
SUMMARY:District 07
DESCRIPTION:
URL:https://www.aa87.org/evenement/district-07-2/2024-04-04/
LOCATION:St. Mary’s Church\, 735\, Miller\, Greenfield Park QC\, 735\, Miller\, Greenfield Park\, Québec\, Canada
CATEGORIES:District 07
ORGANIZER;CN="District 7%2C Ch%C3%A2teauguay%2C St-Lambert%2C Valleyfield":MAILTO:district07@aa87.org
END:VEVENT
BEGIN:VEVENT
DTSTART;TZID=America/Toronto:20240404T193000
DTEND;TZID=America/Toronto:20240404T213000
DTSTAMP:20260420T172804
CREATED:20240322T030612Z
LAST-MODIFIED:20241110T003100Z
UID:10009683-1712259000-1712266200@www.aa87.org
SUMMARY:District 14
DESCRIPTION:La réunion est maintenent en présentiel seulement à une nouvelle adresse.
URL:https://www.aa87.org/evenement/district-14/2024-04-04/
LOCATION:3225 rue Courchesne Sorel-Tracy  Local 210\, 3225 rue Courchesne\, Sorel-Tracy\, QC\, J3R 3A7\, Canada
CATEGORIES:Activité / Activity,District 14,District AA87
ORGANIZER;CN="District 14%2C Sorel%2C Tracy et environs":MAILTO:district14@aa87.org
END:VEVENT
BEGIN:VEVENT
DTSTART;TZID=America/Toronto:20240407T100000
DTEND;TZID=America/Toronto:20240407T130000
DTSTAMP:20260420T172804
CREATED:20240108T161321Z
LAST-MODIFIED:20240216T170136Z
UID:10007190-1712484000-1712494800@www.aa87.org
SUMMARY:Brunch des Archives
DESCRIPTION:Salle 2\nParticiper à la réunion Zoom \nID de réunion : 918 2068 6211 \nCode secret : 1234 \n+1 438 809 7799 Canada \nTrouvez votre numéro local : https://zoom.us/u/a244hTgDP
URL:https://www.aa87.org/evenement/brunch-des-archives-2/
LOCATION:BSR / ASO\, 3920\, rue Rachel Est\, Montréal QC\, H1X 1Z3\, 3920\, Rachel Est\, Montréal\, Québec\, H1X 1Z3\, Canada
CATEGORIES:Activité / Activity,Comité des Archives,Comités / Committees
END:VEVENT
BEGIN:VEVENT
DTSTART;TZID=America/Toronto:20240407T130000
DTEND;TZID=America/Toronto:20240407T150000
DTSTAMP:20260420T172804
CREATED:20231217T161936Z
LAST-MODIFIED:20241217T005435Z
UID:10006963-1712494800-1712502000@www.aa87.org
SUMMARY:Correctional Facilities
DESCRIPTION:Salle 1\nParticiper à la réunion Zoom \nID de réunion : 944 7943 6712 \nCode secret : 1234
URL:https://www.aa87.org/evenement/correctional-facilities/2024-04-07/
LOCATION:BSR / ASO\, 3920\, rue Rachel Est\, Montréal QC\, H1X 1Z3\, 3920\, Rachel Est\, Montréal\, Québec\, H1X 1Z3\, Canada
CATEGORIES:Activité / Activity,Comités / Committees,Correctional Facilities Committee
END:VEVENT
BEGIN:VEVENT
DTSTART;TZID=America/Toronto:20240408T190000
DTEND;TZID=America/Toronto:20240408T210000
DTSTAMP:20260420T172804
CREATED:20231217T133410Z
LAST-MODIFIED:20240830T174151Z
UID:10007459-1712602800-1712610000@www.aa87.org
SUMMARY:Communications internes
DESCRIPTION:Salle 1\nParticiper à la réunion Zoom \nID de réunion : 944 7943 6712 \nCode secret : 1234
URL:https://www.aa87.org/evenement/communications-internes/2024-04-08/
LOCATION:Réunion Virtuelle\, Québec\, Canada
CATEGORIES:Activité / Activity,Comités / Committees,Communications internes / Internal Communication
END:VEVENT
BEGIN:VEVENT
DTSTART;TZID=America/Toronto:20240408T190000
DTEND;TZID=America/Toronto:20240408T210000
DTSTAMP:20260420T172804
CREATED:20231217T164214Z
LAST-MODIFIED:20241217T222311Z
UID:10007456-1712602800-1712610000@www.aa87.org
SUMMARY:Helpline Committee
DESCRIPTION:Salle 3\nParticiper à la réunion Zoom \nID de réunion : 910 8777 9314 \nCode secret : 1234
URL:https://www.aa87.org/evenement/helpline/2024-04-08/
LOCATION:Réunion Virtuelle\, Québec\, Canada
CATEGORIES:Activité / Activity,Comités / Committees,Helpline committee
END:VEVENT
BEGIN:VEVENT
DTSTART;TZID=America/Toronto:20240408T190000
DTEND;TZID=America/Toronto:20240408T210000
DTSTAMP:20260420T172804
CREATED:20231229T130646Z
LAST-MODIFIED:20241217T113831Z
UID:10007998-1712602800-1712610000@www.aa87.org
SUMMARY:Réunion des RSG du District 87-13
DESCRIPTION:
URL:https://www.aa87.org/evenement/district-13/2024-04-08/
LOCATION:Centre St-Zotique\, 75\, carré Sir Georges-Étienne Cartier\, salle 215\, Montréal QC\, H4C 3A1\, 75\, carré Sir Georges-Étienne Cartier\, salle 215\, Montréal\, Québec\, H4C 3A1\, Canada
CATEGORIES:Activité / Activity,District 13,District AA87
END:VEVENT
BEGIN:VEVENT
DTSTART;TZID=America/Toronto:20240408T193000
DTEND;TZID=America/Toronto:20240408T213000
DTSTAMP:20260420T172804
CREATED:20231229T142706Z
LAST-MODIFIED:20231229T143007Z
UID:10006236-1712604600-1712611800@www.aa87.org
SUMMARY:District 15
DESCRIPTION:
URL:https://www.aa87.org/evenement/district-15-2/2024-04-08/
LOCATION:136-A Jacques-Cartier Nord\, St-Jean-sur-Richelieu\, Québec\, Canada
CATEGORIES:District 15
ORGANIZER;CN="District 15%2C St-Jean-sur-Richelieu":MAILTO:district15@aa87.org
END:VEVENT
BEGIN:VEVENT
DTSTART;TZID=America/Toronto:20240409T190000
DTEND;TZID=America/Toronto:20240409T210000
DTSTAMP:20260420T172804
CREATED:20231228T174213Z
LAST-MODIFIED:20231228T175254Z
UID:10005974-1712689200-1712696400@www.aa87.org
SUMMARY:District 10
DESCRIPTION:Salle 2 \nParticiper à la réunion Zoom \nID de réunion : 918 2068 6211 \nCode secret : 1234
URL:https://www.aa87.org/evenement/district-10-2/2024-04-09/
LOCATION:BSR / ASO\, 3920\, rue Rachel Est\, Montréal QC\, H1X 1Z3\, 3920\, Rachel Est\, Montréal\, Québec\, H1X 1Z3\, Canada
CATEGORIES:District 10
END:VEVENT
BEGIN:VEVENT
DTSTART;TZID=America/Toronto:20240409T190000
DTEND;TZID=America/Toronto:20240409T210000
DTSTAMP:20260420T172804
CREATED:20231229T153124Z
LAST-MODIFIED:20231229T153411Z
UID:10006362-1712689200-1712696400@www.aa87.org
SUMMARY:District 18
DESCRIPTION:
URL:https://www.aa87.org/evenement/district-18-2/2024-04-09/
LOCATION:Unity Church – 3455 Girouard in Montreal
CATEGORIES:District 18
ORGANIZER;CN="District 18%2C Verdun%2C Notre-Dame-de-Gr%C3%A2ce":MAILTO:district18@aa87.org
END:VEVENT
BEGIN:VEVENT
DTSTART;TZID=America/Toronto:20240410T190000
DTEND;TZID=America/Toronto:20240410T210000
DTSTAMP:20260420T172804
CREATED:20230104T223256Z
LAST-MODIFIED:20231228T141245Z
UID:10005414-1712775600-1712782800@www.aa87.org
SUMMARY:District 01
DESCRIPTION:Salle 2 \nParticiper à la réunion Zoom \nID de réunion : 918 2068 6211 \nCode secret : 1234
URL:https://www.aa87.org/evenement/district-01/2024-04-10/
LOCATION:BSR / ASO\, 3920\, rue Rachel Est\, Montréal QC\, H1X 1Z3\, 3920\, Rachel Est\, Montréal\, Québec\, H1X 1Z3\, Canada
CATEGORIES:District 01
ORGANIZER;CN="District 1%2C Montr%C3%A9al%2C Outremont%2C C%C3%B4te-des-Neiges":MAILTO:district01@aa87.org
END:VEVENT
BEGIN:VEVENT
DTSTART;TZID=America/Toronto:20240410T190000
DTEND;TZID=America/Toronto:20240410T210000
DTSTAMP:20260420T172804
CREATED:20231217T182237Z
LAST-MODIFIED:20241217T005153Z
UID:10005367-1712775600-1712782800@www.aa87.org
SUMMARY:Comité des technologies
DESCRIPTION:Réunion mensuel d’équipe. \nParticipez à la réunion Teams
URL:https://www.aa87.org/evenement/comite-des-technologies/2024-04-10/
LOCATION:Réunion Virtuelle\, Québec\, Canada
CATEGORIES:Activité / Activity,Comité des Technologies/ Technology Committee,Comités / Committees
END:VEVENT
BEGIN:VEVENT
DTSTART;TZID=America/Toronto:20240410T193000
DTEND;TZID=America/Toronto:20240410T213000
DTSTAMP:20260420T172804
CREATED:20231229T162036Z
LAST-MODIFIED:20231229T162606Z
UID:10006456-1712777400-1712784600@www.aa87.org
SUMMARY:District 22
DESCRIPTION:
URL:https://www.aa87.org/evenement/district-22-2/2024-04-10/
LOCATION:Centre d’action bénévole\, 95\, rue Salaberry\, Salaberry-de-Valleyfield QC\, J6T 2H5\, 95\, rue Salaberry\, Salaberry-de-Valleyfield\, Québec\, J6T 2H5\, Canada
CATEGORIES:Activité / Activity,District 22,District AA87
ORGANIZER;CN="District 22%2C Valleyfield":MAILTO:district22@aa87.org
END:VEVENT
BEGIN:VEVENT
DTSTART;TZID=America/Toronto:20240411T190000
DTEND;TZID=America/Toronto:20240411T210000
DTSTAMP:20260420T172804
CREATED:20231217T170046Z
LAST-MODIFIED:20241203T005350Z
UID:10007219-1712862000-1712869200@www.aa87.org
SUMMARY:Publications
DESCRIPTION:Salle 1\nParticiper à la réunion Zoom \nID de réunion : 944 7943 6712 \nCode secret : 1234
URL:https://www.aa87.org/evenement/publications-2/2024-04-11/
LOCATION:Québec
CATEGORIES:Activité / Activity,Comité des Publications / Publications Committee,Comités / Committees
END:VEVENT
BEGIN:VEVENT
DTSTART;TZID=America/Toronto:20240411T193000
DTEND;TZID=America/Toronto:20240411T210000
DTSTAMP:20260420T172804
CREATED:20240417T211938Z
LAST-MODIFIED:20240417T212253Z
UID:10005402-1712863800-1712869200@www.aa87.org
SUMMARY:Services aux groupes
DESCRIPTION:Salle 3\nParticiper à la réunion Zoom \nID de réunion : 910 8777 9314 \nCode secret : 1234
URL:https://www.aa87.org/evenement/services-aux-groupes-2-2-2/2024-04-11/
LOCATION:Réunion Virtuelle\, Québec\, Canada
CATEGORIES:Activité / Activity,Comités / Committees,Services aux groupes / Group Services
END:VEVENT
BEGIN:VEVENT
DTSTART;TZID=America/Toronto:20240415T190000
DTEND;TZID=America/Toronto:20240415T210000
DTSTAMP:20260420T172804
CREATED:20231228T141616Z
LAST-MODIFIED:20240806T231019Z
UID:10005444-1713207600-1713214800@www.aa87.org
SUMMARY:District 02
DESCRIPTION:Salle 2 \nParticiper à la réunion Zoom \nID de réunion : 918 2068 6211 \nCode secret : 1234
URL:https://www.aa87.org/evenement/district-02-2/2024-04-15/
LOCATION:BSR / ASO\, 3920\, rue Rachel Est\, Montréal QC\, H1X 1Z3\, 3920\, Rachel Est\, Montréal\, Québec\, H1X 1Z3\, Canada
CATEGORIES:District 02
ORGANIZER;CN="District 2%2C Rosemont%2C St-Michel%2C Villeray":MAILTO:district02@aa87.org
END:VEVENT
BEGIN:VEVENT
DTSTART;TZID=America/Toronto:20240416T193000
DTEND;TZID=America/Toronto:20240416T213000
DTSTAMP:20260420T172804
CREATED:20240206T020553Z
LAST-MODIFIED:20240206T021352Z
UID:10007253-1713295800-1713303000@www.aa87.org
SUMMARY:District 04
DESCRIPTION:
URL:https://www.aa87.org/evenement/district-04-2-2/2024-04-16/
LOCATION:5365\, Marie-Victorin\, Sainte-Catherine QC\, J5C 1L9\, 5365\, Marie-Victorin\, Sainte-Catherine\, Québec\, J5C 1L9\, Canada
CATEGORIES:District 04
ORGANIZER;CN="District 4%2C Laprairie%2C Candiac%2C Ch%C3%A2teauguay":MAILTO:district04@aa87.org
END:VEVENT
BEGIN:VEVENT
DTSTART;TZID=America/Toronto:20240417T190000
DTEND;TZID=America/Toronto:20240417T210000
DTSTAMP:20260420T172804
CREATED:20231217T142332Z
LAST-MODIFIED:20231217T160547Z
UID:10005102-1713380400-1713387600@www.aa87.org
SUMMARY:CMP
DESCRIPTION:Salle 1\nParticiper à la réunion Zoom \nID de réunion : 944 7943 6712 \nCode secret : 1234
URL:https://www.aa87.org/evenement/cmp/2024-04-17/
LOCATION:BSR / ASO\, 3920\, rue Rachel Est\, Montréal QC\, H1X 1Z3\, 3920\, Rachel Est\, Montréal\, Québec\, H1X 1Z3\, Canada
CATEGORIES:Activité / Activity,Comité CMP-CPC Committee,Comités / Committees
END:VEVENT
BEGIN:VEVENT
DTSTART;TZID=America/Toronto:20240418T190000
DTEND;TZID=America/Toronto:20240418T210000
DTSTAMP:20260420T172804
CREATED:20231228T153720Z
LAST-MODIFIED:20231228T154121Z
UID:10005860-1713466800-1713474000@www.aa87.org
SUMMARY:District 06
DESCRIPTION:
URL:https://www.aa87.org/evenement/district-06-2/2024-04-18/
LOCATION:Parish of the Resurrection\, St-Andrew and St-Mark’s Church\, 865 Lakeshore drive\, Dorval\, 865 Lakeshore drive\, Dorval\, Québec\, H9S 2C7\, Canada
CATEGORIES:District 06
ORGANIZER;CN="District 6%2C West Island":MAILTO:district06@aa87.org
END:VEVENT
BEGIN:VEVENT
DTSTART;TZID=America/Toronto:20240418T193000
DTEND;TZID=America/Toronto:20240418T213000
DTSTAMP:20260420T172804
CREATED:20231228T184322Z
LAST-MODIFIED:20231228T184614Z
UID:10006108-1713468600-1713475800@www.aa87.org
SUMMARY:District 11
DESCRIPTION:
URL:https://www.aa87.org/evenement/district-11-2/2024-04-18/
LOCATION:Chalet du Parc Dixie\, 257\, 54e Avenue\, Lachine\, 257\, 54e Avenue\, Lachine\, Québec\, Canada
CATEGORIES:District 11
ORGANIZER;CN="District 11%2C Ouest de l%C3%AEle":MAILTO:district11@aa87.org
END:VEVENT
BEGIN:VEVENT
DTSTART;TZID=America/Toronto:20240418T193000
DTEND;TZID=America/Toronto:20240418T213000
DTSTAMP:20260420T172804
CREATED:20231229T175958Z
LAST-MODIFIED:20240914T135932Z
UID:10006997-1713468600-1713475800@www.aa87.org
SUMMARY:District 27
DESCRIPTION:
URL:https://www.aa87.org/evenement/district-27-2/2024-04-18/
LOCATION:Centre Jean-Marc-Ducharme\, 21 Rue Louise-Joshephte\, Vaudreuil-Dorion\, Qc\, J7V 1B3\, 21 Rue Louise-Joshephte\,\, Vaudreuil-Dorion\, QC\, J7V 1B3\, Canada
CATEGORIES:Activité / Activity,District 27,District AA87
ORGANIZER;CN="District 27%2C Vaudreuil-Dorion":MAILTO:district27@aa87.org
END:VEVENT
BEGIN:VEVENT
DTSTART;TZID=America/Toronto:20240418T193000
DTEND;TZID=America/Toronto:20240418T223000
DTSTAMP:20260420T172804
CREATED:20231229T163708Z
LAST-MODIFIED:20231229T164757Z
UID:10006488-1713468600-1713479400@www.aa87.org
SUMMARY:District 24
DESCRIPTION:
URL:https://www.aa87.org/evenement/reunion-du-district-24-2/2024-04-18/
LOCATION:Chapelle du Séminaire\, (Local L’Étape)\, 1090\, rue Pratte\, St-Hyacinthe\, Québec\, Canada
CATEGORIES:Activité / Activity,District 24,District AA87
ORGANIZER;CN="District 24%2C Maskoutains (St-Hyacinthe)":MAILTO:district24@aa87.org
END:VEVENT
BEGIN:VEVENT
DTSTART;TZID=America/Toronto:20240420T090000
DTEND;TZID=America/Toronto:20240420T110000
DTSTAMP:20260420T172804
CREATED:20231217T020030Z
LAST-MODIFIED:20241217T221011Z
UID:10004977-1713603600-1713610800@www.aa87.org
SUMMARY:Comité Centres de détention
DESCRIPTION:
URL:https://www.aa87.org/evenement/centres-de-detention-4/2024-04-20/
LOCATION:BSR / ASO\, 3920\, rue Rachel Est\, Montréal QC\, H1X 1Z3\, 3920\, Rachel Est\, Montréal\, Québec\, H1X 1Z3\, Canada
CATEGORIES:Activité / Activity,Centres de détention,Comités / Committees
END:VEVENT
END:VCALENDAR