BEGIN:VCALENDAR
VERSION:2.0
PRODID:-//Alcooliques Anonymes Région 87 - ECPv6.15.17//NONSGML v1.0//EN
CALSCALE:GREGORIAN
METHOD:PUBLISH
X-WR-CALNAME:Alcooliques Anonymes Région 87
X-ORIGINAL-URL:https://www.aa87.org
X-WR-CALDESC:Évènements pour Alcooliques Anonymes Région 87
REFRESH-INTERVAL;VALUE=DURATION:PT1H
X-Robots-Tag:noindex
X-PUBLISHED-TTL:PT1H
BEGIN:VTIMEZONE
TZID:America/Toronto
BEGIN:DAYLIGHT
TZOFFSETFROM:-0500
TZOFFSETTO:-0400
TZNAME:EDT
DTSTART:20230312T070000
END:DAYLIGHT
BEGIN:STANDARD
TZOFFSETFROM:-0400
TZOFFSETTO:-0500
TZNAME:EST
DTSTART:20231105T060000
END:STANDARD
BEGIN:DAYLIGHT
TZOFFSETFROM:-0500
TZOFFSETTO:-0400
TZNAME:EDT
DTSTART:20240310T070000
END:DAYLIGHT
BEGIN:STANDARD
TZOFFSETFROM:-0400
TZOFFSETTO:-0500
TZNAME:EST
DTSTART:20241103T060000
END:STANDARD
BEGIN:DAYLIGHT
TZOFFSETFROM:-0500
TZOFFSETTO:-0400
TZNAME:EDT
DTSTART:20250309T070000
END:DAYLIGHT
BEGIN:STANDARD
TZOFFSETFROM:-0400
TZOFFSETTO:-0500
TZNAME:EST
DTSTART:20251102T060000
END:STANDARD
END:VTIMEZONE
BEGIN:VEVENT
DTSTART;TZID=America/Toronto:20240602T130000
DTEND;TZID=America/Toronto:20240602T150000
DTSTAMP:20260420T143125
CREATED:20231217T161936Z
LAST-MODIFIED:20241217T005435Z
UID:10006965-1717333200-1717340400@www.aa87.org
SUMMARY:Correctional Facilities
DESCRIPTION:Salle 1\nParticiper à la réunion Zoom \nID de réunion : 944 7943 6712 \nCode secret : 1234
URL:https://www.aa87.org/evenement/correctional-facilities/2024-06-02/
LOCATION:BSR / ASO\, 3920\, rue Rachel Est\, Montréal QC\, H1X 1Z3\, 3920\, Rachel Est\, Montréal\, Québec\, H1X 1Z3\, Canada
CATEGORIES:Activité / Activity,Comités / Committees,Correctional Facilities Committee
END:VEVENT
BEGIN:VEVENT
DTSTART;TZID=America/Toronto:20240603T190000
DTEND;TZID=America/Toronto:20240603T210000
DTSTAMP:20260420T143125
CREATED:20240102T122129Z
LAST-MODIFIED:20240506T232631Z
UID:10006654-1717441200-1717448400@www.aa87.org
SUMMARY:Rapport du Délégué
DESCRIPTION:03 juin 2024 – St-Mathias Church\, 10\, Church Hill (North of Côte St-Antoine)\, Westmount QC\, H3Y 2Z9
URL:https://www.aa87.org/evenement/rapport-du-delegue-2/2024-06-03/
LOCATION:Centre d’action bénévole\, 95\, rue Salaberry\, Salaberry-de-Valleyfield QC\, J6T 2H5\, 95\, rue Salaberry\, Salaberry-de-Valleyfield\, Québec\, J6T 2H5\, Canada
CATEGORIES:Assemblée du Délégué
END:VEVENT
BEGIN:VEVENT
DTSTART;TZID=America/Toronto:20240603T190000
DTEND;TZID=America/Toronto:20240603T220000
DTSTAMP:20260420T143125
CREATED:20231103T131611Z
LAST-MODIFIED:20240614T003816Z
UID:10006397-1717441200-1717452000@www.aa87.org
SUMMARY:District 19
DESCRIPTION:Salle 2 \nParticiper à la réunion Zoom \nID de réunion : 918 2068 6211 \nCode secret : 1234
URL:https://www.aa87.org/evenement/district-19-2/2024-06-03/
LOCATION:BSR / ASO\, 3920\, rue Rachel Est\, Montréal QC\, H1X 1Z3\, 3920\, Rachel Est\, Montréal\, Québec\, H1X 1Z3\, Canada
CATEGORIES:Activité / Activity,District 19
ORGANIZER;CN="District 19%2C Montreal%2C Westmount":MAILTO:district19@aa87.org
END:VEVENT
BEGIN:VEVENT
DTSTART;TZID=America/Toronto:20240603T193000
DTEND;TZID=America/Toronto:20240603T213000
DTSTAMP:20260420T143125
CREATED:20231229T174008Z
LAST-MODIFIED:20241217T010132Z
UID:10006552-1717443000-1717450200@www.aa87.org
SUMMARY:Réunion des RSG du District 87-26
DESCRIPTION:
URL:https://www.aa87.org/evenement/district-26-2/2024-06-03/
LOCATION:École Les Trois Saisons (entrée par l’arrière) 570\, boul. de Mortagne\, Boucherville QC\, J4B 5E4\, 570\, boul. de Mortagne\, Boucherville\, Québec\, J4B 5E4\, Canada
CATEGORIES:Activité / Activity,District 26,District AA87
ORGANIZER;CN="District 26%2C Longueuil%2C Contrec%C5%93ur":MAILTO:district26@aa87.org
END:VEVENT
BEGIN:VEVENT
DTSTART;TZID=America/Toronto:20240604T193000
DTEND;TZID=America/Toronto:20240604T213000
DTSTAMP:20260420T143125
CREATED:20231229T155357Z
LAST-MODIFIED:20241217T012449Z
UID:10006426-1717529400-1717536600@www.aa87.org
SUMMARY:Réunion des RSG du District 87-21
DESCRIPTION:
URL:https://www.aa87.org/evenement/district-21-2/2024-06-04/
LOCATION:Église United Church\, 101 Rue Principale\, Granby\, QC\, J2G 2T9\, Canada
CATEGORIES:Activité / Activity,District 21,District AA87
ORGANIZER;CN="District 21%2C Granby%2C Cowansville":MAILTO:district21@aa87.org
END:VEVENT
BEGIN:VEVENT
DTSTART;TZID=America/Toronto:20240605T190000
DTEND;TZID=America/Toronto:20240605T210000
DTSTAMP:20260420T143125
CREATED:20231217T165210Z
LAST-MODIFIED:20260303T000857Z
UID:10024995-1717614000-1717621200@www.aa87.org
SUMMARY:Comité de l'Information publique +
DESCRIPTION:Salle 1\nJoindre la réunion\n\n  \nID de réunion : 944 7943 6712\nCode secret : 1234
URL:https://www.aa87.org/evenement/information-publique/2024-06-05/
LOCATION:BSR / ASO\, 3920\, rue Rachel Est\, Montréal QC\, H1X 1Z3\, 3920\, Rachel Est\, Montréal\, Québec\, H1X 1Z3\, Canada
CATEGORIES:Activité / Activity,Comité d’Information Publique,Comités / Committees
END:VEVENT
BEGIN:VEVENT
DTSTART;TZID=America/Toronto:20240605T193000
DTEND;TZID=America/Toronto:20240605T213000
DTSTAMP:20260420T143125
CREATED:20231229T144655Z
LAST-MODIFIED:20241217T113214Z
UID:10008770-1717615800-1717623000@www.aa87.org
SUMMARY:Réunion des RSG du District 87-16
DESCRIPTION:
URL:https://www.aa87.org/evenement/district-16-2-2/2024-06-05/
LOCATION:Centre communautaire\, 53\, rue Rabastalière\, St-Bruno QC\, J3V 1Y7\, 53\, rue Rabastalière\, St-Bruno\, Québec\, J3V 1Y7\, Canada
CATEGORIES:District 16
ORGANIZER;CN="District 16%2C Bel%C5%93il%2C St-Hilaire":MAILTO:district16@aa87.org
END:VEVENT
BEGIN:VEVENT
DTSTART;TZID=America/Toronto:20240606T060000
DTEND;TZID=America/Toronto:20240606T060000
DTSTAMP:20260420T143125
CREATED:20231229T130646Z
LAST-MODIFIED:20241217T113831Z
UID:10012748-1717653600-1717653600@www.aa87.org
SUMMARY:Réunion des RSG du District 87-13
DESCRIPTION:
URL:https://www.aa87.org/evenement/district-13/2024-06-06/
LOCATION:Centre St-Zotique\, 75\, carré Sir Georges-Étienne Cartier\, salle 215\, Montréal QC\, H4C 3A1\, 75\, carré Sir Georges-Étienne Cartier\, salle 215\, Montréal\, Québec\, H4C 3A1\, Canada
CATEGORIES:Activité / Activity,District 13,District AA87
END:VEVENT
BEGIN:VEVENT
DTSTART;TZID=America/Toronto:20240606T190000
DTEND;TZID=America/Toronto:20240606T210000
DTSTAMP:20260420T143125
CREATED:20231228T153002Z
LAST-MODIFIED:20231229T175154Z
UID:10005796-1717700400-1717707600@www.aa87.org
SUMMARY:District 05
DESCRIPTION:Participer à la réunion Zoom \nID de réunion : 86244183943
URL:https://www.aa87.org/evenement/district-05/2024-06-06/
LOCATION:Place à l’emploi\, 125 Chem. du Coteau-Rouge\, Longueuil\, QC J4J 1W7\, Canada
CATEGORIES:Activité / Activity,District 05,District AA87
ORGANIZER;CN="District 5%2C Longueuil%2C St-Lambert":MAILTO:district05@aa87.org
END:VEVENT
BEGIN:VEVENT
DTSTART;TZID=America/Toronto:20240606T193000
DTEND;TZID=America/Toronto:20240606T213000
DTSTAMP:20260420T143125
CREATED:20231228T154525Z
LAST-MODIFIED:20231228T154839Z
UID:10005890-1717702200-1717709400@www.aa87.org
SUMMARY:District 07
DESCRIPTION:
URL:https://www.aa87.org/evenement/district-07-2/2024-06-06/
LOCATION:St. Mary’s Church\, 735\, Miller\, Greenfield Park QC\, 735\, Miller\, Greenfield Park\, Québec\, Canada
CATEGORIES:District 07
ORGANIZER;CN="District 7%2C Ch%C3%A2teauguay%2C St-Lambert%2C Valleyfield":MAILTO:district07@aa87.org
END:VEVENT
BEGIN:VEVENT
DTSTART;TZID=America/Toronto:20240606T193000
DTEND;TZID=America/Toronto:20240606T213000
DTSTAMP:20260420T143125
CREATED:20240322T030612Z
LAST-MODIFIED:20241110T003100Z
UID:10009685-1717702200-1717709400@www.aa87.org
SUMMARY:District 14
DESCRIPTION:La réunion est maintenent en présentiel seulement à une nouvelle adresse.
URL:https://www.aa87.org/evenement/district-14/2024-06-06/
LOCATION:3225 rue Courchesne Sorel-Tracy  Local 210\, 3225 rue Courchesne\, Sorel-Tracy\, QC\, J3R 3A7\, Canada
CATEGORIES:Activité / Activity,District 14,District AA87
ORGANIZER;CN="District 14%2C Sorel%2C Tracy et environs":MAILTO:district14@aa87.org
END:VEVENT
BEGIN:VEVENT
DTSTART;TZID=America/Toronto:20240608T083000
DTEND;TZID=America/Toronto:20240608T143000
DTSTAMP:20260420T143125
CREATED:20240102T124402Z
LAST-MODIFIED:20240510T142405Z
UID:10006659-1717835400-1717857000@www.aa87.org
SUMMARY:Assemblée régionale + brunch  / rapport du délégué au District 87-02
DESCRIPTION:
URL:https://www.aa87.org/evenement/assemblee-regionale-brunch-rapport-du-delegue-au-district-87-02/
LOCATION:Église Notre-Dame-de-la-Consolata\, 1700 rue Jean-Talon Est\, Montréal\, QC\, H2E 1T2\, Canada
CATEGORIES:Activité / Activity,Assemblée du Délégué,Assemblée régionale,Comité des Archives,Comités / Committees,Régional
END:VEVENT
BEGIN:VEVENT
DTSTART;TZID=America/Toronto:20240610T190000
DTEND;TZID=America/Toronto:20240610T210000
DTSTAMP:20260420T143125
CREATED:20231217T164214Z
LAST-MODIFIED:20241217T222311Z
UID:10007983-1718046000-1718053200@www.aa87.org
SUMMARY:Helpline Committee
DESCRIPTION:Salle 3\nParticiper à la réunion Zoom \nID de réunion : 910 8777 9314 \nCode secret : 1234
URL:https://www.aa87.org/evenement/helpline/2024-06-10/
LOCATION:Réunion Virtuelle\, Québec\, Canada
CATEGORIES:Activité / Activity,Comités / Committees,Helpline committee
END:VEVENT
BEGIN:VEVENT
DTSTART;TZID=America/Toronto:20240610T193000
DTEND;TZID=America/Toronto:20240610T213000
DTSTAMP:20260420T143125
CREATED:20231229T142706Z
LAST-MODIFIED:20231229T143007Z
UID:10006238-1718047800-1718055000@www.aa87.org
SUMMARY:District 15
DESCRIPTION:
URL:https://www.aa87.org/evenement/district-15-2/2024-06-10/
LOCATION:136-A Jacques-Cartier Nord\, St-Jean-sur-Richelieu\, Québec\, Canada
CATEGORIES:District 15
ORGANIZER;CN="District 15%2C St-Jean-sur-Richelieu":MAILTO:district15@aa87.org
END:VEVENT
BEGIN:VEVENT
DTSTART;TZID=America/Toronto:20240611T190000
DTEND;TZID=America/Toronto:20240611T210000
DTSTAMP:20260420T143125
CREATED:20231228T174213Z
LAST-MODIFIED:20231228T175254Z
UID:10005976-1718132400-1718139600@www.aa87.org
SUMMARY:District 10
DESCRIPTION:Salle 2 \nParticiper à la réunion Zoom \nID de réunion : 918 2068 6211 \nCode secret : 1234
URL:https://www.aa87.org/evenement/district-10-2/2024-06-11/
LOCATION:BSR / ASO\, 3920\, rue Rachel Est\, Montréal QC\, H1X 1Z3\, 3920\, Rachel Est\, Montréal\, Québec\, H1X 1Z3\, Canada
CATEGORIES:District 10
END:VEVENT
BEGIN:VEVENT
DTSTART;TZID=America/Toronto:20240611T190000
DTEND;TZID=America/Toronto:20240611T210000
DTSTAMP:20260420T143125
CREATED:20231229T153124Z
LAST-MODIFIED:20231229T153411Z
UID:10006364-1718132400-1718139600@www.aa87.org
SUMMARY:District 18
DESCRIPTION:
URL:https://www.aa87.org/evenement/district-18-2/2024-06-11/
LOCATION:Unity Church – 3455 Girouard in Montreal
CATEGORIES:District 18
ORGANIZER;CN="District 18%2C Verdun%2C Notre-Dame-de-Gr%C3%A2ce":MAILTO:district18@aa87.org
END:VEVENT
BEGIN:VEVENT
DTSTART;TZID=America/Toronto:20240612T190000
DTEND;TZID=America/Toronto:20240612T210000
DTSTAMP:20260420T143125
CREATED:20230104T223256Z
LAST-MODIFIED:20231228T141245Z
UID:10005416-1718218800-1718226000@www.aa87.org
SUMMARY:District 01
DESCRIPTION:Salle 2 \nParticiper à la réunion Zoom \nID de réunion : 918 2068 6211 \nCode secret : 1234
URL:https://www.aa87.org/evenement/district-01/2024-06-12/
LOCATION:BSR / ASO\, 3920\, rue Rachel Est\, Montréal QC\, H1X 1Z3\, 3920\, Rachel Est\, Montréal\, Québec\, H1X 1Z3\, Canada
CATEGORIES:District 01
ORGANIZER;CN="District 1%2C Montr%C3%A9al%2C Outremont%2C C%C3%B4te-des-Neiges":MAILTO:district01@aa87.org
END:VEVENT
BEGIN:VEVENT
DTSTART;TZID=America/Toronto:20240612T190000
DTEND;TZID=America/Toronto:20240612T210000
DTSTAMP:20260420T143125
CREATED:20231217T182237Z
LAST-MODIFIED:20241217T005153Z
UID:10005369-1718218800-1718226000@www.aa87.org
SUMMARY:Comité des technologies
DESCRIPTION:Réunion mensuel d’équipe. \nParticipez à la réunion Teams
URL:https://www.aa87.org/evenement/comite-des-technologies/2024-06-12/
LOCATION:Réunion Virtuelle\, Québec\, Canada
CATEGORIES:Activité / Activity,Comité des Technologies/ Technology Committee,Comités / Committees
END:VEVENT
BEGIN:VEVENT
DTSTART;TZID=America/Toronto:20240612T193000
DTEND;TZID=America/Toronto:20240612T213000
DTSTAMP:20260420T143125
CREATED:20231229T162036Z
LAST-MODIFIED:20231229T162606Z
UID:10006458-1718220600-1718227800@www.aa87.org
SUMMARY:District 22
DESCRIPTION:
URL:https://www.aa87.org/evenement/district-22-2/2024-06-12/
LOCATION:Centre d’action bénévole\, 95\, rue Salaberry\, Salaberry-de-Valleyfield QC\, J6T 2H5\, 95\, rue Salaberry\, Salaberry-de-Valleyfield\, Québec\, J6T 2H5\, Canada
CATEGORIES:Activité / Activity,District 22,District AA87
ORGANIZER;CN="District 22%2C Valleyfield":MAILTO:district22@aa87.org
END:VEVENT
BEGIN:VEVENT
DTSTART;TZID=America/Toronto:20240613T190000
DTEND;TZID=America/Toronto:20240613T210000
DTSTAMP:20260420T143125
CREATED:20231217T170046Z
LAST-MODIFIED:20241203T005350Z
UID:10007221-1718305200-1718312400@www.aa87.org
SUMMARY:Publications
DESCRIPTION:Salle 1\nParticiper à la réunion Zoom \nID de réunion : 944 7943 6712 \nCode secret : 1234
URL:https://www.aa87.org/evenement/publications-2/2024-06-13/
LOCATION:Québec
CATEGORIES:Activité / Activity,Comité des Publications / Publications Committee,Comités / Committees
END:VEVENT
BEGIN:VEVENT
DTSTART;TZID=America/Toronto:20240613T193000
DTEND;TZID=America/Toronto:20240613T210000
DTSTAMP:20260420T143125
CREATED:20240417T211938Z
LAST-MODIFIED:20240417T212253Z
UID:10007466-1718307000-1718312400@www.aa87.org
SUMMARY:Services aux groupes
DESCRIPTION:Salle 3\nParticiper à la réunion Zoom \nID de réunion : 910 8777 9314 \nCode secret : 1234
URL:https://www.aa87.org/evenement/services-aux-groupes-2-2-2/2024-06-13/
LOCATION:Réunion Virtuelle\, Québec\, Canada
CATEGORIES:Activité / Activity,Comités / Committees,Services aux groupes / Group Services
END:VEVENT
BEGIN:VEVENT
DTSTART;TZID=America/Toronto:20240614T190000
DTEND;TZID=America/Toronto:20240614T210000
DTSTAMP:20260420T143125
CREATED:20231229T151943Z
LAST-MODIFIED:20231229T152326Z
UID:10006332-1718391600-1718398800@www.aa87.org
SUMMARY:District 17
DESCRIPTION:
URL:https://www.aa87.org/evenement/district-17-2/2024-06-14/
LOCATION:Église Saint-Claire\, 8615\, rue Saint-Claire\, Montréal QC\, H1L 1Y1\, 8615\, rue Saint-Claire\, Montréal\, Québec\, H1L 1Y1\, Canada
CATEGORIES:Activité / Activity,District 17,District AA87
ORGANIZER;CN="District 17%2C Montr%C3%A9al Est%2C Anjou":MAILTO:district17@aa87.org
END:VEVENT
BEGIN:VEVENT
DTSTART;TZID=America/Toronto:20240615T090000
DTEND;TZID=America/Toronto:20240615T110000
DTSTAMP:20260420T143125
CREATED:20231217T020030Z
LAST-MODIFIED:20241217T221011Z
UID:10004978-1718442000-1718449200@www.aa87.org
SUMMARY:Comité Centres de détention
DESCRIPTION:
URL:https://www.aa87.org/evenement/centres-de-detention-4/2024-06-15/
LOCATION:BSR / ASO\, 3920\, rue Rachel Est\, Montréal QC\, H1X 1Z3\, 3920\, Rachel Est\, Montréal\, Québec\, H1X 1Z3\, Canada
CATEGORIES:Activité / Activity,Centres de détention,Comités / Committees
END:VEVENT
BEGIN:VEVENT
DTSTART;TZID=America/Toronto:20240617T190000
DTEND;TZID=America/Toronto:20240617T210000
DTSTAMP:20260420T143125
CREATED:20231228T141616Z
LAST-MODIFIED:20240806T231019Z
UID:10005446-1718650800-1718658000@www.aa87.org
SUMMARY:District 02
DESCRIPTION:Salle 2 \nParticiper à la réunion Zoom \nID de réunion : 918 2068 6211 \nCode secret : 1234
URL:https://www.aa87.org/evenement/district-02-2/2024-06-17/
LOCATION:BSR / ASO\, 3920\, rue Rachel Est\, Montréal QC\, H1X 1Z3\, 3920\, Rachel Est\, Montréal\, Québec\, H1X 1Z3\, Canada
CATEGORIES:District 02
ORGANIZER;CN="District 2%2C Rosemont%2C St-Michel%2C Villeray":MAILTO:district02@aa87.org
END:VEVENT
BEGIN:VEVENT
DTSTART;TZID=America/Toronto:20240618T193000
DTEND;TZID=America/Toronto:20240618T213000
DTSTAMP:20260420T143125
CREATED:20240206T020553Z
LAST-MODIFIED:20240206T021352Z
UID:10007255-1718739000-1718746200@www.aa87.org
SUMMARY:District 04
DESCRIPTION:
URL:https://www.aa87.org/evenement/district-04-2-2/2024-06-18/
LOCATION:5365\, Marie-Victorin\, Sainte-Catherine QC\, J5C 1L9\, 5365\, Marie-Victorin\, Sainte-Catherine\, Québec\, J5C 1L9\, Canada
CATEGORIES:District 04
ORGANIZER;CN="District 4%2C Laprairie%2C Candiac%2C Ch%C3%A2teauguay":MAILTO:district04@aa87.org
END:VEVENT
BEGIN:VEVENT
DTSTART;TZID=America/Toronto:20240619T190000
DTEND;TZID=America/Toronto:20240619T210000
DTSTAMP:20260420T143125
CREATED:20231217T142332Z
LAST-MODIFIED:20231217T160547Z
UID:10005104-1718823600-1718830800@www.aa87.org
SUMMARY:CMP
DESCRIPTION:Salle 1\nParticiper à la réunion Zoom \nID de réunion : 944 7943 6712 \nCode secret : 1234
URL:https://www.aa87.org/evenement/cmp/2024-06-19/
LOCATION:BSR / ASO\, 3920\, rue Rachel Est\, Montréal QC\, H1X 1Z3\, 3920\, Rachel Est\, Montréal\, Québec\, H1X 1Z3\, Canada
CATEGORIES:Activité / Activity,Comité CMP-CPC Committee,Comités / Committees
END:VEVENT
BEGIN:VEVENT
DTSTART;TZID=America/Toronto:20240620T190000
DTEND;TZID=America/Toronto:20240620T210000
DTSTAMP:20260420T143125
CREATED:20231228T153720Z
LAST-MODIFIED:20231228T154121Z
UID:10005862-1718910000-1718917200@www.aa87.org
SUMMARY:District 06
DESCRIPTION:
URL:https://www.aa87.org/evenement/district-06-2/2024-06-20/
LOCATION:Parish of the Resurrection\, St-Andrew and St-Mark’s Church\, 865 Lakeshore drive\, Dorval\, 865 Lakeshore drive\, Dorval\, Québec\, H9S 2C7\, Canada
CATEGORIES:District 06
ORGANIZER;CN="District 6%2C West Island":MAILTO:district06@aa87.org
END:VEVENT
BEGIN:VEVENT
DTSTART;TZID=America/Toronto:20240620T193000
DTEND;TZID=America/Toronto:20240620T213000
DTSTAMP:20260420T143125
CREATED:20231228T184322Z
LAST-MODIFIED:20231228T184614Z
UID:10006110-1718911800-1718919000@www.aa87.org
SUMMARY:District 11
DESCRIPTION:
URL:https://www.aa87.org/evenement/district-11-2/2024-06-20/
LOCATION:Chalet du Parc Dixie\, 257\, 54e Avenue\, Lachine\, 257\, 54e Avenue\, Lachine\, Québec\, Canada
CATEGORIES:District 11
ORGANIZER;CN="District 11%2C Ouest de l%C3%AEle":MAILTO:district11@aa87.org
END:VEVENT
BEGIN:VEVENT
DTSTART;TZID=America/Toronto:20240620T193000
DTEND;TZID=America/Toronto:20240620T213000
DTSTAMP:20260420T143125
CREATED:20231229T175958Z
LAST-MODIFIED:20240914T135932Z
UID:10006999-1718911800-1718919000@www.aa87.org
SUMMARY:District 27
DESCRIPTION:
URL:https://www.aa87.org/evenement/district-27-2/2024-06-20/
LOCATION:Centre Jean-Marc-Ducharme\, 21 Rue Louise-Joshephte\, Vaudreuil-Dorion\, Qc\, J7V 1B3\, 21 Rue Louise-Joshephte\,\, Vaudreuil-Dorion\, QC\, J7V 1B3\, Canada
CATEGORIES:Activité / Activity,District 27,District AA87
ORGANIZER;CN="District 27%2C Vaudreuil-Dorion":MAILTO:district27@aa87.org
END:VEVENT
BEGIN:VEVENT
DTSTART;TZID=America/Toronto:20240620T193000
DTEND;TZID=America/Toronto:20240620T223000
DTSTAMP:20260420T143125
CREATED:20231229T163708Z
LAST-MODIFIED:20231229T164757Z
UID:10006490-1718911800-1718922600@www.aa87.org
SUMMARY:District 24
DESCRIPTION:
URL:https://www.aa87.org/evenement/reunion-du-district-24-2/2024-06-20/
LOCATION:Chapelle du Séminaire\, (Local L’Étape)\, 1090\, rue Pratte\, St-Hyacinthe\, Québec\, Canada
CATEGORIES:Activité / Activity,District 24,District AA87
ORGANIZER;CN="District 24%2C Maskoutains (St-Hyacinthe)":MAILTO:district24@aa87.org
END:VEVENT
END:VCALENDAR