BEGIN:VCALENDAR
VERSION:2.0
PRODID:-//Alcooliques Anonymes Région 87 - ECPv6.15.17//NONSGML v1.0//EN
CALSCALE:GREGORIAN
METHOD:PUBLISH
X-ORIGINAL-URL:https://www.aa87.org
X-WR-CALDESC:Évènements pour Alcooliques Anonymes Région 87
REFRESH-INTERVAL;VALUE=DURATION:PT1H
X-Robots-Tag:noindex
X-PUBLISHED-TTL:PT1H
BEGIN:VTIMEZONE
TZID:America/Toronto
BEGIN:DAYLIGHT
TZOFFSETFROM:-0500
TZOFFSETTO:-0400
TZNAME:EDT
DTSTART:20230312T070000
END:DAYLIGHT
BEGIN:STANDARD
TZOFFSETFROM:-0400
TZOFFSETTO:-0500
TZNAME:EST
DTSTART:20231105T060000
END:STANDARD
BEGIN:DAYLIGHT
TZOFFSETFROM:-0500
TZOFFSETTO:-0400
TZNAME:EDT
DTSTART:20240310T070000
END:DAYLIGHT
BEGIN:STANDARD
TZOFFSETFROM:-0400
TZOFFSETTO:-0500
TZNAME:EST
DTSTART:20241103T060000
END:STANDARD
BEGIN:DAYLIGHT
TZOFFSETFROM:-0500
TZOFFSETTO:-0400
TZNAME:EDT
DTSTART:20250309T070000
END:DAYLIGHT
BEGIN:STANDARD
TZOFFSETFROM:-0400
TZOFFSETTO:-0500
TZNAME:EST
DTSTART:20251102T060000
END:STANDARD
END:VTIMEZONE
BEGIN:VEVENT
DTSTART;TZID=America/Toronto:20240702T193000
DTEND;TZID=America/Toronto:20240702T213000
DTSTAMP:20260420T130049
CREATED:20231229T155357Z
LAST-MODIFIED:20241217T012449Z
UID:10006427-1719948600-1719955800@www.aa87.org
SUMMARY:Réunion des RSG du District 87-21
DESCRIPTION:
URL:https://www.aa87.org/evenement/district-21-2/2024-07-02/
LOCATION:Église United Church\, 101 Rue Principale\, Granby\, QC\, J2G 2T9\, Canada
CATEGORIES:Activité / Activity,District 21,District AA87
ORGANIZER;CN="District 21%2C Granby%2C Cowansville":MAILTO:district21@aa87.org
END:VEVENT
BEGIN:VEVENT
DTSTART;TZID=America/Toronto:20240704T060000
DTEND;TZID=America/Toronto:20240704T060000
DTSTAMP:20260420T130049
CREATED:20231229T130646Z
LAST-MODIFIED:20241217T113831Z
UID:10012749-1720072800-1720072800@www.aa87.org
SUMMARY:Réunion des RSG du District 87-13
DESCRIPTION:
URL:https://www.aa87.org/evenement/district-13/2024-07-04/
LOCATION:Centre St-Zotique\, 75\, carré Sir Georges-Étienne Cartier\, salle 215\, Montréal QC\, H4C 3A1\, 75\, carré Sir Georges-Étienne Cartier\, salle 215\, Montréal\, Québec\, H4C 3A1\, Canada
CATEGORIES:Activité / Activity,District 13,District AA87
END:VEVENT
BEGIN:VEVENT
DTSTART;TZID=America/Toronto:20240707T130000
DTEND;TZID=America/Toronto:20240707T150000
DTSTAMP:20260420T130049
CREATED:20231217T161936Z
LAST-MODIFIED:20241217T005435Z
UID:10006966-1720357200-1720364400@www.aa87.org
SUMMARY:Correctional Facilities
DESCRIPTION:Salle 1\nParticiper à la réunion Zoom \nID de réunion : 944 7943 6712 \nCode secret : 1234
URL:https://www.aa87.org/evenement/correctional-facilities/2024-07-07/
LOCATION:BSR / ASO\, 3920\, rue Rachel Est\, Montréal QC\, H1X 1Z3\, 3920\, Rachel Est\, Montréal\, Québec\, H1X 1Z3\, Canada
CATEGORIES:Activité / Activity,Comités / Committees,Correctional Facilities Committee
END:VEVENT
BEGIN:VEVENT
DTSTART;TZID=America/Toronto:20240708T190000
DTEND;TZID=America/Toronto:20240708T210000
DTSTAMP:20260420T130049
CREATED:20231217T164214Z
LAST-MODIFIED:20241217T222311Z
UID:10013710-1720465200-1720472400@www.aa87.org
SUMMARY:Helpline Committee
DESCRIPTION:Salle 3\nParticiper à la réunion Zoom \nID de réunion : 910 8777 9314 \nCode secret : 1234
URL:https://www.aa87.org/evenement/helpline/2024-07-08/
LOCATION:Réunion Virtuelle\, Québec\, Canada
CATEGORIES:Activité / Activity,Comités / Committees,Helpline committee
END:VEVENT
BEGIN:VEVENT
DTSTART;TZID=America/Toronto:20240710T193000
DTEND;TZID=America/Toronto:20240710T213000
DTSTAMP:20260420T130049
CREATED:20231229T162036Z
LAST-MODIFIED:20231229T162606Z
UID:10006459-1720639800-1720647000@www.aa87.org
SUMMARY:District 22
DESCRIPTION:
URL:https://www.aa87.org/evenement/district-22-2/2024-07-10/
LOCATION:Centre d’action bénévole\, 95\, rue Salaberry\, Salaberry-de-Valleyfield QC\, J6T 2H5\, 95\, rue Salaberry\, Salaberry-de-Valleyfield\, Québec\, J6T 2H5\, Canada
CATEGORIES:Activité / Activity,District 22,District AA87
ORGANIZER;CN="District 22%2C Valleyfield":MAILTO:district22@aa87.org
END:VEVENT
BEGIN:VEVENT
DTSTART;TZID=America/Toronto:20240711T190000
DTEND;TZID=America/Toronto:20240711T210000
DTSTAMP:20260420T130049
CREATED:20231217T170046Z
LAST-MODIFIED:20241203T005350Z
UID:10007222-1720724400-1720731600@www.aa87.org
SUMMARY:Publications
DESCRIPTION:Salle 1\nParticiper à la réunion Zoom \nID de réunion : 944 7943 6712 \nCode secret : 1234
URL:https://www.aa87.org/evenement/publications-2/2024-07-11/
LOCATION:Québec
CATEGORIES:Activité / Activity,Comité des Publications / Publications Committee,Comités / Committees
END:VEVENT
BEGIN:VEVENT
DTSTART;TZID=America/Toronto:20240711T193000
DTEND;TZID=America/Toronto:20240711T210000
DTSTAMP:20260420T130049
CREATED:20240417T211938Z
LAST-MODIFIED:20240417T212253Z
UID:10007467-1720726200-1720731600@www.aa87.org
SUMMARY:Services aux groupes
DESCRIPTION:Salle 3\nParticiper à la réunion Zoom \nID de réunion : 910 8777 9314 \nCode secret : 1234
URL:https://www.aa87.org/evenement/services-aux-groupes-2-2-2/2024-07-11/
LOCATION:Réunion Virtuelle\, Québec\, Canada
CATEGORIES:Activité / Activity,Comités / Committees,Services aux groupes / Group Services
END:VEVENT
BEGIN:VEVENT
DTSTART;TZID=America/Toronto:20240720T090000
DTEND;TZID=America/Toronto:20240720T110000
DTSTAMP:20260420T130049
CREATED:20231217T020030Z
LAST-MODIFIED:20241217T221011Z
UID:10013499-1721466000-1721473200@www.aa87.org
SUMMARY:Comité Centres de détention
DESCRIPTION:
URL:https://www.aa87.org/evenement/centres-de-detention-4/2024-07-20/
LOCATION:BSR / ASO\, 3920\, rue Rachel Est\, Montréal QC\, H1X 1Z3\, 3920\, Rachel Est\, Montréal\, Québec\, H1X 1Z3\, Canada
CATEGORIES:Activité / Activity,Centres de détention,Comités / Committees
END:VEVENT
END:VCALENDAR