BEGIN:VCALENDAR
VERSION:2.0
PRODID:-//Alcooliques Anonymes Région 87 - ECPv6.15.17//NONSGML v1.0//EN
CALSCALE:GREGORIAN
METHOD:PUBLISH
X-WR-CALNAME:Alcooliques Anonymes Région 87
X-ORIGINAL-URL:https://www.aa87.org
X-WR-CALDESC:Évènements pour Alcooliques Anonymes Région 87
REFRESH-INTERVAL;VALUE=DURATION:PT1H
X-Robots-Tag:noindex
X-PUBLISHED-TTL:PT1H
BEGIN:VTIMEZONE
TZID:America/Toronto
BEGIN:DAYLIGHT
TZOFFSETFROM:-0500
TZOFFSETTO:-0400
TZNAME:EDT
DTSTART:20230312T070000
END:DAYLIGHT
BEGIN:STANDARD
TZOFFSETFROM:-0400
TZOFFSETTO:-0500
TZNAME:EST
DTSTART:20231105T060000
END:STANDARD
BEGIN:DAYLIGHT
TZOFFSETFROM:-0500
TZOFFSETTO:-0400
TZNAME:EDT
DTSTART:20240310T070000
END:DAYLIGHT
BEGIN:STANDARD
TZOFFSETFROM:-0400
TZOFFSETTO:-0500
TZNAME:EST
DTSTART:20241103T060000
END:STANDARD
BEGIN:DAYLIGHT
TZOFFSETFROM:-0500
TZOFFSETTO:-0400
TZNAME:EDT
DTSTART:20250309T070000
END:DAYLIGHT
BEGIN:STANDARD
TZOFFSETFROM:-0400
TZOFFSETTO:-0500
TZNAME:EST
DTSTART:20251102T060000
END:STANDARD
END:VTIMEZONE
BEGIN:VEVENT
DTSTART;TZID=America/Toronto:20241201T130000
DTEND;TZID=America/Toronto:20241201T150000
DTSTAMP:20260420T053007
CREATED:20241217T222708Z
LAST-MODIFIED:20241217T222736Z
UID:10006971-1733058000-1733065200@www.aa87.org
SUMMARY:Correctional Facilities Committee
DESCRIPTION:Réunion mensuelle d’affaires. \nSalle 1 \nParticiper à la réunion Zoom \nID de réunion : 944 7943 6712 \nCode secret : 1234
URL:https://www.aa87.org/evenement/correctional-facilities-3/
LOCATION:BSR / ASO\, 3920\, rue Rachel Est\, Montréal QC\, H1X 1Z3\, 3920\, Rachel Est\, Montréal\, Québec\, H1X 1Z3\, Canada
CATEGORIES:Activité / Activity,Comités / Committees,Correctional Facilities Committee
END:VEVENT
BEGIN:VEVENT
DTSTART;TZID=America/Toronto:20241202T190000
DTEND;TZID=America/Toronto:20241202T210000
DTSTAMP:20260420T053007
CREATED:20241217T005615Z
LAST-MODIFIED:20260302T004538Z
UID:10006401-1733166000-1733173200@www.aa87.org
SUMMARY:Réunion des RSG du District 87-19
DESCRIPTION:Réunion mensuelle hybride. \nSalle 2 \nJoindre la réunion\n \nID de réunion : 918 2068 6211\nCode secret : 1234
URL:https://www.aa87.org/evenement/district-19-2-2/2024-12-02/
LOCATION:BSR / ASO\, 3920\, rue Rachel Est\, Montréal QC\, H1X 1Z3\, 3920\, Rachel Est\, Montréal\, Québec\, H1X 1Z3\, Canada
CATEGORIES:Activité / Activity,District 19
ORGANIZER;CN="District 19%2C Montreal%2C Westmount":MAILTO:district19@aa87.org
END:VEVENT
BEGIN:VEVENT
DTSTART;TZID=America/Toronto:20241202T193000
DTEND;TZID=America/Toronto:20241202T213000
DTSTAMP:20260420T053007
CREATED:20241217T223859Z
LAST-MODIFIED:20251230T165149Z
UID:10006556-1733167800-1733175000@www.aa87.org
SUMMARY:Réunion des RSG du District 87-26
DESCRIPTION:Réunion mensuelle en présence.
URL:https://www.aa87.org/evenement/district-26-2-2/2024-12-02/
LOCATION:École Les Trois Saisons (entrée par l’arrière) 570\, boul. de Mortagne\, Boucherville QC\, J4B 5E4\, 570\, boul. de Mortagne\, Boucherville\, Québec\, J4B 5E4\, Canada
CATEGORIES:Activité / Activity,District 26,District AA87
ORGANIZER;CN="District 26%2C Longueuil%2C Contrec%C5%93ur":MAILTO:district26@aa87.org
END:VEVENT
BEGIN:VEVENT
DTSTART;TZID=America/Toronto:20241203T193000
DTEND;TZID=America/Toronto:20241203T213000
DTSTAMP:20260420T053007
CREATED:20241217T224421Z
LAST-MODIFIED:20260228T232542Z
UID:10006431-1733254200-1733261400@www.aa87.org
SUMMARY:Réunion des RSG du District 87-21
DESCRIPTION:Rencontre mensuelle en présence.
URL:https://www.aa87.org/evenement/district-21-2-2/2024-12-03/
LOCATION:Centre communautaire Richard Goulet\, 170 rue St-Antoine Nord\, Granby\, Québec\, J2G 5G8\, Canada
CATEGORIES:Activité / Activity,District 21,District AA87
ORGANIZER;CN="District 21%2C Granby%2C Cowansville":MAILTO:district21@aa87.org
END:VEVENT
BEGIN:VEVENT
DTSTART;TZID=America/Toronto:20241204T190000
DTEND;TZID=America/Toronto:20241204T210000
DTSTAMP:20260420T053007
CREATED:20231217T165210Z
LAST-MODIFIED:20260303T000857Z
UID:10024999-1733338800-1733346000@www.aa87.org
SUMMARY:Comité de l'Information publique +
DESCRIPTION:Salle 1\nJoindre la réunion\n\n  \nID de réunion : 944 7943 6712\nCode secret : 1234
URL:https://www.aa87.org/evenement/information-publique/2024-12-04/
LOCATION:BSR / ASO\, 3920\, rue Rachel Est\, Montréal QC\, H1X 1Z3\, 3920\, Rachel Est\, Montréal\, Québec\, H1X 1Z3\, Canada
CATEGORIES:Activité / Activity,Comité d’Information Publique,Comités / Committees
END:VEVENT
BEGIN:VEVENT
DTSTART;TZID=America/Toronto:20241204T193000
DTEND;TZID=America/Toronto:20241204T213000
DTSTAMP:20260420T053007
CREATED:20241217T224628Z
LAST-MODIFIED:20241217T225032Z
UID:10008774-1733340600-1733347800@www.aa87.org
SUMMARY:Réunion des RSG du District 87-16
DESCRIPTION:Rencontre mensuelle en présence.
URL:https://www.aa87.org/evenement/district-16-2-2-3/
LOCATION:Centre communautaire\, 53\, rue Rabastalière\, St-Bruno QC\, J3V 1Y7\, 53\, rue Rabastalière\, St-Bruno\, Québec\, J3V 1Y7\, Canada
CATEGORIES:District 16
ORGANIZER;CN="District 16%2C Bel%C5%93il%2C St-Hilaire":MAILTO:district16@aa87.org
END:VEVENT
BEGIN:VEVENT
DTSTART;TZID=America/Toronto:20241205T060000
DTEND;TZID=America/Toronto:20241205T060000
DTSTAMP:20260420T053007
CREATED:20241217T225919Z
LAST-MODIFIED:20241217T225920Z
UID:10008006-1733378400-1733378400@www.aa87.org
SUMMARY:Réunion des RSG du District 87-13
DESCRIPTION:Rencontre mensuelle en présence.
URL:https://www.aa87.org/evenement/district-13-2/2024-12-05/
LOCATION:Centre St-Zotique\, 75\, carré Sir Georges-Étienne Cartier\, salle 215\, Montréal QC\, H4C 3A1\, 75\, carré Sir Georges-Étienne Cartier\, salle 215\, Montréal\, Québec\, H4C 3A1\, Canada
CATEGORIES:Activité / Activity,District 13,District AA87
END:VEVENT
BEGIN:VEVENT
DTSTART;TZID=America/Toronto:20241205T190000
DTEND;TZID=America/Toronto:20241205T210000
DTSTAMP:20260420T053007
CREATED:20241217T174020Z
LAST-MODIFIED:20241217T233325Z
UID:10005800-1733425200-1733432400@www.aa87.org
SUMMARY:Réunion des RSG du District 87-05
DESCRIPTION:Réunion mensuelle sur Zoom. \nParticiper à la réunion Zoom \nID de réunion : 86244183943
URL:https://www.aa87.org/evenement/district-05-2/2024-12-05/
LOCATION:Place à l’emploi\, 125 Chem. du Coteau-Rouge\, Longueuil\, QC J4J 1W7\, Canada
CATEGORIES:Activité / Activity,District 05,District AA87
ORGANIZER;CN="District 5%2C Longueuil%2C St-Lambert":MAILTO:district05@aa87.org
END:VEVENT
BEGIN:VEVENT
DTSTART;TZID=America/Toronto:20241205T193000
DTEND;TZID=America/Toronto:20241205T213000
DTSTAMP:20260420T053007
CREATED:20241217T204941Z
LAST-MODIFIED:20241227T151343Z
UID:10005894-1733427000-1733434200@www.aa87.org
SUMMARY:Réunion des RSG du District 87-07
DESCRIPTION:Réunion mensuelle en présence.
URL:https://www.aa87.org/evenement/district-07-2-2/2024-12-05/
LOCATION:St. Mary’s Church\, 735\, Miller\, Greenfield Park QC\, 735\, Miller\, Greenfield Park\, Québec\, Canada
CATEGORIES:District 07
ORGANIZER;CN="District 7%2C Ch%C3%A2teauguay%2C St-Lambert%2C Valleyfield":MAILTO:district07@aa87.org
END:VEVENT
BEGIN:VEVENT
DTSTART;TZID=America/Toronto:20241205T193000
DTEND;TZID=America/Toronto:20241205T213000
DTSTAMP:20260420T053007
CREATED:20241217T205207Z
LAST-MODIFIED:20241218T013855Z
UID:10009689-1733427000-1733434200@www.aa87.org
SUMMARY:Réunion des RSG du District 87-14
DESCRIPTION:Réunion mensuelle en présence.
URL:https://www.aa87.org/evenement/district-14-2/2024-12-05/
LOCATION:3225 rue Courchesne Sorel-Tracy  Local 210\, 3225 rue Courchesne\, Sorel-Tracy\, QC\, J3R 3A7\, Canada
CATEGORIES:Activité / Activity,District 14,District AA87
ORGANIZER;CN="District 14%2C Sorel%2C Tracy et environs":MAILTO:district14@aa87.org
END:VEVENT
BEGIN:VEVENT
DTSTART;TZID=America/Toronto:20241209T193000
DTEND;TZID=America/Toronto:20241209T213000
DTSTAMP:20260420T053007
CREATED:20241217T205751Z
LAST-MODIFIED:20251230T050629Z
UID:10006243-1733772600-1733779800@www.aa87.org
SUMMARY:Réunion des RSG du District 87-15
DESCRIPTION:Réunion mensuelle en présence.
URL:https://www.aa87.org/evenement/district-15-2-2/2024-12-09/
LOCATION:136-A Jacques-Cartier Nord\, St-Jean-sur-Richelieu\, Québec\, Canada
CATEGORIES:District 15
ORGANIZER;CN="District 15%2C St-Jean-sur-Richelieu":MAILTO:district15@aa87.org
END:VEVENT
BEGIN:VEVENT
DTSTART;TZID=America/Toronto:20241210T190000
DTEND;TZID=America/Toronto:20241210T210000
DTSTAMP:20260420T053007
CREATED:20241218T000243Z
LAST-MODIFIED:20260315T215743Z
UID:10005981-1733857200-1733864400@www.aa87.org
SUMMARY:Réunion des RSG du District 87-10
DESCRIPTION:Réunion mensuelle hybride \nSalle 2 \nJoindre la réunion\n \n  \nID de réunion : 918 2068 6211\nCode secret : 1234
URL:https://www.aa87.org/evenement/district-10-2-2/2024-12-10/
LOCATION:BSR / ASO\, 3920\, rue Rachel Est\, Montréal QC\, H1X 1Z3\, 3920\, Rachel Est\, Montréal\, Québec\, H1X 1Z3\, Canada
CATEGORIES:District 10
END:VEVENT
BEGIN:VEVENT
DTSTART;TZID=America/Toronto:20241210T190000
DTEND;TZID=America/Toronto:20241210T210000
DTSTAMP:20260420T053007
CREATED:20241218T000653Z
LAST-MODIFIED:20251230T152505Z
UID:10006369-1733857200-1733864400@www.aa87.org
SUMMARY:Réunion des RSG du District 87-18
DESCRIPTION:Réunion mensuelle en présence.
URL:https://www.aa87.org/evenement/district-18-2-2/2024-12-10/
LOCATION:Unity Church – 3455 Girouard in Montreal
CATEGORIES:District 18
ORGANIZER;CN="District 18%2C Verdun%2C Notre-Dame-de-Gr%C3%A2ce":MAILTO:district18@aa87.org
END:VEVENT
BEGIN:VEVENT
DTSTART;TZID=America/Toronto:20241211T190000
DTEND;TZID=America/Toronto:20241211T210000
DTSTAMP:20260420T053007
CREATED:20241218T001332Z
LAST-MODIFIED:20260314T112615Z
UID:10005374-1733943600-1733950800@www.aa87.org
SUMMARY:Comité des technologies +
DESCRIPTION:Réunion mensuelle sur Teams. \nJoindre la réunion\n \n  \nID de réunion : 210 078 105 291 \nCode secret : HwMBfV \n 
URL:https://www.aa87.org/evenement/comite-des-technologies-2/2024-12-11/
LOCATION:Réunion virtuelle seulement\, Québec\, Canada
CATEGORIES:Activité / Activity,Comité des Technologies/ Technology Committee,Comités / Committees
END:VEVENT
BEGIN:VEVENT
DTSTART;TZID=America/Toronto:20241211T190000
DTEND;TZID=America/Toronto:20241211T210000
DTSTAMP:20260420T053007
CREATED:20241218T001518Z
LAST-MODIFIED:20260412T212452Z
UID:10008043-1733943600-1733950800@www.aa87.org
SUMMARY:Réunion des RSG du District 87-17
DESCRIPTION:Réunion mensuelle en présence.
URL:https://www.aa87.org/evenement/district-17-2-2-2/2024-12-11/
LOCATION:Chalet Roger Rousseau 7501\, avenue Rondeau\, sous-sol\, Anjou (QC)\, H1K 4Y3\, 7501 avenue Rondeau\, Anjou\, QC\, H1K 4Y3\, Canada
CATEGORIES:Activité / Activity,District 17,District AA87
ORGANIZER;CN="District 17%2C Montr%C3%A9al Est%2C Anjou":MAILTO:district17@aa87.org
END:VEVENT
BEGIN:VEVENT
DTSTART;TZID=America/Toronto:20241214T083000
DTEND;TZID=America/Toronto:20241214T143000
DTSTAMP:20260420T053007
CREATED:20211217T233020Z
LAST-MODIFIED:20241209T013523Z
UID:10002425-1734165000-1734186600@www.aa87.org
SUMMARY:Réunion régionale (Accueil RDR)
DESCRIPTION:Salle 0 \nParticiper à la réunion Zoom \nID de réunion : 984 9889 7228\nCode secret : 1234
URL:https://www.aa87.org/evenement/reunion-regionale-accueil-rdr/
LOCATION:Centre St-Zotique\, 75\, carré Sir Georges-Étienne Cartier\, salle 215\, Montréal QC\, H4C 3A1\, 75\, carré Sir Georges-Étienne Cartier\, salle 215\, Montréal\, Québec\, H4C 3A1\, Canada
CATEGORIES:Accueil RDR,Activité / Activity,Régional
END:VEVENT
BEGIN:VEVENT
DTSTART;TZID=America/Toronto:20241216T190000
DTEND;TZID=America/Toronto:20241216T210000
DTSTAMP:20260420T053007
CREATED:20241218T003040Z
LAST-MODIFIED:20260320T123550Z
UID:10005450-1734375600-1734382800@www.aa87.org
SUMMARY:Réunion des RSG du District 87-02
DESCRIPTION:Réunion mensuelle hybride. \nSalle 2 \nJoindre la réunion\n \n  \nID de réunion : 918 2068 6211 \nCode secret : 1234
URL:https://www.aa87.org/evenement/district-02-2-2/2024-12-16/
LOCATION:BSR / ASO\, 3920\, rue Rachel Est\, Montréal QC\, H1X 1Z3\, 3920\, Rachel Est\, Montréal\, Québec\, H1X 1Z3\, Canada
CATEGORIES:District 02
ORGANIZER;CN="District 2%2C Rosemont%2C St-Michel%2C Villeray":MAILTO:district02@aa87.org
END:VEVENT
BEGIN:VEVENT
DTSTART;TZID=America/Toronto:20241217T193000
DTEND;TZID=America/Toronto:20241217T213000
DTSTAMP:20260420T053007
CREATED:20241217T204749Z
LAST-MODIFIED:20251230T214758Z
UID:10007259-1734463800-1734471000@www.aa87.org
SUMMARY:Réunion des RSG du District 87-04
DESCRIPTION:Réunion mensuelle en présence.
URL:https://www.aa87.org/evenement/district-04-2-2-2/2024-12-17/
LOCATION:5365\, Marie-Victorin\, Sainte-Catherine QC\, J5C 1L9\, 5365\, Marie-Victorin\, Sainte-Catherine\, Québec\, J5C 1L9\, Canada
CATEGORIES:District 04
ORGANIZER;CN="District 4%2C Laprairie%2C Candiac%2C Ch%C3%A2teauguay":MAILTO:district04@aa87.org
END:VEVENT
BEGIN:VEVENT
DTSTART;TZID=America/Toronto:20241218T190000
DTEND;TZID=America/Toronto:20241218T210000
DTSTAMP:20260420T053007
CREATED:20241217T202239Z
LAST-MODIFIED:20260314T121356Z
UID:10005108-1734548400-1734555600@www.aa87.org
SUMMARY:Comité Collaboration avec les milieux professionnels (CMP)
DESCRIPTION:Réunion zoom seulement. \nSalle 1 \nJoindre la réunion\n \n  \nID de réunion : 944 7943 6712 \nCode secret : 1234
URL:https://www.aa87.org/evenement/cmp-2/2024-12-18/
LOCATION:
CATEGORIES:Activité / Activity,Comité CMP-CPC Committee,Comités / Committees
END:VEVENT
BEGIN:VEVENT
DTSTART;TZID=America/Toronto:20241219T193000
DTEND;TZID=America/Toronto:20241219T213000
DTSTAMP:20260420T053007
CREATED:20241217T210519Z
LAST-MODIFIED:20251230T165834Z
UID:10007003-1734636600-1734643800@www.aa87.org
SUMMARY:Réunion des RSG du District 87-27
DESCRIPTION:Réunion mensuelle en présence.
URL:https://www.aa87.org/evenement/district-27-2-2/2024-12-19/
LOCATION:Centre Jean-Marc-Ducharme\, 21 Rue Louise-Joshephte\, Vaudreuil-Dorion\, Qc\, J7V 1B3\, 21 Rue Louise-Joshephte\,\, Vaudreuil-Dorion\, QC\, J7V 1B3\, Canada
CATEGORIES:Activité / Activity,District 27,District AA87
ORGANIZER;CN="District 27%2C Vaudreuil-Dorion":MAILTO:district27@aa87.org
END:VEVENT
BEGIN:VEVENT
DTSTART;TZID=America/Toronto:20241219T193000
DTEND;TZID=America/Toronto:20241219T213000
DTSTAMP:20260420T053007
CREATED:20241217T211720Z
LAST-MODIFIED:20251230T164714Z
UID:10006494-1734636600-1734643800@www.aa87.org
SUMMARY:Réunion des RSG du District 87-24
DESCRIPTION:Réunion mensuelle en présence.
URL:https://www.aa87.org/evenement/reunion-du-district-24-2-2/2024-12-19/
LOCATION:Chapelle du Séminaire\, (Local L’Étape)\, 1090\, rue Pratte\, St-Hyacinthe\, Québec\, Canada
CATEGORIES:Activité / Activity,District 24,District AA87
ORGANIZER;CN="District 24%2C Maskoutains (St-Hyacinthe)":MAILTO:district24@aa87.org
END:VEVENT
BEGIN:VEVENT
DTSTART;TZID=America/Toronto:20241220T190000
DTEND;TZID=America/Toronto:20241220T210000
DTSTAMP:20260420T053007
CREATED:20241217T215311Z
LAST-MODIFIED:20260314T121847Z
UID:10015650-1734721200-1734728400@www.aa87.org
SUMMARY:Réunion des RSG du District 87-08
DESCRIPTION:Réunion mensuelle virtuelle. \nSalle 2 \nJoindre la réunion\n \n  \nID de la réunion : 918 2068 6211 \nCode secret : 1234
URL:https://www.aa87.org/evenement/district-08-2-2/2024-12-20/
LOCATION:
CATEGORIES:Activité / Activity,District 08
ORGANIZER;CN="District 8%2C Montreal%2C Laval%2C Laurentides":MAILTO:district08@aa87.org
END:VEVENT
BEGIN:VEVENT
DTSTART;TZID=America/Toronto:20241221T093000
DTEND;TZID=America/Toronto:20241221T120000
DTSTAMP:20260420T053007
CREATED:20241217T221047Z
LAST-MODIFIED:20250503T034850Z
UID:10021775-1734773400-1734782400@www.aa87.org
SUMMARY:Comité Centres de détention
DESCRIPTION:Réunion chaque deux mois en présence.
URL:https://www.aa87.org/evenement/centres-de-detention-4-2/2024-12-21/
LOCATION:BSR / ASO\, 3920\, rue Rachel Est\, Montréal QC\, H1X 1Z3\, 3920\, Rachel Est\, Montréal\, Québec\, H1X 1Z3\, Canada
CATEGORIES:Activité / Activity,Centres de détention,Comités / Committees
END:VEVENT
END:VCALENDAR