BEGIN:VCALENDAR
VERSION:2.0
PRODID:-//Alcooliques Anonymes Région 87 - ECPv6.15.17//NONSGML v1.0//EN
CALSCALE:GREGORIAN
METHOD:PUBLISH
X-ORIGINAL-URL:https://www.aa87.org
X-WR-CALDESC:Évènements pour Alcooliques Anonymes Région 87
REFRESH-INTERVAL;VALUE=DURATION:PT1H
X-Robots-Tag:noindex
X-PUBLISHED-TTL:PT1H
BEGIN:VTIMEZONE
TZID:America/Toronto
BEGIN:DAYLIGHT
TZOFFSETFROM:-0500
TZOFFSETTO:-0400
TZNAME:EDT
DTSTART:20240310T070000
END:DAYLIGHT
BEGIN:STANDARD
TZOFFSETFROM:-0400
TZOFFSETTO:-0500
TZNAME:EST
DTSTART:20241103T060000
END:STANDARD
BEGIN:DAYLIGHT
TZOFFSETFROM:-0500
TZOFFSETTO:-0400
TZNAME:EDT
DTSTART:20250309T070000
END:DAYLIGHT
BEGIN:STANDARD
TZOFFSETFROM:-0400
TZOFFSETTO:-0500
TZNAME:EST
DTSTART:20251102T060000
END:STANDARD
BEGIN:DAYLIGHT
TZOFFSETFROM:-0500
TZOFFSETTO:-0400
TZNAME:EDT
DTSTART:20260308T070000
END:DAYLIGHT
BEGIN:STANDARD
TZOFFSETFROM:-0400
TZOFFSETTO:-0500
TZNAME:EST
DTSTART:20261101T060000
END:STANDARD
END:VTIMEZONE
BEGIN:VEVENT
DTSTART;TZID=America/Toronto:20250401T193000
DTEND;TZID=America/Toronto:20250401T213000
DTSTAMP:20260419T230526
CREATED:20241217T224421Z
LAST-MODIFIED:20260228T232542Z
UID:10012100-1743535800-1743543000@www.aa87.org
SUMMARY:Réunion des RSG du District 87-21
DESCRIPTION:Rencontre mensuelle en présence.
URL:https://www.aa87.org/evenement/district-21-2-2/2025-04-01/
LOCATION:Centre communautaire Richard Goulet\, 170 rue St-Antoine Nord\, Granby\, Québec\, J2G 5G8\, Canada
CATEGORIES:Activité / Activity,District 21,District AA87
ORGANIZER;CN="District 21%2C Granby%2C Cowansville":MAILTO:district21@aa87.org
END:VEVENT
BEGIN:VEVENT
DTSTART;TZID=America/Toronto:20250402T190000
DTEND;TZID=America/Toronto:20250402T210000
DTSTAMP:20260419T230526
CREATED:20231217T165210Z
LAST-MODIFIED:20260303T000857Z
UID:10025003-1743620400-1743627600@www.aa87.org
SUMMARY:Comité de l'Information publique +
DESCRIPTION:Salle 1\nJoindre la réunion\n\n  \nID de réunion : 944 7943 6712\nCode secret : 1234
URL:https://www.aa87.org/evenement/information-publique/2025-04-02/
LOCATION:BSR / ASO\, 3920\, rue Rachel Est\, Montréal QC\, H1X 1Z3\, 3920\, Rachel Est\, Montréal\, Québec\, H1X 1Z3\, Canada
CATEGORIES:Activité / Activity,Comité d’Information Publique,Comités / Committees
END:VEVENT
BEGIN:VEVENT
DTSTART;TZID=America/Toronto:20250402T193000
DTEND;TZID=America/Toronto:20250402T213000
DTSTAMP:20260419T230526
CREATED:20241218T005737Z
LAST-MODIFIED:20241219T014259Z
UID:10014026-1743622200-1743629400@www.aa87.org
SUMMARY:Réunion des RSG du District 87-16
DESCRIPTION:Rencontre mensuelle en présence.
URL:https://www.aa87.org/evenement/district-16-2-2-3-2/2025-04-02/
LOCATION:Centre communautaire\, 53\, rue Rabastalière\, St-Bruno QC\, J3V 1Y7\, 53\, rue Rabastalière\, St-Bruno\, Québec\, J3V 1Y7\, Canada
CATEGORIES:District 16
ORGANIZER;CN="District 16%2C Bel%C5%93il%2C St-Hilaire":MAILTO:district16@aa87.org
END:VEVENT
BEGIN:VEVENT
DTSTART;TZID=America/Toronto:20250403T190000
DTEND;TZID=America/Toronto:20250403T210000
DTSTAMP:20260419T230526
CREATED:20241217T174020Z
LAST-MODIFIED:20241217T233325Z
UID:10005804-1743706800-1743714000@www.aa87.org
SUMMARY:Réunion des RSG du District 87-05
DESCRIPTION:Réunion mensuelle sur Zoom. \nParticiper à la réunion Zoom \nID de réunion : 86244183943
URL:https://www.aa87.org/evenement/district-05-2/2025-04-03/
LOCATION:Place à l’emploi\, 125 Chem. du Coteau-Rouge\, Longueuil\, QC J4J 1W7\, Canada
CATEGORIES:Activité / Activity,District 05,District AA87
ORGANIZER;CN="District 5%2C Longueuil%2C St-Lambert":MAILTO:district05@aa87.org
END:VEVENT
BEGIN:VEVENT
DTSTART;TZID=America/Toronto:20250403T190000
DTEND;TZID=America/Toronto:20250403T220000
DTSTAMP:20260419T230526
CREATED:20231217T001039Z
LAST-MODIFIED:20251227T153833Z
UID:10017874-1743706800-1743717600@www.aa87.org
SUMMARY:Comité de direction
DESCRIPTION:Salle 4
URL:https://www.aa87.org/evenement/comite-de-direction-3/2025-04-03/
LOCATION:Réunion Virtuelle\, Québec\, Canada
CATEGORIES:Comité de direction/Steering Committee
END:VEVENT
BEGIN:VEVENT
DTSTART;TZID=America/Toronto:20250403T193000
DTEND;TZID=America/Toronto:20250403T213000
DTSTAMP:20260419T230526
CREATED:20241217T204941Z
LAST-MODIFIED:20241227T151343Z
UID:10014145-1743708600-1743715800@www.aa87.org
SUMMARY:Réunion des RSG du District 87-07
DESCRIPTION:Réunion mensuelle en présence.
URL:https://www.aa87.org/evenement/district-07-2-2/2025-04-03/
LOCATION:St. Mary’s Church\, 735\, Miller\, Greenfield Park QC\, 735\, Miller\, Greenfield Park\, Québec\, Canada
CATEGORIES:District 07
ORGANIZER;CN="District 7%2C Ch%C3%A2teauguay%2C St-Lambert%2C Valleyfield":MAILTO:district07@aa87.org
END:VEVENT
BEGIN:VEVENT
DTSTART;TZID=America/Toronto:20250403T193000
DTEND;TZID=America/Toronto:20250403T213000
DTSTAMP:20260419T230526
CREATED:20241217T205207Z
LAST-MODIFIED:20241218T013855Z
UID:10014205-1743708600-1743715800@www.aa87.org
SUMMARY:Réunion des RSG du District 87-14
DESCRIPTION:Réunion mensuelle en présence.
URL:https://www.aa87.org/evenement/district-14-2/2025-04-03/
LOCATION:3225 rue Courchesne Sorel-Tracy  Local 210\, 3225 rue Courchesne\, Sorel-Tracy\, QC\, J3R 3A7\, Canada
CATEGORIES:Activité / Activity,District 14,District AA87
ORGANIZER;CN="District 14%2C Sorel%2C Tracy et environs":MAILTO:district14@aa87.org
END:VEVENT
BEGIN:VEVENT
DTSTART;TZID=America/Toronto:20250407T060000
DTEND;TZID=America/Toronto:20250407T060000
DTSTAMP:20260419T230526
CREATED:20250205T002249Z
LAST-MODIFIED:20251229T223501Z
UID:10019214-1744005600-1744005600@www.aa87.org
SUMMARY:Réunion des RSG du District 87-13
DESCRIPTION:Rencontre mensuelle en présence.
URL:https://www.aa87.org/evenement/district-13-2-2/2025-04-07/
LOCATION:Centre St-Zotique\, 75\, carré Sir Georges-Étienne Cartier\, salle 215\, Montréal QC\, H4C 3A1\, 75\, carré Sir Georges-Étienne Cartier\, salle 215\, Montréal\, Québec\, H4C 3A1\, Canada
CATEGORIES:Activité / Activity,District 13,District AA87
END:VEVENT
BEGIN:VEVENT
DTSTART;TZID=America/Toronto:20250407T190000
DTEND;TZID=America/Toronto:20250407T210000
DTSTAMP:20260419T230526
CREATED:20241217T005615Z
LAST-MODIFIED:20260302T004538Z
UID:10013966-1744052400-1744059600@www.aa87.org
SUMMARY:Réunion des RSG du District 87-19
DESCRIPTION:Réunion mensuelle hybride. \nSalle 2 \nJoindre la réunion\n \nID de réunion : 918 2068 6211\nCode secret : 1234
URL:https://www.aa87.org/evenement/district-19-2-2/2025-04-07/
LOCATION:BSR / ASO\, 3920\, rue Rachel Est\, Montréal QC\, H1X 1Z3\, 3920\, Rachel Est\, Montréal\, Québec\, H1X 1Z3\, Canada
CATEGORIES:Activité / Activity,District 19
ORGANIZER;CN="District 19%2C Montreal%2C Westmount":MAILTO:district19@aa87.org
END:VEVENT
BEGIN:VEVENT
DTSTART;TZID=America/Toronto:20250407T193000
DTEND;TZID=America/Toronto:20250407T213000
DTSTAMP:20260419T230526
CREATED:20241217T223859Z
LAST-MODIFIED:20251230T165149Z
UID:10011449-1744054200-1744061400@www.aa87.org
SUMMARY:Réunion des RSG du District 87-26
DESCRIPTION:Réunion mensuelle en présence.
URL:https://www.aa87.org/evenement/district-26-2-2/2025-04-07/
LOCATION:École Les Trois Saisons (entrée par l’arrière) 570\, boul. de Mortagne\, Boucherville QC\, J4B 5E4\, 570\, boul. de Mortagne\, Boucherville\, Québec\, J4B 5E4\, Canada
CATEGORIES:Activité / Activity,District 26,District AA87
ORGANIZER;CN="District 26%2C Longueuil%2C Contrec%C5%93ur":MAILTO:district26@aa87.org
END:VEVENT
BEGIN:VEVENT
DTSTART;TZID=America/Toronto:20250408T190000
DTEND;TZID=America/Toronto:20250408T210000
DTSTAMP:20260419T230526
CREATED:20241218T000653Z
LAST-MODIFIED:20251230T152505Z
UID:10014323-1744138800-1744146000@www.aa87.org
SUMMARY:Réunion des RSG du District 87-18
DESCRIPTION:Réunion mensuelle en présence.
URL:https://www.aa87.org/evenement/district-18-2-2/2025-04-08/
LOCATION:Unity Church – 3455 Girouard in Montreal
CATEGORIES:District 18
ORGANIZER;CN="District 18%2C Verdun%2C Notre-Dame-de-Gr%C3%A2ce":MAILTO:district18@aa87.org
END:VEVENT
BEGIN:VEVENT
DTSTART;TZID=America/Toronto:20250409T190000
DTEND;TZID=America/Toronto:20250409T210000
DTSTAMP:20260419T230526
CREATED:20241218T001332Z
LAST-MODIFIED:20260314T112615Z
UID:10010876-1744225200-1744232400@www.aa87.org
SUMMARY:Comité des technologies +
DESCRIPTION:Réunion mensuelle sur Teams. \nJoindre la réunion\n \n  \nID de réunion : 210 078 105 291 \nCode secret : HwMBfV \n 
URL:https://www.aa87.org/evenement/comite-des-technologies-2/2025-04-09/
LOCATION:Réunion virtuelle seulement\, Québec\, Canada
CATEGORIES:Activité / Activity,Comité des Technologies/ Technology Committee,Comités / Committees
END:VEVENT
BEGIN:VEVENT
DTSTART;TZID=America/Toronto:20250409T190000
DTEND;TZID=America/Toronto:20250409T210000
DTSTAMP:20260419T230526
CREATED:20241218T001518Z
LAST-MODIFIED:20260412T212452Z
UID:10014829-1744225200-1744232400@www.aa87.org
SUMMARY:Réunion des RSG du District 87-17
DESCRIPTION:Réunion mensuelle en présence.
URL:https://www.aa87.org/evenement/district-17-2-2-2/2025-04-09/
LOCATION:Chalet Roger Rousseau 7501\, avenue Rondeau\, sous-sol\, Anjou (QC)\, H1K 4Y3\, 7501 avenue Rondeau\, Anjou\, QC\, H1K 4Y3\, Canada
CATEGORIES:Activité / Activity,District 17,District AA87
ORGANIZER;CN="District 17%2C Montr%C3%A9al Est%2C Anjou":MAILTO:district17@aa87.org
END:VEVENT
BEGIN:VEVENT
DTSTART;TZID=America/Toronto:20250410T190000
DTEND;TZID=America/Toronto:20250410T210000
DTSTAMP:20260419T230526
CREATED:20241218T000243Z
LAST-MODIFIED:20260315T215743Z
UID:10040096-1744311600-1744318800@www.aa87.org
SUMMARY:Réunion des RSG du District 87-10
DESCRIPTION:Réunion mensuelle hybride \nSalle 2 \nJoindre la réunion\n \n  \nID de réunion : 918 2068 6211\nCode secret : 1234
URL:https://www.aa87.org/evenement/district-10-2-2/2025-04-10/
LOCATION:BSR / ASO\, 3920\, rue Rachel Est\, Montréal QC\, H1X 1Z3\, 3920\, Rachel Est\, Montréal\, Québec\, H1X 1Z3\, Canada
CATEGORIES:District 10
END:VEVENT
BEGIN:VEVENT
DTSTART;TZID=America/Toronto:20250410T190000
DTEND;TZID=America/Toronto:20250410T210000
DTSTAMP:20260419T230526
CREATED:20250122T232304Z
LAST-MODIFIED:20260314T014249Z
UID:10018553-1744311600-1744318800@www.aa87.org
SUMMARY:Réunion mensuelle du congres AA de la rive sud
DESCRIPTION:Préparation du comité du congres de la rive-sud\nJoindre la réunion\n\nID de le réunion : 81677227760\nCode secret: \nVoir l’annonce \n\n\n\n\nCongrès de la Rive Sud\nRejoignez-nous à notre événement! \n\n\n\nVoir les détails du congrès\n \n\n 
URL:https://www.aa87.org/evenement/district-05-3/2025-04-10/
LOCATION:125 Coteau Rouge Longueuil\, Québec J4J 1W7 Canada\, 125 Coteau Rouge\, Longueuil\, QC\, J4J 1W7\, Canada
CATEGORIES:District 05
ORGANIZER;CN="District 5%2C Longueuil%2C St-Lambert":MAILTO:district05@aa87.org
END:VEVENT
BEGIN:VEVENT
DTSTART;TZID=America/Toronto:20250413T100000
DTEND;TZID=America/Toronto:20250413T130000
DTSTAMP:20260419T230526
CREATED:20250316T131803Z
LAST-MODIFIED:20250316T131803Z
UID:10020970-1744538400-1744549200@www.aa87.org
SUMMARY:Brunch annuel du comité des Archives
DESCRIPTION:Réunion hybride \nLe comité des Archives de la région 87 vous invite sur place et en Zoom à sa réunion ouverte annuelle. \nVoir l’annonce
URL:https://www.aa87.org/evenement/brunch-annuel-du-comite-des-archives/
LOCATION:BSR / ASO\, 3920\, rue Rachel Est\, Montréal QC\, H1X 1Z3\, 3920\, Rachel Est\, Montréal\, Québec\, H1X 1Z3\, Canada
CATEGORIES:Comité des Archives,Comités / Committees
END:VEVENT
BEGIN:VEVENT
DTSTART;TZID=America/Toronto:20250414T193000
DTEND;TZID=America/Toronto:20250414T213000
DTSTAMP:20260419T230526
CREATED:20241217T205751Z
LAST-MODIFIED:20251230T050629Z
UID:10013906-1744659000-1744666200@www.aa87.org
SUMMARY:Réunion des RSG du District 87-15
DESCRIPTION:Réunion mensuelle en présence.
URL:https://www.aa87.org/evenement/district-15-2-2/2025-04-14/
LOCATION:136-A Jacques-Cartier Nord\, St-Jean-sur-Richelieu\, Québec\, Canada
CATEGORIES:District 15
ORGANIZER;CN="District 15%2C St-Jean-sur-Richelieu":MAILTO:district15@aa87.org
END:VEVENT
BEGIN:VEVENT
DTSTART;TZID=America/Toronto:20250415T193000
DTEND;TZID=America/Toronto:20250415T213000
DTSTAMP:20260419T230526
CREATED:20241217T204749Z
LAST-MODIFIED:20251230T214758Z
UID:10014429-1744745400-1744752600@www.aa87.org
SUMMARY:Réunion des RSG du District 87-04
DESCRIPTION:Réunion mensuelle en présence.
URL:https://www.aa87.org/evenement/district-04-2-2-2/2025-04-15/
LOCATION:5365\, Marie-Victorin\, Sainte-Catherine QC\, J5C 1L9\, 5365\, Marie-Victorin\, Sainte-Catherine\, Québec\, J5C 1L9\, Canada
CATEGORIES:District 04
ORGANIZER;CN="District 4%2C Laprairie%2C Candiac%2C Ch%C3%A2teauguay":MAILTO:district04@aa87.org
END:VEVENT
BEGIN:VEVENT
DTSTART;TZID=America/Toronto:20250416T190000
DTEND;TZID=America/Toronto:20250416T210000
DTSTAMP:20260419T230526
CREATED:20241217T202239Z
LAST-MODIFIED:20260314T121356Z
UID:10014486-1744830000-1744837200@www.aa87.org
SUMMARY:Comité Collaboration avec les milieux professionnels (CMP)
DESCRIPTION:Réunion zoom seulement. \nSalle 1 \nJoindre la réunion\n \n  \nID de réunion : 944 7943 6712 \nCode secret : 1234
URL:https://www.aa87.org/evenement/cmp-2/2025-04-16/
LOCATION:
CATEGORIES:Activité / Activity,Comité CMP-CPC Committee,Comités / Committees
END:VEVENT
BEGIN:VEVENT
DTSTART;TZID=America/Toronto:20250417T193000
DTEND;TZID=America/Toronto:20250417T213000
DTSTAMP:20260419T230526
CREATED:20241217T210519Z
LAST-MODIFIED:20251230T165834Z
UID:10014657-1744918200-1744925400@www.aa87.org
SUMMARY:Réunion des RSG du District 87-27
DESCRIPTION:Réunion mensuelle en présence.
URL:https://www.aa87.org/evenement/district-27-2-2/2025-04-17/
LOCATION:Centre Jean-Marc-Ducharme\, 21 Rue Louise-Joshephte\, Vaudreuil-Dorion\, Qc\, J7V 1B3\, 21 Rue Louise-Joshephte\,\, Vaudreuil-Dorion\, QC\, J7V 1B3\, Canada
CATEGORIES:Activité / Activity,District 27,District AA87
ORGANIZER;CN="District 27%2C Vaudreuil-Dorion":MAILTO:district27@aa87.org
END:VEVENT
BEGIN:VEVENT
DTSTART;TZID=America/Toronto:20250417T193000
DTEND;TZID=America/Toronto:20250417T213000
DTSTAMP:20260419T230526
CREATED:20241217T211720Z
LAST-MODIFIED:20251230T164714Z
UID:10013264-1744918200-1744925400@www.aa87.org
SUMMARY:Réunion des RSG du District 87-24
DESCRIPTION:Réunion mensuelle en présence.
URL:https://www.aa87.org/evenement/reunion-du-district-24-2-2/2025-04-17/
LOCATION:Chapelle du Séminaire\, (Local L’Étape)\, 1090\, rue Pratte\, St-Hyacinthe\, Québec\, Canada
CATEGORIES:Activité / Activity,District 24,District AA87
ORGANIZER;CN="District 24%2C Maskoutains (St-Hyacinthe)":MAILTO:district24@aa87.org
END:VEVENT
BEGIN:VEVENT
DTSTART;TZID=America/Toronto:20250418T190000
DTEND;TZID=America/Toronto:20250418T210000
DTSTAMP:20260419T230526
CREATED:20241217T215311Z
LAST-MODIFIED:20260314T121847Z
UID:10015654-1745002800-1745010000@www.aa87.org
SUMMARY:Réunion des RSG du District 87-08
DESCRIPTION:Réunion mensuelle virtuelle. \nSalle 2 \nJoindre la réunion\n \n  \nID de la réunion : 918 2068 6211 \nCode secret : 1234
URL:https://www.aa87.org/evenement/district-08-2-2/2025-04-18/
LOCATION:
CATEGORIES:Activité / Activity,District 08
ORGANIZER;CN="District 8%2C Montreal%2C Laval%2C Laurentides":MAILTO:district08@aa87.org
END:VEVENT
BEGIN:VEVENT
DTSTART;TZID=America/Toronto:20250419T093000
DTEND;TZID=America/Toronto:20250419T120000
DTSTAMP:20260419T230526
CREATED:20241217T221047Z
LAST-MODIFIED:20250503T034850Z
UID:10021777-1745055000-1745064000@www.aa87.org
SUMMARY:Comité Centres de détention
DESCRIPTION:Réunion chaque deux mois en présence.
URL:https://www.aa87.org/evenement/centres-de-detention-4-2/2025-04-19/
LOCATION:BSR / ASO\, 3920\, rue Rachel Est\, Montréal QC\, H1X 1Z3\, 3920\, Rachel Est\, Montréal\, Québec\, H1X 1Z3\, Canada
CATEGORIES:Activité / Activity,Centres de détention,Comités / Committees
END:VEVENT
BEGIN:VEVENT
DTSTART;TZID=America/Toronto:20250421T190000
DTEND;TZID=America/Toronto:20250421T210000
DTSTAMP:20260419T230526
CREATED:20241218T003040Z
LAST-MODIFIED:20260320T123550Z
UID:10005454-1745262000-1745269200@www.aa87.org
SUMMARY:Réunion des RSG du District 87-02
DESCRIPTION:Réunion mensuelle hybride. \nSalle 2 \nJoindre la réunion\n \n  \nID de réunion : 918 2068 6211 \nCode secret : 1234
URL:https://www.aa87.org/evenement/district-02-2-2/2025-04-21/
LOCATION:BSR / ASO\, 3920\, rue Rachel Est\, Montréal QC\, H1X 1Z3\, 3920\, Rachel Est\, Montréal\, Québec\, H1X 1Z3\, Canada
CATEGORIES:District 02
ORGANIZER;CN="District 2%2C Rosemont%2C St-Michel%2C Villeray":MAILTO:district02@aa87.org
END:VEVENT
BEGIN:VEVENT
DTSTART;TZID=America/Toronto:20250422T190000
DTEND;TZID=America/Toronto:20250422T210000
DTSTAMP:20260419T230526
CREATED:20241218T124818Z
LAST-MODIFIED:20260315T222718Z
UID:10015065-1745348400-1745355600@www.aa87.org
SUMMARY:Comité Aide téléphonique
DESCRIPTION:Rencontre mensuelle hybride. \nSalle 1 \nJoindre la réunion\n \n  \nID de réunion : 944 7943 6712\nCode secret : 1234
URL:https://www.aa87.org/evenement/comite-aide-telephonique/2025-04-22/
LOCATION:BSR / ASO\, 3920\, rue Rachel Est\, Montréal QC\, H1X 1Z3\, 3920\, Rachel Est\, Montréal\, Québec\, H1X 1Z3\, Canada
CATEGORIES:Comités / Committees
END:VEVENT
BEGIN:VEVENT
DTSTART;TZID=America/Toronto:20250423T190000
DTEND;TZID=America/Toronto:20250423T210000
DTSTAMP:20260419T230526
CREATED:20250128T233245Z
LAST-MODIFIED:20260314T155731Z
UID:10018825-1745434800-1745442000@www.aa87.org
SUMMARY:Comité d’info publique du District 87-02
DESCRIPTION:Salle 5 \nJoindre la réunion\n \n  \nID de réunion : 924 7313 7786\nCode secret: 1234
URL:https://www.aa87.org/evenement/infopubliquedistrict-87-02/2025-04-23/
LOCATION:
CATEGORIES:District 02,District AA87
ORGANIZER;CN="District 2%2C Rosemont%2C St-Michel%2C Villeray":MAILTO:district02@aa87.org
END:VEVENT
BEGIN:VEVENT
DTSTART;TZID=America/Toronto:20250424T190000
DTEND;TZID=America/Toronto:20250424T220000
DTSTAMP:20260419T230526
CREATED:20250111T185817Z
LAST-MODIFIED:20260314T111742Z
UID:10017757-1745521200-1745532000@www.aa87.org
SUMMARY:Comité de Direction
DESCRIPTION:Hybride\nSalle 4\nJoindre la réunion\n\n 
URL:https://www.aa87.org/evenement/comite-de-direction/2025-04-24/
LOCATION:BSR / ASO\, 3920\, rue Rachel Est\, Montréal QC\, H1X 1Z3\, 3920\, Rachel Est\, Montréal\, Québec\, H1X 1Z3\, Canada
CATEGORIES:Comité de direction/Steering Committee
END:VEVENT
BEGIN:VEVENT
DTSTART;TZID=America/Toronto:20250428T190000
DTEND;TZID=America/Toronto:20250428T210000
DTSTAMP:20260419T230526
CREATED:20241219T011436Z
LAST-MODIFIED:20250416T212830Z
UID:10021426-1745866800-1745874000@www.aa87.org
SUMMARY:Réunion des Coordonnateurs
DESCRIPTION:Salle 1. \nParticiper à la réunion Zoom \nhttps://zoom.us/j/94479436712?pwd=c2oyWkxyenVDcDNaRzhQV1U2eWxndz09
URL:https://www.aa87.org/evenement/reunion-des-coordonnateurs-3/2025-04-28/
LOCATION:
CATEGORIES:Comités / Committees,Réunion des coordonateurs Coordinator’s Meetings
END:VEVENT
BEGIN:VEVENT
DTSTART;TZID=America/Toronto:20250430T183000
DTEND;TZID=America/Toronto:20250430T203000
DTSTAMP:20260419T230526
CREATED:20250317T000203Z
LAST-MODIFIED:20250317T000203Z
UID:10020971-1746037800-1746045000@www.aa87.org
SUMMARY:Helpline Phone Workers Gratitude Event ( anglais )
DESCRIPTION:English Helpline Committee welcomes you!\nSpeaker\, spaghetti\, potluck\, cake and lots of Fellowship !\n1335\, chemin du Bord-du-Lac-Lakeshore (Sarto-Desnoyers Community Center)\nDorval\, Québec H9S 2E5\nCanada\nMap It
URL:https://www.aa87.org/evenement/helpline-phone-workers-gratitude-event-anglais/
LOCATION:Sarto-Desnoyers Community Center\, 1335\, chemin du Bord-du-Lac-Lakeshore\, Dorval\, Québec\, H9S 2E5\, Canada
CATEGORIES:Comité d’Aide télephonique
END:VEVENT
END:VCALENDAR