BEGIN:VCALENDAR
VERSION:2.0
PRODID:-//Alcooliques Anonymes Région 87 - ECPv6.15.17//NONSGML v1.0//EN
CALSCALE:GREGORIAN
METHOD:PUBLISH
X-ORIGINAL-URL:https://www.aa87.org
X-WR-CALDESC:Évènements pour Alcooliques Anonymes Région 87
REFRESH-INTERVAL;VALUE=DURATION:PT1H
X-Robots-Tag:noindex
X-PUBLISHED-TTL:PT1H
BEGIN:VTIMEZONE
TZID:America/Toronto
BEGIN:DAYLIGHT
TZOFFSETFROM:-0500
TZOFFSETTO:-0400
TZNAME:EDT
DTSTART:20250309T070000
END:DAYLIGHT
BEGIN:STANDARD
TZOFFSETFROM:-0400
TZOFFSETTO:-0500
TZNAME:EST
DTSTART:20251102T060000
END:STANDARD
BEGIN:DAYLIGHT
TZOFFSETFROM:-0500
TZOFFSETTO:-0400
TZNAME:EDT
DTSTART:20260308T070000
END:DAYLIGHT
BEGIN:STANDARD
TZOFFSETFROM:-0400
TZOFFSETTO:-0500
TZNAME:EST
DTSTART:20261101T060000
END:STANDARD
BEGIN:DAYLIGHT
TZOFFSETFROM:-0500
TZOFFSETTO:-0400
TZNAME:EDT
DTSTART:20270314T070000
END:DAYLIGHT
BEGIN:STANDARD
TZOFFSETFROM:-0400
TZOFFSETTO:-0500
TZNAME:EST
DTSTART:20271107T060000
END:STANDARD
END:VTIMEZONE
BEGIN:VEVENT
DTSTART;TZID=America/Toronto:20260304T190000
DTEND;TZID=America/Toronto:20260304T210000
DTSTAMP:20260421T161733
CREATED:20231217T165210Z
LAST-MODIFIED:20260303T000857Z
UID:10025013-1772650800-1772658000@www.aa87.org
SUMMARY:Comité de l'Information publique +
DESCRIPTION:Salle 1\nJoindre la réunion\n\n  \nID de réunion : 944 7943 6712\nCode secret : 1234
URL:https://www.aa87.org/evenement/information-publique/2026-03-04/
LOCATION:BSR / ASO\, 3920\, rue Rachel Est\, Montréal QC\, H1X 1Z3\, 3920\, Rachel Est\, Montréal\, Québec\, H1X 1Z3\, Canada
CATEGORIES:Activité / Activity,Comité d’Information Publique,Comités / Committees
END:VEVENT
BEGIN:VEVENT
DTSTART;TZID=America/Toronto:20260305T190000
DTEND;TZID=America/Toronto:20260305T220000
DTSTAMP:20260421T161733
CREATED:20251227T154306Z
LAST-MODIFIED:20260313T173521Z
UID:10017884-1772737200-1772748000@www.aa87.org
SUMMARY:Comité de direction
DESCRIPTION:Hybride\nSalle 4\nJoindre la réunion\n\n 
URL:https://www.aa87.org/evenement/comite-de-direction-3-2/2026-03-05/
LOCATION:BSR / ASO\, 3920\, rue Rachel Est\, Montréal QC\, H1X 1Z3\, 3920\, Rachel Est\, Montréal\, Québec\, H1X 1Z3\, Canada
CATEGORIES:Comité de direction/Steering Committee,Comités / Committees
END:VEVENT
BEGIN:VEVENT
DTSTART;TZID=America/Toronto:20260307T090000
DTEND;TZID=America/Toronto:20260307T160000
DTSTAMP:20260421T161733
CREATED:20260130T212441Z
LAST-MODIFIED:20260225T180543Z
UID:10037452-1772874000-1772899200@www.aa87.org
SUMMARY:Séminaire sur la Structure des A.A.
DESCRIPTION:Séminaire en français. Format hybride. \nBureau des services de la Région 87\n3920 rue Rachel Ouest\nMontréal\, QC\, H1X 1Z3 \nSalle 3. \n\nJoindre la réunion\n\n  \nPrésentation d’une vision approfondie des volets Unité et Service de notre Mode de Vie. \nVoir l’annonce
URL:https://www.aa87.org/evenement/seminaire-sur-la-structure-des-a-a/
LOCATION:BSR / ASO\, 3920\, rue Rachel Est\, Montréal QC\, H1X 1Z3\, 3920\, Rachel Est\, Montréal\, Québec\, H1X 1Z3\, Canada
CATEGORIES:Activité / Activity,Comités / Committees,Services aux groupes / Group Services
END:VEVENT
BEGIN:VEVENT
DTSTART;TZID=America/Toronto:20260311T190000
DTEND;TZID=America/Toronto:20260311T210000
DTSTAMP:20260421T161733
CREATED:20241218T001332Z
LAST-MODIFIED:20260314T112615Z
UID:10010887-1773255600-1773262800@www.aa87.org
SUMMARY:Comité des technologies +
DESCRIPTION:Réunion mensuelle sur Teams. \nJoindre la réunion\n \n  \nID de réunion : 210 078 105 291 \nCode secret : HwMBfV \n 
URL:https://www.aa87.org/evenement/comite-des-technologies-2/2026-03-11/
LOCATION:Réunion virtuelle seulement\, Québec\, Canada
CATEGORIES:Activité / Activity,Comité des Technologies/ Technology Committee,Comités / Committees
END:VEVENT
BEGIN:VEVENT
DTSTART;TZID=America/Toronto:20260312T193000
DTEND;TZID=America/Toronto:20260312T210000
DTSTAMP:20260421T161733
CREATED:20251227T174400Z
LAST-MODIFIED:20260314T014619Z
UID:10036860-1773343800-1773349200@www.aa87.org
SUMMARY:Comité Services aux groupes
DESCRIPTION:Réunion mensuelle virtuelle seulement. 2 jeudi. \nSalle 3 \nJoindre la réunion\n \nID de le réunion : 91087779314\nCode secret: 1234
URL:https://www.aa87.org/evenement/comite-services-aux-groupes-2/2026-03-12/
LOCATION:
CATEGORIES:Comités / Committees
END:VEVENT
BEGIN:VEVENT
DTSTART;TZID=America/Toronto:20260318T190000
DTEND;TZID=America/Toronto:20260318T210000
DTSTAMP:20260421T161733
CREATED:20241217T202239Z
LAST-MODIFIED:20260314T121356Z
UID:10014495-1773860400-1773867600@www.aa87.org
SUMMARY:Comité Collaboration avec les milieux professionnels (CMP)
DESCRIPTION:Réunion zoom seulement. \nSalle 1 \nJoindre la réunion\n \n  \nID de réunion : 944 7943 6712 \nCode secret : 1234
URL:https://www.aa87.org/evenement/cmp-2/2026-03-18/
LOCATION:
CATEGORIES:Activité / Activity,Comité CMP-CPC Committee,Comités / Committees
END:VEVENT
BEGIN:VEVENT
DTSTART;TZID=America/Toronto:20260318T190000
DTEND;TZID=America/Toronto:20260318T210000
DTSTAMP:20260421T161733
CREATED:20260207T134530Z
LAST-MODIFIED:20260220T181748Z
UID:10038358-1773860400-1773867600@www.aa87.org
SUMMARY:Journée des Centres de détention
DESCRIPTION:Réunion chaque troisième mercredi du mois en présence.
URL:https://www.aa87.org/evenement/centres-de-detention-4-2-2/2026-03-18/
LOCATION:BSR / ASO\, 3920\, rue Rachel Est\, Montréal QC\, H1X 1Z3\, 3920\, Rachel Est\, Montréal\, Québec\, H1X 1Z3\, Canada
CATEGORIES:Activité / Activity,Centres de détention,Comités / Committees
END:VEVENT
BEGIN:VEVENT
DTSTART;TZID=America/Toronto:20260321T090000
DTEND;TZID=America/Toronto:20260321T160000
DTSTAMP:20260421T161733
CREATED:20260130T213742Z
LAST-MODIFIED:20260320T201233Z
UID:10037455-1774083600-1774108800@www.aa87.org
SUMMARY:Séminaire sur la structure des AA ( anglais )
DESCRIPTION:Le Comité de Services aux Groupes\nVous invite à son prochain séminaire en anglais sur la structure des AA\nHybride \nBureau de service de la Région 87\n3920\, rue Rachel Est\nMontréal (Québec) H1X 1Z3\nMapIt \nJoindre la réunion\n\n  \nID de la réunion : 910 8777 9314 \nCode secret : 1234 \nÀ l’ordre du jour : histoire des AA ; structure et fonctionnement des groupes ;\nZone 87 ; aperçu de nos principes d’unité et de service (Traditions et Concepts). \n« Apprenez-en davantage sur les principes spirituels qui nous régissent et les structures qui nous servent. » \nPour participer\, inscrivez-vous en appelant le RSO (messagerie vocale)\, poste 3 . \nVoir l’annonce \n 
URL:https://www.aa87.org/evenement/seminaire-sur-la-structure-des-aa-anglais/
LOCATION:BSR / ASO\, 3920\, rue Rachel Est\, Montréal QC\, H1X 1Z3\, 3920\, Rachel Est\, Montréal\, Québec\, H1X 1Z3\, Canada
CATEGORIES:Activité / Activity,Comités / Committees,Services aux groupes / Group Services
END:VEVENT
BEGIN:VEVENT
DTSTART;TZID=America/Toronto:20260324T190000
DTEND;TZID=America/Toronto:20260324T210000
DTSTAMP:20260421T161733
CREATED:20241218T124818Z
LAST-MODIFIED:20260315T222718Z
UID:10015074-1774378800-1774386000@www.aa87.org
SUMMARY:Comité Aide téléphonique
DESCRIPTION:Rencontre mensuelle hybride. \nSalle 1 \nJoindre la réunion\n \n  \nID de réunion : 944 7943 6712\nCode secret : 1234
URL:https://www.aa87.org/evenement/comite-aide-telephonique/2026-03-24/
LOCATION:BSR / ASO\, 3920\, rue Rachel Est\, Montréal QC\, H1X 1Z3\, 3920\, Rachel Est\, Montréal\, Québec\, H1X 1Z3\, Canada
CATEGORIES:Comités / Committees
END:VEVENT
BEGIN:VEVENT
DTSTART;TZID=America/Toronto:20260326T190000
DTEND;TZID=America/Toronto:20260326T220000
DTSTAMP:20260421T161733
CREATED:20250111T185817Z
LAST-MODIFIED:20260314T111742Z
UID:10017768-1774551600-1774562400@www.aa87.org
SUMMARY:Comité de Direction
DESCRIPTION:Hybride\nSalle 4\nJoindre la réunion\n\n 
URL:https://www.aa87.org/evenement/comite-de-direction/2026-03-26/
LOCATION:BSR / ASO\, 3920\, rue Rachel Est\, Montréal QC\, H1X 1Z3\, 3920\, Rachel Est\, Montréal\, Québec\, H1X 1Z3\, Canada
CATEGORIES:Comité de direction/Steering Committee
END:VEVENT
BEGIN:VEVENT
DTSTART;TZID=America/Toronto:20260329T100000
DTEND;TZID=America/Toronto:20260329T130000
DTSTAMP:20260421T161733
CREATED:20260325T171714Z
LAST-MODIFIED:20260325T172543Z
UID:10040164-1774778400-1774789200@www.aa87.org
SUMMARY:Brunch des Archives de la Région 87
DESCRIPTION:Réunion hybride \nLe comité des Archives de la Région 87 vous invite sur place et en Zoom à sa réunion ouverte annuelle. \nAutour d’un buffet brunch\, rencontre annuelle des archivistes des districts et des membres intéressés par les archives et l’histoire des AA chez nous et dans le monde. \nAteliers et présentations par des conférenciers invités. \n\nJoindre la réunion\n \nID Réunion : 984 9889 7228 – Code secret : 1234 \nVoir l’annonce
URL:https://www.aa87.org/evenement/brunch-des-archives-de-la-region-87/
LOCATION:136-A\, Jacques-Cartier Nord\, St-Jean-sur-Richelieu QC\, J3B 6S6\, 136-A\, Jacques-Cartier Nord\, St-Jean-sur-Richelieu\, Québec\, J3B 6S6\, Canada
CATEGORIES:Comité des Archives,Comités / Committees
END:VEVENT
END:VCALENDAR