BEGIN:VCALENDAR
VERSION:2.0
PRODID:-//Alcooliques Anonymes Région 87 - ECPv6.15.17//NONSGML v1.0//EN
CALSCALE:GREGORIAN
METHOD:PUBLISH
X-ORIGINAL-URL:https://www.aa87.org
X-WR-CALDESC:Évènements pour Alcooliques Anonymes Région 87
REFRESH-INTERVAL;VALUE=DURATION:PT1H
X-Robots-Tag:noindex
X-PUBLISHED-TTL:PT1H
BEGIN:VTIMEZONE
TZID:America/Toronto
BEGIN:DAYLIGHT
TZOFFSETFROM:-0500
TZOFFSETTO:-0400
TZNAME:EDT
DTSTART:20250309T070000
END:DAYLIGHT
BEGIN:STANDARD
TZOFFSETFROM:-0400
TZOFFSETTO:-0500
TZNAME:EST
DTSTART:20251102T060000
END:STANDARD
BEGIN:DAYLIGHT
TZOFFSETFROM:-0500
TZOFFSETTO:-0400
TZNAME:EDT
DTSTART:20260308T070000
END:DAYLIGHT
BEGIN:STANDARD
TZOFFSETFROM:-0400
TZOFFSETTO:-0500
TZNAME:EST
DTSTART:20261101T060000
END:STANDARD
BEGIN:DAYLIGHT
TZOFFSETFROM:-0500
TZOFFSETTO:-0400
TZNAME:EDT
DTSTART:20270314T070000
END:DAYLIGHT
BEGIN:STANDARD
TZOFFSETFROM:-0400
TZOFFSETTO:-0500
TZNAME:EST
DTSTART:20271107T060000
END:STANDARD
END:VTIMEZONE
BEGIN:VEVENT
DTSTART;TZID=America/Toronto:20260506T190000
DTEND;TZID=America/Toronto:20260506T210000
DTSTAMP:20260421T161734
CREATED:20231217T165210Z
LAST-MODIFIED:20260303T000857Z
UID:10025015-1778094000-1778101200@www.aa87.org
SUMMARY:Comité de l'Information publique +
DESCRIPTION:Salle 1\nJoindre la réunion\n\n  \nID de réunion : 944 7943 6712\nCode secret : 1234
URL:https://www.aa87.org/evenement/information-publique/2026-05-06/
LOCATION:BSR / ASO\, 3920\, rue Rachel Est\, Montréal QC\, H1X 1Z3\, 3920\, Rachel Est\, Montréal\, Québec\, H1X 1Z3\, Canada
CATEGORIES:Activité / Activity,Comité d’Information Publique,Comités / Committees
END:VEVENT
BEGIN:VEVENT
DTSTART;TZID=America/Toronto:20260507T190000
DTEND;TZID=America/Toronto:20260507T220000
DTSTAMP:20260421T161734
CREATED:20251227T154306Z
LAST-MODIFIED:20260313T173521Z
UID:10017886-1778180400-1778191200@www.aa87.org
SUMMARY:Comité de direction
DESCRIPTION:Hybride\nSalle 4\nJoindre la réunion\n\n 
URL:https://www.aa87.org/evenement/comite-de-direction-3-2/2026-05-07/
LOCATION:BSR / ASO\, 3920\, rue Rachel Est\, Montréal QC\, H1X 1Z3\, 3920\, Rachel Est\, Montréal\, Québec\, H1X 1Z3\, Canada
CATEGORIES:Comité de direction/Steering Committee,Comités / Committees
END:VEVENT
BEGIN:VEVENT
DTSTART;TZID=America/Toronto:20260513T190000
DTEND;TZID=America/Toronto:20260513T210000
DTSTAMP:20260421T161734
CREATED:20241218T001332Z
LAST-MODIFIED:20260314T112615Z
UID:10010889-1778698800-1778706000@www.aa87.org
SUMMARY:Comité des technologies +
DESCRIPTION:Réunion mensuelle sur Teams. \nJoindre la réunion\n \n  \nID de réunion : 210 078 105 291 \nCode secret : HwMBfV \n 
URL:https://www.aa87.org/evenement/comite-des-technologies-2/2026-05-13/
LOCATION:Réunion virtuelle seulement\, Québec\, Canada
CATEGORIES:Activité / Activity,Comité des Technologies/ Technology Committee,Comités / Committees
END:VEVENT
BEGIN:VEVENT
DTSTART;TZID=America/Toronto:20260514T193000
DTEND;TZID=America/Toronto:20260514T210000
DTSTAMP:20260421T161734
CREATED:20251227T174400Z
LAST-MODIFIED:20260314T014619Z
UID:10036862-1778787000-1778792400@www.aa87.org
SUMMARY:Comité Services aux groupes
DESCRIPTION:Réunion mensuelle virtuelle seulement. 2 jeudi. \nSalle 3 \nJoindre la réunion\n \nID de le réunion : 91087779314\nCode secret: 1234
URL:https://www.aa87.org/evenement/comite-services-aux-groupes-2/2026-05-14/
LOCATION:
CATEGORIES:Comités / Committees
END:VEVENT
BEGIN:VEVENT
DTSTART;TZID=America/Toronto:20260516T090000
DTEND;TZID=America/Toronto:20260516T110000
DTSTAMP:20260421T161734
CREATED:20260228T230906Z
LAST-MODIFIED:20260228T230906Z
UID:10039354-1778922000-1778929200@www.aa87.org
SUMMARY:Atelier de l’Accueil du Nouveau
DESCRIPTION:présentiel seulement\nBSR\nsalle Dave B
URL:https://www.aa87.org/evenement/atelier-de-laccueil-du-nouveau-2/2026-05-16/
LOCATION:BSR / ASO\, 3920\, rue Rachel Est\, Montréal QC\, H1X 1Z3\, 3920\, Rachel Est\, Montréal\, Québec\, H1X 1Z3\, Canada
CATEGORIES:Comités / Committees,Services aux groupes / Group Services
END:VEVENT
BEGIN:VEVENT
DTSTART;TZID=America/Toronto:20260520T190000
DTEND;TZID=America/Toronto:20260520T210000
DTSTAMP:20260421T161734
CREATED:20241217T202239Z
LAST-MODIFIED:20260314T121356Z
UID:10014497-1779303600-1779310800@www.aa87.org
SUMMARY:Comité Collaboration avec les milieux professionnels (CMP)
DESCRIPTION:Réunion zoom seulement. \nSalle 1 \nJoindre la réunion\n \n  \nID de réunion : 944 7943 6712 \nCode secret : 1234
URL:https://www.aa87.org/evenement/cmp-2/2026-05-20/
LOCATION:
CATEGORIES:Activité / Activity,Comité CMP-CPC Committee,Comités / Committees
END:VEVENT
BEGIN:VEVENT
DTSTART;TZID=America/Toronto:20260520T190000
DTEND;TZID=America/Toronto:20260520T210000
DTSTAMP:20260421T161734
CREATED:20260207T134530Z
LAST-MODIFIED:20260220T181748Z
UID:10038360-1779303600-1779310800@www.aa87.org
SUMMARY:Journée des Centres de détention
DESCRIPTION:Réunion chaque troisième mercredi du mois en présence.
URL:https://www.aa87.org/evenement/centres-de-detention-4-2-2/2026-05-20/
LOCATION:BSR / ASO\, 3920\, rue Rachel Est\, Montréal QC\, H1X 1Z3\, 3920\, Rachel Est\, Montréal\, Québec\, H1X 1Z3\, Canada
CATEGORIES:Activité / Activity,Centres de détention,Comités / Committees
END:VEVENT
BEGIN:VEVENT
DTSTART;TZID=America/Toronto:20260523T090000
DTEND;TZID=America/Toronto:20260523T120000
DTSTAMP:20260421T161734
CREATED:20260131T132128Z
LAST-MODIFIED:20260316T003516Z
UID:10037464-1779526800-1779537600@www.aa87.org
SUMMARY:Atelier des 12 Concepts
DESCRIPTION:Hybride\nEn personne \nBureau des services de la Région 87\n3920\, rue Rachel Est\nMontréal (Québec) H1X 1Z3\nMapIt \nJoindre la réunion\n \n  \nID de réunion : 910 8777 9314\nCode secret : 1234 \nNous vous invitons à venir approfondir avec nous votre connaissance des Douze Concepts. \n« Toute la méthode des AA repose solidement sur le principe de la confiance mutuelle. Nous avons confiance en Dieu\, nous avons confiance envers les AA et nous nous faisons confiance mutuellement. »                                                         \n— Bill W.\, Troisième Concept \nPour ceux et celles qui veulent participer\, il faut s’inscrire en téléphonant au Bureau des Services régionaux :  poste 3 (boîte vocale). \nVoir l’annonce
URL:https://www.aa87.org/evenement/atelier-des-12-concepts/
LOCATION:BSR / ASO\, 3920\, rue Rachel Est\, Montréal QC\, H1X 1Z3\, 3920\, Rachel Est\, Montréal\, Québec\, H1X 1Z3\, Canada
CATEGORIES:Activité / Activity,Comités / Committees,Services aux groupes / Group Services
END:VEVENT
BEGIN:VEVENT
DTSTART;TZID=America/Toronto:20260523T130000
DTEND;TZID=America/Toronto:20260523T160000
DTSTAMP:20260421T161734
CREATED:20260131T133828Z
LAST-MODIFIED:20260316T003712Z
UID:10037467-1779541200-1779552000@www.aa87.org
SUMMARY:Atelier des 12 Concepts ( Anglais )
DESCRIPTION:Hybride\nEn personne \nBureau des services de la Région 87\n3920\, rue Rachel Est\nMontréal (Québec) H1X 1Z3\nMapIt \nJoindre la réunion\n \n  \nID de réunion : 910 8777 9314\nCode secret : 1234 \nNous vous invitons à venir approfondir avec nous votre connaissance des Douze Concepts. \n« Toute la méthode des AA repose solidement sur le principe de la confiance mutuelle. Nous avons confiance en Dieu\, nous avons confiance envers les AA et nous nous faisons confiance mutuellement. »                                                         \n— Bill W.\, Troisième Concept \nPour ceux et celles qui veulent participer\, il faut s’inscrire en téléphonant au Bureau des Services régionaux :  poste 3 (boîte vocale). \nVoir l’annonce
URL:https://www.aa87.org/evenement/atelier-des-12-concepts-anglais/
LOCATION:BSR / ASO\, 3920\, rue Rachel Est\, Montréal QC\, H1X 1Z3\, 3920\, Rachel Est\, Montréal\, Québec\, H1X 1Z3\, Canada
CATEGORIES:Activité / Activity,Comités / Committees,Services aux groupes / Group Services
END:VEVENT
BEGIN:VEVENT
DTSTART;TZID=America/Toronto:20260526T190000
DTEND;TZID=America/Toronto:20260526T210000
DTSTAMP:20260421T161734
CREATED:20241218T124818Z
LAST-MODIFIED:20260315T222718Z
UID:10015076-1779822000-1779829200@www.aa87.org
SUMMARY:Comité Aide téléphonique
DESCRIPTION:Rencontre mensuelle hybride. \nSalle 1 \nJoindre la réunion\n \n  \nID de réunion : 944 7943 6712\nCode secret : 1234
URL:https://www.aa87.org/evenement/comite-aide-telephonique/2026-05-26/
LOCATION:BSR / ASO\, 3920\, rue Rachel Est\, Montréal QC\, H1X 1Z3\, 3920\, Rachel Est\, Montréal\, Québec\, H1X 1Z3\, Canada
CATEGORIES:Comités / Committees
END:VEVENT
BEGIN:VEVENT
DTSTART;TZID=America/Toronto:20260528T190000
DTEND;TZID=America/Toronto:20260528T220000
DTSTAMP:20260421T161734
CREATED:20250111T185817Z
LAST-MODIFIED:20260314T111742Z
UID:10017770-1779994800-1780005600@www.aa87.org
SUMMARY:Comité de Direction
DESCRIPTION:Hybride\nSalle 4\nJoindre la réunion\n\n 
URL:https://www.aa87.org/evenement/comite-de-direction/2026-05-28/
LOCATION:BSR / ASO\, 3920\, rue Rachel Est\, Montréal QC\, H1X 1Z3\, 3920\, Rachel Est\, Montréal\, Québec\, H1X 1Z3\, Canada
CATEGORIES:Comité de direction/Steering Committee
END:VEVENT
BEGIN:VEVENT
DTSTART;TZID=America/Toronto:20260529T090000
DTEND;TZID=America/Toronto:20260529T150000
DTSTAMP:20260421T161734
CREATED:20251229T153659Z
LAST-MODIFIED:20251229T154021Z
UID:10032125-1780045200-1780066800@www.aa87.org
SUMMARY:Réunion Comité interrégional
DESCRIPTION:Hybride\, Lieux à déterminer\nParticiper à la réunion Zoom \n ID de réunion : 976 0990 1538\nCode secret : 1234
URL:https://www.aa87.org/evenement/reunion-comite-interregional-4/
LOCATION:
CATEGORIES:Comité interrégional,Comités / Committees
END:VEVENT
END:VCALENDAR