BEGIN:VCALENDAR
VERSION:2.0
PRODID:-//Alcooliques Anonymes Région 87 - ECPv6.15.17//NONSGML v1.0//EN
CALSCALE:GREGORIAN
METHOD:PUBLISH
X-WR-CALNAME:Alcooliques Anonymes Région 87
X-ORIGINAL-URL:https://www.aa87.org
X-WR-CALDESC:Évènements pour Alcooliques Anonymes Région 87
REFRESH-INTERVAL;VALUE=DURATION:PT1H
X-Robots-Tag:noindex
X-PUBLISHED-TTL:PT1H
BEGIN:VTIMEZONE
TZID:America/Toronto
BEGIN:DAYLIGHT
TZOFFSETFROM:-0500
TZOFFSETTO:-0400
TZNAME:EDT
DTSTART:20260308T070000
END:DAYLIGHT
BEGIN:STANDARD
TZOFFSETFROM:-0400
TZOFFSETTO:-0500
TZNAME:EST
DTSTART:20261101T060000
END:STANDARD
BEGIN:DAYLIGHT
TZOFFSETFROM:-0500
TZOFFSETTO:-0400
TZNAME:EDT
DTSTART:20270314T070000
END:DAYLIGHT
BEGIN:STANDARD
TZOFFSETFROM:-0400
TZOFFSETTO:-0500
TZNAME:EST
DTSTART:20271107T060000
END:STANDARD
BEGIN:DAYLIGHT
TZOFFSETFROM:-0500
TZOFFSETTO:-0400
TZNAME:EDT
DTSTART:20280312T070000
END:DAYLIGHT
BEGIN:STANDARD
TZOFFSETFROM:-0400
TZOFFSETTO:-0500
TZNAME:EST
DTSTART:20281105T060000
END:STANDARD
BEGIN:DAYLIGHT
TZOFFSETFROM:-0500
TZOFFSETTO:-0400
TZNAME:EDT
DTSTART:20290311T070000
END:DAYLIGHT
BEGIN:STANDARD
TZOFFSETFROM:-0400
TZOFFSETTO:-0500
TZNAME:EST
DTSTART:20291104T060000
END:STANDARD
END:VTIMEZONE
BEGIN:VEVENT
DTSTART;TZID=America/Toronto:20271208T190000
DTEND;TZID=America/Toronto:20271208T210000
DTSTAMP:20260421T175125
CREATED:20241218T001332Z
LAST-MODIFIED:20260314T112615Z
UID:10010908-1828292400-1828299600@www.aa87.org
SUMMARY:Comité des technologies +
DESCRIPTION:Réunion mensuelle sur Teams. \nJoindre la réunion\n \n  \nID de réunion : 210 078 105 291 \nCode secret : HwMBfV \n 
URL:https://www.aa87.org/evenement/comite-des-technologies-2/2027-12-08/
LOCATION:Réunion virtuelle seulement\, Québec\, Canada
CATEGORIES:Activité / Activity,Comité des Technologies/ Technology Committee,Comités / Committees
END:VEVENT
BEGIN:VEVENT
DTSTART;TZID=America/Toronto:20271209T193000
DTEND;TZID=America/Toronto:20271209T210000
DTSTAMP:20260421T175125
CREATED:20251227T174400Z
LAST-MODIFIED:20260314T014619Z
UID:10036879-1828380600-1828386000@www.aa87.org
SUMMARY:Comité Services aux groupes
DESCRIPTION:Réunion mensuelle virtuelle seulement. 2 jeudi. \nSalle 3 \nJoindre la réunion\n \nID de le réunion : 91087779314\nCode secret: 1234
URL:https://www.aa87.org/evenement/comite-services-aux-groupes-2/2027-12-09/
LOCATION:
CATEGORIES:Comités / Committees
END:VEVENT
BEGIN:VEVENT
DTSTART;TZID=America/Toronto:20271215T190000
DTEND;TZID=America/Toronto:20271215T210000
DTSTAMP:20260421T175125
CREATED:20241217T202239Z
LAST-MODIFIED:20260314T121356Z
UID:10014516-1828897200-1828904400@www.aa87.org
SUMMARY:Comité Collaboration avec les milieux professionnels (CMP)
DESCRIPTION:Réunion zoom seulement. \nSalle 1 \nJoindre la réunion\n \n  \nID de réunion : 944 7943 6712 \nCode secret : 1234
URL:https://www.aa87.org/evenement/cmp-2/2027-12-15/
LOCATION:
CATEGORIES:Activité / Activity,Comité CMP-CPC Committee,Comités / Committees
END:VEVENT
BEGIN:VEVENT
DTSTART;TZID=America/Toronto:20271215T190000
DTEND;TZID=America/Toronto:20271215T210000
DTSTAMP:20260421T175125
CREATED:20260207T134530Z
LAST-MODIFIED:20260220T181748Z
UID:10038376-1828897200-1828904400@www.aa87.org
SUMMARY:Journée des Centres de détention
DESCRIPTION:Réunion chaque troisième mercredi du mois en présence.
URL:https://www.aa87.org/evenement/centres-de-detention-4-2-2/2027-12-15/
LOCATION:BSR / ASO\, 3920\, rue Rachel Est\, Montréal QC\, H1X 1Z3\, 3920\, Rachel Est\, Montréal\, Québec\, H1X 1Z3\, Canada
CATEGORIES:Activité / Activity,Centres de détention,Comités / Committees
END:VEVENT
BEGIN:VEVENT
DTSTART;TZID=America/Toronto:20271218T093000
DTEND;TZID=America/Toronto:20271218T120000
DTSTAMP:20260421T175125
CREATED:20260216T003819Z
LAST-MODIFIED:20260314T155127Z
UID:10038095-1829122200-1829131200@www.aa87.org
SUMMARY:Réunion du Comité des Centres de Détention
DESCRIPTION:Hybride\n\nBureau des services régionnaux\n3920\, rue Rachel Est\nMontréal (Québec) H1X 1Z3\n\nSalle 1\n\n\nJoindre la réunion\n\n  \n\nID de réunion : 944 7943 6712\nCode secret : 1234
URL:https://www.aa87.org/evenement/reunion-du-comite-des-centres-de-detention/2027-12-18/
LOCATION:BSR / ASO\, 3920\, rue Rachel Est\, Montréal QC\, H1X 1Z3\, 3920\, Rachel Est\, Montréal\, Québec\, H1X 1Z3\, Canada
CATEGORIES:Centres de détention,Comités / Committees
END:VEVENT
BEGIN:VEVENT
DTSTART;TZID=America/Toronto:20271223T190000
DTEND;TZID=America/Toronto:20271223T220000
DTSTAMP:20260421T175125
CREATED:20250111T185817Z
LAST-MODIFIED:20260314T111742Z
UID:10017789-1829588400-1829599200@www.aa87.org
SUMMARY:Comité de Direction
DESCRIPTION:Hybride\nSalle 4\nJoindre la réunion\n\n 
URL:https://www.aa87.org/evenement/comite-de-direction/2027-12-23/
LOCATION:BSR / ASO\, 3920\, rue Rachel Est\, Montréal QC\, H1X 1Z3\, 3920\, Rachel Est\, Montréal\, Québec\, H1X 1Z3\, Canada
CATEGORIES:Comité de direction/Steering Committee
END:VEVENT
BEGIN:VEVENT
DTSTART;TZID=America/Toronto:20271228T190000
DTEND;TZID=America/Toronto:20271228T210000
DTSTAMP:20260421T175125
CREATED:20241218T124818Z
LAST-MODIFIED:20260315T222718Z
UID:10015095-1830020400-1830027600@www.aa87.org
SUMMARY:Comité Aide téléphonique
DESCRIPTION:Rencontre mensuelle hybride. \nSalle 1 \nJoindre la réunion\n \n  \nID de réunion : 944 7943 6712\nCode secret : 1234
URL:https://www.aa87.org/evenement/comite-aide-telephonique/2027-12-28/
LOCATION:BSR / ASO\, 3920\, rue Rachel Est\, Montréal QC\, H1X 1Z3\, 3920\, Rachel Est\, Montréal\, Québec\, H1X 1Z3\, Canada
CATEGORIES:Comités / Committees
END:VEVENT
BEGIN:VEVENT
DTSTART;TZID=America/Toronto:20280106T190000
DTEND;TZID=America/Toronto:20280106T220000
DTSTAMP:20260421T175125
CREATED:20251227T154306Z
LAST-MODIFIED:20260313T173521Z
UID:10017906-1830798000-1830808800@www.aa87.org
SUMMARY:Comité de direction
DESCRIPTION:Hybride\nSalle 4\nJoindre la réunion\n\n 
URL:https://www.aa87.org/evenement/comite-de-direction-3-2/2028-01-06/
LOCATION:BSR / ASO\, 3920\, rue Rachel Est\, Montréal QC\, H1X 1Z3\, 3920\, Rachel Est\, Montréal\, Québec\, H1X 1Z3\, Canada
CATEGORIES:Comité de direction/Steering Committee,Comités / Committees
END:VEVENT
BEGIN:VEVENT
DTSTART;TZID=America/Toronto:20280112T190000
DTEND;TZID=America/Toronto:20280112T210000
DTSTAMP:20260421T175125
CREATED:20241218T001332Z
LAST-MODIFIED:20260314T112615Z
UID:10010909-1831316400-1831323600@www.aa87.org
SUMMARY:Comité des technologies +
DESCRIPTION:Réunion mensuelle sur Teams. \nJoindre la réunion\n \n  \nID de réunion : 210 078 105 291 \nCode secret : HwMBfV \n 
URL:https://www.aa87.org/evenement/comite-des-technologies-2/2028-01-12/
LOCATION:Réunion virtuelle seulement\, Québec\, Canada
CATEGORIES:Activité / Activity,Comité des Technologies/ Technology Committee,Comités / Committees
END:VEVENT
BEGIN:VEVENT
DTSTART;TZID=America/Toronto:20280113T193000
DTEND;TZID=America/Toronto:20280113T210000
DTSTAMP:20260421T175125
CREATED:20251227T174400Z
LAST-MODIFIED:20260314T014619Z
UID:10036880-1831404600-1831410000@www.aa87.org
SUMMARY:Comité Services aux groupes
DESCRIPTION:Réunion mensuelle virtuelle seulement. 2 jeudi. \nSalle 3 \nJoindre la réunion\n \nID de le réunion : 91087779314\nCode secret: 1234
URL:https://www.aa87.org/evenement/comite-services-aux-groupes-2/2028-01-13/
LOCATION:
CATEGORIES:Comités / Committees
END:VEVENT
BEGIN:VEVENT
DTSTART;TZID=America/Toronto:20280119T190000
DTEND;TZID=America/Toronto:20280119T210000
DTSTAMP:20260421T175125
CREATED:20241217T202239Z
LAST-MODIFIED:20260314T121356Z
UID:10014517-1831921200-1831928400@www.aa87.org
SUMMARY:Comité Collaboration avec les milieux professionnels (CMP)
DESCRIPTION:Réunion zoom seulement. \nSalle 1 \nJoindre la réunion\n \n  \nID de réunion : 944 7943 6712 \nCode secret : 1234
URL:https://www.aa87.org/evenement/cmp-2/2028-01-19/
LOCATION:
CATEGORIES:Activité / Activity,Comité CMP-CPC Committee,Comités / Committees
END:VEVENT
BEGIN:VEVENT
DTSTART;TZID=America/Toronto:20280119T190000
DTEND;TZID=America/Toronto:20280119T210000
DTSTAMP:20260421T175125
CREATED:20260207T134530Z
LAST-MODIFIED:20260220T181748Z
UID:10038377-1831921200-1831928400@www.aa87.org
SUMMARY:Journée des Centres de détention
DESCRIPTION:Réunion chaque troisième mercredi du mois en présence.
URL:https://www.aa87.org/evenement/centres-de-detention-4-2-2/2028-01-19/
LOCATION:BSR / ASO\, 3920\, rue Rachel Est\, Montréal QC\, H1X 1Z3\, 3920\, Rachel Est\, Montréal\, Québec\, H1X 1Z3\, Canada
CATEGORIES:Activité / Activity,Centres de détention,Comités / Committees
END:VEVENT
BEGIN:VEVENT
DTSTART;TZID=America/Toronto:20280125T190000
DTEND;TZID=America/Toronto:20280125T210000
DTSTAMP:20260421T175125
CREATED:20241218T124818Z
LAST-MODIFIED:20260315T222718Z
UID:10015096-1832439600-1832446800@www.aa87.org
SUMMARY:Comité Aide téléphonique
DESCRIPTION:Rencontre mensuelle hybride. \nSalle 1 \nJoindre la réunion\n \n  \nID de réunion : 944 7943 6712\nCode secret : 1234
URL:https://www.aa87.org/evenement/comite-aide-telephonique/2028-01-25/
LOCATION:BSR / ASO\, 3920\, rue Rachel Est\, Montréal QC\, H1X 1Z3\, 3920\, Rachel Est\, Montréal\, Québec\, H1X 1Z3\, Canada
CATEGORIES:Comités / Committees
END:VEVENT
BEGIN:VEVENT
DTSTART;TZID=America/Toronto:20280127T190000
DTEND;TZID=America/Toronto:20280127T220000
DTSTAMP:20260421T175125
CREATED:20250111T185817Z
LAST-MODIFIED:20260314T111742Z
UID:10017790-1832612400-1832623200@www.aa87.org
SUMMARY:Comité de Direction
DESCRIPTION:Hybride\nSalle 4\nJoindre la réunion\n\n 
URL:https://www.aa87.org/evenement/comite-de-direction/2028-01-27/
LOCATION:BSR / ASO\, 3920\, rue Rachel Est\, Montréal QC\, H1X 1Z3\, 3920\, Rachel Est\, Montréal\, Québec\, H1X 1Z3\, Canada
CATEGORIES:Comité de direction/Steering Committee
END:VEVENT
BEGIN:VEVENT
DTSTART;TZID=America/Toronto:20280203T190000
DTEND;TZID=America/Toronto:20280203T220000
DTSTAMP:20260421T175125
CREATED:20251227T154306Z
LAST-MODIFIED:20260313T173521Z
UID:10017907-1833217200-1833228000@www.aa87.org
SUMMARY:Comité de direction
DESCRIPTION:Hybride\nSalle 4\nJoindre la réunion\n\n 
URL:https://www.aa87.org/evenement/comite-de-direction-3-2/2028-02-03/
LOCATION:BSR / ASO\, 3920\, rue Rachel Est\, Montréal QC\, H1X 1Z3\, 3920\, Rachel Est\, Montréal\, Québec\, H1X 1Z3\, Canada
CATEGORIES:Comité de direction/Steering Committee,Comités / Committees
END:VEVENT
BEGIN:VEVENT
DTSTART;TZID=America/Toronto:20280205T100000
DTEND;TZID=America/Toronto:20280205T120000
DTSTAMP:20260421T175125
CREATED:20251108T131908Z
LAST-MODIFIED:20260418T121844Z
UID:10041852-1833357600-1833364800@www.aa87.org
SUMMARY:Réunion de La Vigne
DESCRIPTION:Une invitation à tous les Représentants de La Vigne. \nJoindre la réunion\n \n  \nID de réunion : 918 2068 6211\nMot de passe : 1234 \nVoir l’annonce
URL:https://www.aa87.org/evenement/reunion-de-la-vigne-2025-12-06/2028-02-05/
LOCATION:
CATEGORIES:La Vigne
END:VEVENT
BEGIN:VEVENT
DTSTART;TZID=America/Toronto:20280209T190000
DTEND;TZID=America/Toronto:20280209T210000
DTSTAMP:20260421T175125
CREATED:20241218T001332Z
LAST-MODIFIED:20260314T112615Z
UID:10010910-1833735600-1833742800@www.aa87.org
SUMMARY:Comité des technologies +
DESCRIPTION:Réunion mensuelle sur Teams. \nJoindre la réunion\n \n  \nID de réunion : 210 078 105 291 \nCode secret : HwMBfV \n 
URL:https://www.aa87.org/evenement/comite-des-technologies-2/2028-02-09/
LOCATION:Réunion virtuelle seulement\, Québec\, Canada
CATEGORIES:Activité / Activity,Comité des Technologies/ Technology Committee,Comités / Committees
END:VEVENT
BEGIN:VEVENT
DTSTART;TZID=America/Toronto:20280210T193000
DTEND;TZID=America/Toronto:20280210T210000
DTSTAMP:20260421T175125
CREATED:20251227T174400Z
LAST-MODIFIED:20260314T014619Z
UID:10036881-1833823800-1833829200@www.aa87.org
SUMMARY:Comité Services aux groupes
DESCRIPTION:Réunion mensuelle virtuelle seulement. 2 jeudi. \nSalle 3 \nJoindre la réunion\n \nID de le réunion : 91087779314\nCode secret: 1234
URL:https://www.aa87.org/evenement/comite-services-aux-groupes-2/2028-02-10/
LOCATION:
CATEGORIES:Comités / Committees
END:VEVENT
BEGIN:VEVENT
DTSTART;TZID=America/Toronto:20280216T190000
DTEND;TZID=America/Toronto:20280216T210000
DTSTAMP:20260421T175125
CREATED:20241217T202239Z
LAST-MODIFIED:20260314T121356Z
UID:10014518-1834340400-1834347600@www.aa87.org
SUMMARY:Comité Collaboration avec les milieux professionnels (CMP)
DESCRIPTION:Réunion zoom seulement. \nSalle 1 \nJoindre la réunion\n \n  \nID de réunion : 944 7943 6712 \nCode secret : 1234
URL:https://www.aa87.org/evenement/cmp-2/2028-02-16/
LOCATION:
CATEGORIES:Activité / Activity,Comité CMP-CPC Committee,Comités / Committees
END:VEVENT
BEGIN:VEVENT
DTSTART;TZID=America/Toronto:20280216T190000
DTEND;TZID=America/Toronto:20280216T210000
DTSTAMP:20260421T175125
CREATED:20260207T134530Z
LAST-MODIFIED:20260220T181748Z
UID:10038378-1834340400-1834347600@www.aa87.org
SUMMARY:Journée des Centres de détention
DESCRIPTION:Réunion chaque troisième mercredi du mois en présence.
URL:https://www.aa87.org/evenement/centres-de-detention-4-2-2/2028-02-16/
LOCATION:BSR / ASO\, 3920\, rue Rachel Est\, Montréal QC\, H1X 1Z3\, 3920\, Rachel Est\, Montréal\, Québec\, H1X 1Z3\, Canada
CATEGORIES:Activité / Activity,Centres de détention,Comités / Committees
END:VEVENT
BEGIN:VEVENT
DTSTART;TZID=America/Toronto:20280219T093000
DTEND;TZID=America/Toronto:20280219T120000
DTSTAMP:20260421T175125
CREATED:20260216T003819Z
LAST-MODIFIED:20260314T155127Z
UID:10038096-1834565400-1834574400@www.aa87.org
SUMMARY:Réunion du Comité des Centres de Détention
DESCRIPTION:Hybride\n\nBureau des services régionnaux\n3920\, rue Rachel Est\nMontréal (Québec) H1X 1Z3\n\nSalle 1\n\n\nJoindre la réunion\n\n  \n\nID de réunion : 944 7943 6712\nCode secret : 1234
URL:https://www.aa87.org/evenement/reunion-du-comite-des-centres-de-detention/2028-02-19/
LOCATION:BSR / ASO\, 3920\, rue Rachel Est\, Montréal QC\, H1X 1Z3\, 3920\, Rachel Est\, Montréal\, Québec\, H1X 1Z3\, Canada
CATEGORIES:Centres de détention,Comités / Committees
END:VEVENT
BEGIN:VEVENT
DTSTART;TZID=America/Toronto:20280222T190000
DTEND;TZID=America/Toronto:20280222T210000
DTSTAMP:20260421T175125
CREATED:20241218T124818Z
LAST-MODIFIED:20260315T222718Z
UID:10015097-1834858800-1834866000@www.aa87.org
SUMMARY:Comité Aide téléphonique
DESCRIPTION:Rencontre mensuelle hybride. \nSalle 1 \nJoindre la réunion\n \n  \nID de réunion : 944 7943 6712\nCode secret : 1234
URL:https://www.aa87.org/evenement/comite-aide-telephonique/2028-02-22/
LOCATION:BSR / ASO\, 3920\, rue Rachel Est\, Montréal QC\, H1X 1Z3\, 3920\, Rachel Est\, Montréal\, Québec\, H1X 1Z3\, Canada
CATEGORIES:Comités / Committees
END:VEVENT
BEGIN:VEVENT
DTSTART;TZID=America/Toronto:20280224T190000
DTEND;TZID=America/Toronto:20280224T220000
DTSTAMP:20260421T175125
CREATED:20250111T185817Z
LAST-MODIFIED:20260314T111742Z
UID:10017791-1835031600-1835042400@www.aa87.org
SUMMARY:Comité de Direction
DESCRIPTION:Hybride\nSalle 4\nJoindre la réunion\n\n 
URL:https://www.aa87.org/evenement/comite-de-direction/2028-02-24/
LOCATION:BSR / ASO\, 3920\, rue Rachel Est\, Montréal QC\, H1X 1Z3\, 3920\, Rachel Est\, Montréal\, Québec\, H1X 1Z3\, Canada
CATEGORIES:Comité de direction/Steering Committee
END:VEVENT
BEGIN:VEVENT
DTSTART;TZID=America/Toronto:20280302T190000
DTEND;TZID=America/Toronto:20280302T220000
DTSTAMP:20260421T175125
CREATED:20251227T154306Z
LAST-MODIFIED:20260313T173521Z
UID:10017908-1835636400-1835647200@www.aa87.org
SUMMARY:Comité de direction
DESCRIPTION:Hybride\nSalle 4\nJoindre la réunion\n\n 
URL:https://www.aa87.org/evenement/comite-de-direction-3-2/2028-03-02/
LOCATION:BSR / ASO\, 3920\, rue Rachel Est\, Montréal QC\, H1X 1Z3\, 3920\, Rachel Est\, Montréal\, Québec\, H1X 1Z3\, Canada
CATEGORIES:Comité de direction/Steering Committee,Comités / Committees
END:VEVENT
BEGIN:VEVENT
DTSTART;TZID=America/Toronto:20280308T190000
DTEND;TZID=America/Toronto:20280308T210000
DTSTAMP:20260421T175125
CREATED:20241218T001332Z
LAST-MODIFIED:20260314T112615Z
UID:10010911-1836154800-1836162000@www.aa87.org
SUMMARY:Comité des technologies +
DESCRIPTION:Réunion mensuelle sur Teams. \nJoindre la réunion\n \n  \nID de réunion : 210 078 105 291 \nCode secret : HwMBfV \n 
URL:https://www.aa87.org/evenement/comite-des-technologies-2/2028-03-08/
LOCATION:Réunion virtuelle seulement\, Québec\, Canada
CATEGORIES:Activité / Activity,Comité des Technologies/ Technology Committee,Comités / Committees
END:VEVENT
BEGIN:VEVENT
DTSTART;TZID=America/Toronto:20280309T193000
DTEND;TZID=America/Toronto:20280309T210000
DTSTAMP:20260421T175125
CREATED:20251227T174400Z
LAST-MODIFIED:20260314T014619Z
UID:10036882-1836243000-1836248400@www.aa87.org
SUMMARY:Comité Services aux groupes
DESCRIPTION:Réunion mensuelle virtuelle seulement. 2 jeudi. \nSalle 3 \nJoindre la réunion\n \nID de le réunion : 91087779314\nCode secret: 1234
URL:https://www.aa87.org/evenement/comite-services-aux-groupes-2/2028-03-09/
LOCATION:
CATEGORIES:Comités / Committees
END:VEVENT
BEGIN:VEVENT
DTSTART;TZID=America/Toronto:20280315T190000
DTEND;TZID=America/Toronto:20280315T210000
DTSTAMP:20260421T175125
CREATED:20241217T202239Z
LAST-MODIFIED:20260314T121356Z
UID:10014519-1836759600-1836766800@www.aa87.org
SUMMARY:Comité Collaboration avec les milieux professionnels (CMP)
DESCRIPTION:Réunion zoom seulement. \nSalle 1 \nJoindre la réunion\n \n  \nID de réunion : 944 7943 6712 \nCode secret : 1234
URL:https://www.aa87.org/evenement/cmp-2/2028-03-15/
LOCATION:
CATEGORIES:Activité / Activity,Comité CMP-CPC Committee,Comités / Committees
END:VEVENT
BEGIN:VEVENT
DTSTART;TZID=America/Toronto:20280315T190000
DTEND;TZID=America/Toronto:20280315T210000
DTSTAMP:20260421T175125
CREATED:20260207T134530Z
LAST-MODIFIED:20260220T181748Z
UID:10038379-1836759600-1836766800@www.aa87.org
SUMMARY:Journée des Centres de détention
DESCRIPTION:Réunion chaque troisième mercredi du mois en présence.
URL:https://www.aa87.org/evenement/centres-de-detention-4-2-2/2028-03-15/
LOCATION:BSR / ASO\, 3920\, rue Rachel Est\, Montréal QC\, H1X 1Z3\, 3920\, Rachel Est\, Montréal\, Québec\, H1X 1Z3\, Canada
CATEGORIES:Activité / Activity,Centres de détention,Comités / Committees
END:VEVENT
BEGIN:VEVENT
DTSTART;TZID=America/Toronto:20280323T190000
DTEND;TZID=America/Toronto:20280323T220000
DTSTAMP:20260421T175125
CREATED:20250111T185817Z
LAST-MODIFIED:20260314T111742Z
UID:10017792-1837450800-1837461600@www.aa87.org
SUMMARY:Comité de Direction
DESCRIPTION:Hybride\nSalle 4\nJoindre la réunion\n\n 
URL:https://www.aa87.org/evenement/comite-de-direction/2028-03-23/
LOCATION:BSR / ASO\, 3920\, rue Rachel Est\, Montréal QC\, H1X 1Z3\, 3920\, Rachel Est\, Montréal\, Québec\, H1X 1Z3\, Canada
CATEGORIES:Comité de direction/Steering Committee
END:VEVENT
BEGIN:VEVENT
DTSTART;TZID=America/Toronto:20280328T190000
DTEND;TZID=America/Toronto:20280328T210000
DTSTAMP:20260421T175125
CREATED:20241218T124818Z
LAST-MODIFIED:20260315T222718Z
UID:10015098-1837882800-1837890000@www.aa87.org
SUMMARY:Comité Aide téléphonique
DESCRIPTION:Rencontre mensuelle hybride. \nSalle 1 \nJoindre la réunion\n \n  \nID de réunion : 944 7943 6712\nCode secret : 1234
URL:https://www.aa87.org/evenement/comite-aide-telephonique/2028-03-28/
LOCATION:BSR / ASO\, 3920\, rue Rachel Est\, Montréal QC\, H1X 1Z3\, 3920\, Rachel Est\, Montréal\, Québec\, H1X 1Z3\, Canada
CATEGORIES:Comités / Committees
END:VEVENT
END:VCALENDAR