BEGIN:VCALENDAR
VERSION:2.0
PRODID:-//Alcooliques Anonymes Région 87 - ECPv6.15.17//NONSGML v1.0//EN
CALSCALE:GREGORIAN
METHOD:PUBLISH
X-WR-CALNAME:Alcooliques Anonymes Région 87
X-ORIGINAL-URL:https://www.aa87.org
X-WR-CALDESC:Évènements pour Alcooliques Anonymes Région 87
REFRESH-INTERVAL;VALUE=DURATION:PT1H
X-Robots-Tag:noindex
X-PUBLISHED-TTL:PT1H
BEGIN:VTIMEZONE
TZID:America/Toronto
BEGIN:DAYLIGHT
TZOFFSETFROM:-0500
TZOFFSETTO:-0400
TZNAME:EDT
DTSTART:20290311T070000
END:DAYLIGHT
BEGIN:STANDARD
TZOFFSETFROM:-0400
TZOFFSETTO:-0500
TZNAME:EST
DTSTART:20291104T060000
END:STANDARD
BEGIN:DAYLIGHT
TZOFFSETFROM:-0500
TZOFFSETTO:-0400
TZNAME:EDT
DTSTART:20300310T070000
END:DAYLIGHT
BEGIN:STANDARD
TZOFFSETFROM:-0400
TZOFFSETTO:-0500
TZNAME:EST
DTSTART:20301103T060000
END:STANDARD
BEGIN:DAYLIGHT
TZOFFSETFROM:-0500
TZOFFSETTO:-0400
TZNAME:EDT
DTSTART:20310309T070000
END:DAYLIGHT
BEGIN:STANDARD
TZOFFSETFROM:-0400
TZOFFSETTO:-0500
TZNAME:EST
DTSTART:20311102T060000
END:STANDARD
END:VTIMEZONE
BEGIN:VEVENT
DTSTART;TZID=America/Toronto:20300612T190000
DTEND;TZID=America/Toronto:20300612T210000
DTSTAMP:20260421T234753
CREATED:20241218T001332Z
LAST-MODIFIED:20260314T112615Z
UID:10025861-1907521200-1907528400@www.aa87.org
SUMMARY:Comité des technologies +
DESCRIPTION:Réunion mensuelle sur Teams. \nJoindre la réunion\n \n  \nID de réunion : 210 078 105 291 \nCode secret : HwMBfV \n 
URL:https://www.aa87.org/evenement/comite-des-technologies-2/2030-06-12/
LOCATION:Réunion virtuelle seulement\, Québec\, Canada
CATEGORIES:Activité / Activity,Comité des Technologies/ Technology Committee,Comités / Committees
END:VEVENT
BEGIN:VEVENT
DTSTART;TZID=America/Toronto:20300613T193000
DTEND;TZID=America/Toronto:20300613T210000
DTSTAMP:20260421T234753
CREATED:20251227T174400Z
LAST-MODIFIED:20260314T014619Z
UID:10036909-1907609400-1907614800@www.aa87.org
SUMMARY:Comité Services aux groupes
DESCRIPTION:Réunion mensuelle virtuelle seulement. 2 jeudi. \nSalle 3 \nJoindre la réunion\n \nID de le réunion : 91087779314\nCode secret: 1234
URL:https://www.aa87.org/evenement/comite-services-aux-groupes-2/2030-06-13/
LOCATION:
CATEGORIES:Comités / Committees
END:VEVENT
BEGIN:VEVENT
DTSTART;TZID=America/Toronto:20300615T093000
DTEND;TZID=America/Toronto:20300615T120000
DTSTAMP:20260421T234753
CREATED:20260216T003819Z
LAST-MODIFIED:20260314T155127Z
UID:10038110-1907746200-1907755200@www.aa87.org
SUMMARY:Réunion du Comité des Centres de Détention
DESCRIPTION:Hybride\n\nBureau des services régionnaux\n3920\, rue Rachel Est\nMontréal (Québec) H1X 1Z3\n\nSalle 1\n\n\nJoindre la réunion\n\n  \n\nID de réunion : 944 7943 6712\nCode secret : 1234
URL:https://www.aa87.org/evenement/reunion-du-comite-des-centres-de-detention/2030-06-15/
LOCATION:BSR / ASO\, 3920\, rue Rachel Est\, Montréal QC\, H1X 1Z3\, 3920\, Rachel Est\, Montréal\, Québec\, H1X 1Z3\, Canada
CATEGORIES:Centres de détention,Comités / Committees
END:VEVENT
BEGIN:VEVENT
DTSTART;TZID=America/Toronto:20300619T190000
DTEND;TZID=America/Toronto:20300619T210000
DTSTAMP:20260421T234753
CREATED:20241217T202239Z
LAST-MODIFIED:20260314T121356Z
UID:10025703-1908126000-1908133200@www.aa87.org
SUMMARY:Comité Collaboration avec les milieux professionnels (CMP)
DESCRIPTION:Réunion zoom seulement. \nSalle 1 \nJoindre la réunion\n \n  \nID de réunion : 944 7943 6712 \nCode secret : 1234
URL:https://www.aa87.org/evenement/cmp-2/2030-06-19/
LOCATION:
CATEGORIES:Activité / Activity,Comité CMP-CPC Committee,Comités / Committees
END:VEVENT
BEGIN:VEVENT
DTSTART;TZID=America/Toronto:20300619T190000
DTEND;TZID=America/Toronto:20300619T210000
DTSTAMP:20260421T234753
CREATED:20260207T134530Z
LAST-MODIFIED:20260220T181748Z
UID:10038406-1908126000-1908133200@www.aa87.org
SUMMARY:Journée des Centres de détention
DESCRIPTION:Réunion chaque troisième mercredi du mois en présence.
URL:https://www.aa87.org/evenement/centres-de-detention-4-2-2/2030-06-19/
LOCATION:BSR / ASO\, 3920\, rue Rachel Est\, Montréal QC\, H1X 1Z3\, 3920\, Rachel Est\, Montréal\, Québec\, H1X 1Z3\, Canada
CATEGORIES:Activité / Activity,Centres de détention,Comités / Committees
END:VEVENT
BEGIN:VEVENT
DTSTART;TZID=America/Toronto:20300625T190000
DTEND;TZID=America/Toronto:20300625T210000
DTSTAMP:20260421T234753
CREATED:20241218T124818Z
LAST-MODIFIED:20260315T222718Z
UID:10038881-1908644400-1908651600@www.aa87.org
SUMMARY:Comité Aide téléphonique
DESCRIPTION:Rencontre mensuelle hybride. \nSalle 1 \nJoindre la réunion\n \n  \nID de réunion : 944 7943 6712\nCode secret : 1234
URL:https://www.aa87.org/evenement/comite-aide-telephonique/2030-06-25/
LOCATION:BSR / ASO\, 3920\, rue Rachel Est\, Montréal QC\, H1X 1Z3\, 3920\, Rachel Est\, Montréal\, Québec\, H1X 1Z3\, Canada
CATEGORIES:Comités / Committees
END:VEVENT
BEGIN:VEVENT
DTSTART;TZID=America/Toronto:20300627T190000
DTEND;TZID=America/Toronto:20300627T220000
DTSTAMP:20260421T234753
CREATED:20250111T185817Z
LAST-MODIFIED:20260314T111742Z
UID:10026050-1908817200-1908828000@www.aa87.org
SUMMARY:Comité de Direction
DESCRIPTION:Hybride\nSalle 4\nJoindre la réunion\n\n 
URL:https://www.aa87.org/evenement/comite-de-direction/2030-06-27/
LOCATION:BSR / ASO\, 3920\, rue Rachel Est\, Montréal QC\, H1X 1Z3\, 3920\, Rachel Est\, Montréal\, Québec\, H1X 1Z3\, Canada
CATEGORIES:Comité de direction/Steering Committee
END:VEVENT
BEGIN:VEVENT
DTSTART;TZID=America/Toronto:20300704T190000
DTEND;TZID=America/Toronto:20300704T220000
DTSTAMP:20260421T234753
CREATED:20251227T154306Z
LAST-MODIFIED:20260313T173521Z
UID:10026088-1909422000-1909432800@www.aa87.org
SUMMARY:Comité de direction
DESCRIPTION:Hybride\nSalle 4\nJoindre la réunion\n\n 
URL:https://www.aa87.org/evenement/comite-de-direction-3-2/2030-07-04/
LOCATION:BSR / ASO\, 3920\, rue Rachel Est\, Montréal QC\, H1X 1Z3\, 3920\, Rachel Est\, Montréal\, Québec\, H1X 1Z3\, Canada
CATEGORIES:Comité de direction/Steering Committee,Comités / Committees
END:VEVENT
BEGIN:VEVENT
DTSTART;TZID=America/Toronto:20300710T190000
DTEND;TZID=America/Toronto:20300710T210000
DTSTAMP:20260421T234753
CREATED:20241218T001332Z
LAST-MODIFIED:20260314T112615Z
UID:10025862-1909940400-1909947600@www.aa87.org
SUMMARY:Comité des technologies +
DESCRIPTION:Réunion mensuelle sur Teams. \nJoindre la réunion\n \n  \nID de réunion : 210 078 105 291 \nCode secret : HwMBfV \n 
URL:https://www.aa87.org/evenement/comite-des-technologies-2/2030-07-10/
LOCATION:Réunion virtuelle seulement\, Québec\, Canada
CATEGORIES:Activité / Activity,Comité des Technologies/ Technology Committee,Comités / Committees
END:VEVENT
BEGIN:VEVENT
DTSTART;TZID=America/Toronto:20300711T193000
DTEND;TZID=America/Toronto:20300711T210000
DTSTAMP:20260421T234753
CREATED:20251227T174400Z
LAST-MODIFIED:20260314T014619Z
UID:10036910-1910028600-1910034000@www.aa87.org
SUMMARY:Comité Services aux groupes
DESCRIPTION:Réunion mensuelle virtuelle seulement. 2 jeudi. \nSalle 3 \nJoindre la réunion\n \nID de le réunion : 91087779314\nCode secret: 1234
URL:https://www.aa87.org/evenement/comite-services-aux-groupes-2/2030-07-11/
LOCATION:
CATEGORIES:Comités / Committees
END:VEVENT
BEGIN:VEVENT
DTSTART;TZID=America/Toronto:20300717T190000
DTEND;TZID=America/Toronto:20300717T210000
DTSTAMP:20260421T234753
CREATED:20241217T202239Z
LAST-MODIFIED:20260314T121356Z
UID:10025704-1910545200-1910552400@www.aa87.org
SUMMARY:Comité Collaboration avec les milieux professionnels (CMP)
DESCRIPTION:Réunion zoom seulement. \nSalle 1 \nJoindre la réunion\n \n  \nID de réunion : 944 7943 6712 \nCode secret : 1234
URL:https://www.aa87.org/evenement/cmp-2/2030-07-17/
LOCATION:
CATEGORIES:Activité / Activity,Comité CMP-CPC Committee,Comités / Committees
END:VEVENT
BEGIN:VEVENT
DTSTART;TZID=America/Toronto:20300717T190000
DTEND;TZID=America/Toronto:20300717T210000
DTSTAMP:20260421T234753
CREATED:20260207T134530Z
LAST-MODIFIED:20260220T181748Z
UID:10038407-1910545200-1910552400@www.aa87.org
SUMMARY:Journée des Centres de détention
DESCRIPTION:Réunion chaque troisième mercredi du mois en présence.
URL:https://www.aa87.org/evenement/centres-de-detention-4-2-2/2030-07-17/
LOCATION:BSR / ASO\, 3920\, rue Rachel Est\, Montréal QC\, H1X 1Z3\, 3920\, Rachel Est\, Montréal\, Québec\, H1X 1Z3\, Canada
CATEGORIES:Activité / Activity,Centres de détention,Comités / Committees
END:VEVENT
BEGIN:VEVENT
DTSTART;TZID=America/Toronto:20300723T190000
DTEND;TZID=America/Toronto:20300723T210000
DTSTAMP:20260421T234753
CREATED:20241218T124818Z
LAST-MODIFIED:20260315T222718Z
UID:10038882-1911063600-1911070800@www.aa87.org
SUMMARY:Comité Aide téléphonique
DESCRIPTION:Rencontre mensuelle hybride. \nSalle 1 \nJoindre la réunion\n \n  \nID de réunion : 944 7943 6712\nCode secret : 1234
URL:https://www.aa87.org/evenement/comite-aide-telephonique/2030-07-23/
LOCATION:BSR / ASO\, 3920\, rue Rachel Est\, Montréal QC\, H1X 1Z3\, 3920\, Rachel Est\, Montréal\, Québec\, H1X 1Z3\, Canada
CATEGORIES:Comités / Committees
END:VEVENT
BEGIN:VEVENT
DTSTART;TZID=America/Toronto:20300725T190000
DTEND;TZID=America/Toronto:20300725T220000
DTSTAMP:20260421T234753
CREATED:20250111T185817Z
LAST-MODIFIED:20260314T111742Z
UID:10026051-1911236400-1911247200@www.aa87.org
SUMMARY:Comité de Direction
DESCRIPTION:Hybride\nSalle 4\nJoindre la réunion\n\n 
URL:https://www.aa87.org/evenement/comite-de-direction/2030-07-25/
LOCATION:BSR / ASO\, 3920\, rue Rachel Est\, Montréal QC\, H1X 1Z3\, 3920\, Rachel Est\, Montréal\, Québec\, H1X 1Z3\, Canada
CATEGORIES:Comité de direction/Steering Committee
END:VEVENT
BEGIN:VEVENT
DTSTART;TZID=America/Toronto:20300801T190000
DTEND;TZID=America/Toronto:20300801T220000
DTSTAMP:20260421T234753
CREATED:20251227T154306Z
LAST-MODIFIED:20260313T173521Z
UID:10026089-1911841200-1911852000@www.aa87.org
SUMMARY:Comité de direction
DESCRIPTION:Hybride\nSalle 4\nJoindre la réunion\n\n 
URL:https://www.aa87.org/evenement/comite-de-direction-3-2/2030-08-01/
LOCATION:BSR / ASO\, 3920\, rue Rachel Est\, Montréal QC\, H1X 1Z3\, 3920\, Rachel Est\, Montréal\, Québec\, H1X 1Z3\, Canada
CATEGORIES:Comité de direction/Steering Committee,Comités / Committees
END:VEVENT
BEGIN:VEVENT
DTSTART;TZID=America/Toronto:20300803T100000
DTEND;TZID=America/Toronto:20300803T120000
DTSTAMP:20260421T234753
CREATED:20251108T131908Z
LAST-MODIFIED:20260418T121844Z
UID:10041867-1911981600-1911988800@www.aa87.org
SUMMARY:Réunion de La Vigne
DESCRIPTION:Une invitation à tous les Représentants de La Vigne. \nJoindre la réunion\n \n  \nID de réunion : 918 2068 6211\nMot de passe : 1234 \nVoir l’annonce
URL:https://www.aa87.org/evenement/reunion-de-la-vigne-2025-12-06/2030-08-03/
LOCATION:
CATEGORIES:La Vigne
END:VEVENT
BEGIN:VEVENT
DTSTART;TZID=America/Toronto:20300808T193000
DTEND;TZID=America/Toronto:20300808T210000
DTSTAMP:20260421T234753
CREATED:20251227T174400Z
LAST-MODIFIED:20260314T014619Z
UID:10036911-1912447800-1912453200@www.aa87.org
SUMMARY:Comité Services aux groupes
DESCRIPTION:Réunion mensuelle virtuelle seulement. 2 jeudi. \nSalle 3 \nJoindre la réunion\n \nID de le réunion : 91087779314\nCode secret: 1234
URL:https://www.aa87.org/evenement/comite-services-aux-groupes-2/2030-08-08/
LOCATION:
CATEGORIES:Comités / Committees
END:VEVENT
BEGIN:VEVENT
DTSTART;TZID=America/Toronto:20300814T190000
DTEND;TZID=America/Toronto:20300814T210000
DTSTAMP:20260421T234753
CREATED:20241218T001332Z
LAST-MODIFIED:20260314T112615Z
UID:10025863-1912964400-1912971600@www.aa87.org
SUMMARY:Comité des technologies +
DESCRIPTION:Réunion mensuelle sur Teams. \nJoindre la réunion\n \n  \nID de réunion : 210 078 105 291 \nCode secret : HwMBfV \n 
URL:https://www.aa87.org/evenement/comite-des-technologies-2/2030-08-14/
LOCATION:Réunion virtuelle seulement\, Québec\, Canada
CATEGORIES:Activité / Activity,Comité des Technologies/ Technology Committee,Comités / Committees
END:VEVENT
BEGIN:VEVENT
DTSTART;TZID=America/Toronto:20300817T093000
DTEND;TZID=America/Toronto:20300817T120000
DTSTAMP:20260421T234753
CREATED:20260216T003819Z
LAST-MODIFIED:20260314T155127Z
UID:10038111-1913189400-1913198400@www.aa87.org
SUMMARY:Réunion du Comité des Centres de Détention
DESCRIPTION:Hybride\n\nBureau des services régionnaux\n3920\, rue Rachel Est\nMontréal (Québec) H1X 1Z3\n\nSalle 1\n\n\nJoindre la réunion\n\n  \n\nID de réunion : 944 7943 6712\nCode secret : 1234
URL:https://www.aa87.org/evenement/reunion-du-comite-des-centres-de-detention/2030-08-17/
LOCATION:BSR / ASO\, 3920\, rue Rachel Est\, Montréal QC\, H1X 1Z3\, 3920\, Rachel Est\, Montréal\, Québec\, H1X 1Z3\, Canada
CATEGORIES:Centres de détention,Comités / Committees
END:VEVENT
BEGIN:VEVENT
DTSTART;TZID=America/Toronto:20300821T190000
DTEND;TZID=America/Toronto:20300821T210000
DTSTAMP:20260421T234753
CREATED:20241217T202239Z
LAST-MODIFIED:20260314T121356Z
UID:10025705-1913569200-1913576400@www.aa87.org
SUMMARY:Comité Collaboration avec les milieux professionnels (CMP)
DESCRIPTION:Réunion zoom seulement. \nSalle 1 \nJoindre la réunion\n \n  \nID de réunion : 944 7943 6712 \nCode secret : 1234
URL:https://www.aa87.org/evenement/cmp-2/2030-08-21/
LOCATION:
CATEGORIES:Activité / Activity,Comité CMP-CPC Committee,Comités / Committees
END:VEVENT
BEGIN:VEVENT
DTSTART;TZID=America/Toronto:20300821T190000
DTEND;TZID=America/Toronto:20300821T210000
DTSTAMP:20260421T234753
CREATED:20260207T134530Z
LAST-MODIFIED:20260220T181748Z
UID:10038408-1913569200-1913576400@www.aa87.org
SUMMARY:Journée des Centres de détention
DESCRIPTION:Réunion chaque troisième mercredi du mois en présence.
URL:https://www.aa87.org/evenement/centres-de-detention-4-2-2/2030-08-21/
LOCATION:BSR / ASO\, 3920\, rue Rachel Est\, Montréal QC\, H1X 1Z3\, 3920\, Rachel Est\, Montréal\, Québec\, H1X 1Z3\, Canada
CATEGORIES:Activité / Activity,Centres de détention,Comités / Committees
END:VEVENT
BEGIN:VEVENT
DTSTART;TZID=America/Toronto:20300822T190000
DTEND;TZID=America/Toronto:20300822T220000
DTSTAMP:20260421T234753
CREATED:20250111T185817Z
LAST-MODIFIED:20260314T111742Z
UID:10026052-1913655600-1913666400@www.aa87.org
SUMMARY:Comité de Direction
DESCRIPTION:Hybride\nSalle 4\nJoindre la réunion\n\n 
URL:https://www.aa87.org/evenement/comite-de-direction/2030-08-22/
LOCATION:BSR / ASO\, 3920\, rue Rachel Est\, Montréal QC\, H1X 1Z3\, 3920\, Rachel Est\, Montréal\, Québec\, H1X 1Z3\, Canada
CATEGORIES:Comité de direction/Steering Committee
END:VEVENT
BEGIN:VEVENT
DTSTART;TZID=America/Toronto:20300827T190000
DTEND;TZID=America/Toronto:20300827T210000
DTSTAMP:20260421T234753
CREATED:20241218T124818Z
LAST-MODIFIED:20260315T222718Z
UID:10038883-1914087600-1914094800@www.aa87.org
SUMMARY:Comité Aide téléphonique
DESCRIPTION:Rencontre mensuelle hybride. \nSalle 1 \nJoindre la réunion\n \n  \nID de réunion : 944 7943 6712\nCode secret : 1234
URL:https://www.aa87.org/evenement/comite-aide-telephonique/2030-08-27/
LOCATION:BSR / ASO\, 3920\, rue Rachel Est\, Montréal QC\, H1X 1Z3\, 3920\, Rachel Est\, Montréal\, Québec\, H1X 1Z3\, Canada
CATEGORIES:Comités / Committees
END:VEVENT
BEGIN:VEVENT
DTSTART;TZID=America/Toronto:20300905T190000
DTEND;TZID=America/Toronto:20300905T220000
DTSTAMP:20260421T234753
CREATED:20251227T154306Z
LAST-MODIFIED:20260313T173521Z
UID:10026090-1914865200-1914876000@www.aa87.org
SUMMARY:Comité de direction
DESCRIPTION:Hybride\nSalle 4\nJoindre la réunion\n\n 
URL:https://www.aa87.org/evenement/comite-de-direction-3-2/2030-09-05/
LOCATION:BSR / ASO\, 3920\, rue Rachel Est\, Montréal QC\, H1X 1Z3\, 3920\, Rachel Est\, Montréal\, Québec\, H1X 1Z3\, Canada
CATEGORIES:Comité de direction/Steering Committee,Comités / Committees
END:VEVENT
BEGIN:VEVENT
DTSTART;TZID=America/Toronto:20300911T190000
DTEND;TZID=America/Toronto:20300911T210000
DTSTAMP:20260421T234753
CREATED:20241218T001332Z
LAST-MODIFIED:20260314T112615Z
UID:10025864-1915383600-1915390800@www.aa87.org
SUMMARY:Comité des technologies +
DESCRIPTION:Réunion mensuelle sur Teams. \nJoindre la réunion\n \n  \nID de réunion : 210 078 105 291 \nCode secret : HwMBfV \n 
URL:https://www.aa87.org/evenement/comite-des-technologies-2/2030-09-11/
LOCATION:Réunion virtuelle seulement\, Québec\, Canada
CATEGORIES:Activité / Activity,Comité des Technologies/ Technology Committee,Comités / Committees
END:VEVENT
BEGIN:VEVENT
DTSTART;TZID=America/Toronto:20300912T193000
DTEND;TZID=America/Toronto:20300912T210000
DTSTAMP:20260421T234753
CREATED:20251227T174400Z
LAST-MODIFIED:20260314T014619Z
UID:10036912-1915471800-1915477200@www.aa87.org
SUMMARY:Comité Services aux groupes
DESCRIPTION:Réunion mensuelle virtuelle seulement. 2 jeudi. \nSalle 3 \nJoindre la réunion\n \nID de le réunion : 91087779314\nCode secret: 1234
URL:https://www.aa87.org/evenement/comite-services-aux-groupes-2/2030-09-12/
LOCATION:
CATEGORIES:Comités / Committees
END:VEVENT
BEGIN:VEVENT
DTSTART;TZID=America/Toronto:20300918T190000
DTEND;TZID=America/Toronto:20300918T210000
DTSTAMP:20260421T234753
CREATED:20241217T202239Z
LAST-MODIFIED:20260314T121356Z
UID:10025706-1915988400-1915995600@www.aa87.org
SUMMARY:Comité Collaboration avec les milieux professionnels (CMP)
DESCRIPTION:Réunion zoom seulement. \nSalle 1 \nJoindre la réunion\n \n  \nID de réunion : 944 7943 6712 \nCode secret : 1234
URL:https://www.aa87.org/evenement/cmp-2/2030-09-18/
LOCATION:
CATEGORIES:Activité / Activity,Comité CMP-CPC Committee,Comités / Committees
END:VEVENT
BEGIN:VEVENT
DTSTART;TZID=America/Toronto:20300918T190000
DTEND;TZID=America/Toronto:20300918T210000
DTSTAMP:20260421T234753
CREATED:20260207T134530Z
LAST-MODIFIED:20260220T181748Z
UID:10038409-1915988400-1915995600@www.aa87.org
SUMMARY:Journée des Centres de détention
DESCRIPTION:Réunion chaque troisième mercredi du mois en présence.
URL:https://www.aa87.org/evenement/centres-de-detention-4-2-2/2030-09-18/
LOCATION:BSR / ASO\, 3920\, rue Rachel Est\, Montréal QC\, H1X 1Z3\, 3920\, Rachel Est\, Montréal\, Québec\, H1X 1Z3\, Canada
CATEGORIES:Activité / Activity,Centres de détention,Comités / Committees
END:VEVENT
BEGIN:VEVENT
DTSTART;TZID=America/Toronto:20300924T190000
DTEND;TZID=America/Toronto:20300924T210000
DTSTAMP:20260421T234753
CREATED:20241218T124818Z
LAST-MODIFIED:20260315T222718Z
UID:10038884-1916506800-1916514000@www.aa87.org
SUMMARY:Comité Aide téléphonique
DESCRIPTION:Rencontre mensuelle hybride. \nSalle 1 \nJoindre la réunion\n \n  \nID de réunion : 944 7943 6712\nCode secret : 1234
URL:https://www.aa87.org/evenement/comite-aide-telephonique/2030-09-24/
LOCATION:BSR / ASO\, 3920\, rue Rachel Est\, Montréal QC\, H1X 1Z3\, 3920\, Rachel Est\, Montréal\, Québec\, H1X 1Z3\, Canada
CATEGORIES:Comités / Committees
END:VEVENT
BEGIN:VEVENT
DTSTART;TZID=America/Toronto:20300926T190000
DTEND;TZID=America/Toronto:20300926T220000
DTSTAMP:20260421T234753
CREATED:20250111T185817Z
LAST-MODIFIED:20260314T111742Z
UID:10026053-1916679600-1916690400@www.aa87.org
SUMMARY:Comité de Direction
DESCRIPTION:Hybride\nSalle 4\nJoindre la réunion\n\n 
URL:https://www.aa87.org/evenement/comite-de-direction/2030-09-26/
LOCATION:BSR / ASO\, 3920\, rue Rachel Est\, Montréal QC\, H1X 1Z3\, 3920\, Rachel Est\, Montréal\, Québec\, H1X 1Z3\, Canada
CATEGORIES:Comité de direction/Steering Committee
END:VEVENT
END:VCALENDAR