BEGIN:VCALENDAR
VERSION:2.0
PRODID:-//Alcooliques Anonymes Région 87 - ECPv6.15.17//NONSGML v1.0//EN
CALSCALE:GREGORIAN
METHOD:PUBLISH
X-WR-CALNAME:Alcooliques Anonymes Région 87
X-ORIGINAL-URL:https://www.aa87.org
X-WR-CALDESC:Évènements pour Alcooliques Anonymes Région 87
REFRESH-INTERVAL;VALUE=DURATION:PT1H
X-Robots-Tag:noindex
X-PUBLISHED-TTL:PT1H
BEGIN:VTIMEZONE
TZID:America/Toronto
BEGIN:DAYLIGHT
TZOFFSETFROM:-0500
TZOFFSETTO:-0400
TZNAME:EDT
DTSTART:20300310T070000
END:DAYLIGHT
BEGIN:STANDARD
TZOFFSETFROM:-0400
TZOFFSETTO:-0500
TZNAME:EST
DTSTART:20301103T060000
END:STANDARD
BEGIN:DAYLIGHT
TZOFFSETFROM:-0500
TZOFFSETTO:-0400
TZNAME:EDT
DTSTART:20310309T070000
END:DAYLIGHT
BEGIN:STANDARD
TZOFFSETFROM:-0400
TZOFFSETTO:-0500
TZNAME:EST
DTSTART:20311102T060000
END:STANDARD
BEGIN:DAYLIGHT
TZOFFSETFROM:-0500
TZOFFSETTO:-0400
TZNAME:EDT
DTSTART:20320314T070000
END:DAYLIGHT
BEGIN:STANDARD
TZOFFSETFROM:-0400
TZOFFSETTO:-0500
TZNAME:EST
DTSTART:20321107T060000
END:STANDARD
END:VTIMEZONE
BEGIN:VEVENT
DTSTART;TZID=America/Toronto:20310123T190000
DTEND;TZID=America/Toronto:20310123T220000
DTSTAMP:20260422T011933
CREATED:20250111T185817Z
LAST-MODIFIED:20260314T111742Z
UID:10039659-1926961200-1926972000@www.aa87.org
SUMMARY:Comité de Direction
DESCRIPTION:Hybride\nSalle 4\nJoindre la réunion\n\n 
URL:https://www.aa87.org/evenement/comite-de-direction/2031-01-23/
LOCATION:BSR / ASO\, 3920\, rue Rachel Est\, Montréal QC\, H1X 1Z3\, 3920\, Rachel Est\, Montréal\, Québec\, H1X 1Z3\, Canada
CATEGORIES:Comité de direction/Steering Committee
END:VEVENT
BEGIN:VEVENT
DTSTART;TZID=America/Toronto:20310128T190000
DTEND;TZID=America/Toronto:20310128T210000
DTSTAMP:20260422T011933
CREATED:20241218T124818Z
LAST-MODIFIED:20260315T222718Z
UID:10038888-1927393200-1927400400@www.aa87.org
SUMMARY:Comité Aide téléphonique
DESCRIPTION:Rencontre mensuelle hybride. \nSalle 1 \nJoindre la réunion\n \n  \nID de réunion : 944 7943 6712\nCode secret : 1234
URL:https://www.aa87.org/evenement/comite-aide-telephonique/2031-01-28/
LOCATION:BSR / ASO\, 3920\, rue Rachel Est\, Montréal QC\, H1X 1Z3\, 3920\, Rachel Est\, Montréal\, Québec\, H1X 1Z3\, Canada
CATEGORIES:Comités / Committees
END:VEVENT
BEGIN:VEVENT
DTSTART;TZID=America/Toronto:20310201T100000
DTEND;TZID=America/Toronto:20310201T120000
DTSTAMP:20260422T011933
CREATED:20251108T131908Z
LAST-MODIFIED:20260418T121844Z
UID:10041870-1927706400-1927713600@www.aa87.org
SUMMARY:Réunion de La Vigne
DESCRIPTION:Une invitation à tous les Représentants de La Vigne. \nJoindre la réunion\n \n  \nID de réunion : 918 2068 6211\nMot de passe : 1234 \nVoir l’annonce
URL:https://www.aa87.org/evenement/reunion-de-la-vigne-2025-12-06/2031-02-01/
LOCATION:
CATEGORIES:La Vigne
END:VEVENT
BEGIN:VEVENT
DTSTART;TZID=America/Toronto:20310206T190000
DTEND;TZID=America/Toronto:20310206T220000
DTSTAMP:20260422T011933
CREATED:20251227T154306Z
LAST-MODIFIED:20260313T173521Z
UID:10039666-1928170800-1928181600@www.aa87.org
SUMMARY:Comité de direction
DESCRIPTION:Hybride\nSalle 4\nJoindre la réunion\n\n 
URL:https://www.aa87.org/evenement/comite-de-direction-3-2/2031-02-06/
LOCATION:BSR / ASO\, 3920\, rue Rachel Est\, Montréal QC\, H1X 1Z3\, 3920\, Rachel Est\, Montréal\, Québec\, H1X 1Z3\, Canada
CATEGORIES:Comité de direction/Steering Committee,Comités / Committees
END:VEVENT
BEGIN:VEVENT
DTSTART;TZID=America/Toronto:20310212T190000
DTEND;TZID=America/Toronto:20310212T210000
DTSTAMP:20260422T011933
CREATED:20241218T001332Z
LAST-MODIFIED:20260314T112615Z
UID:10039195-1928689200-1928696400@www.aa87.org
SUMMARY:Comité des technologies +
DESCRIPTION:Réunion mensuelle sur Teams. \nJoindre la réunion\n \n  \nID de réunion : 210 078 105 291 \nCode secret : HwMBfV \n 
URL:https://www.aa87.org/evenement/comite-des-technologies-2/2031-02-12/
LOCATION:Réunion virtuelle seulement\, Québec\, Canada
CATEGORIES:Activité / Activity,Comité des Technologies/ Technology Committee,Comités / Committees
END:VEVENT
BEGIN:VEVENT
DTSTART;TZID=America/Toronto:20310213T193000
DTEND;TZID=America/Toronto:20310213T210000
DTSTAMP:20260422T011933
CREATED:20251227T174400Z
LAST-MODIFIED:20260314T014619Z
UID:10039595-1928777400-1928782800@www.aa87.org
SUMMARY:Comité Services aux groupes
DESCRIPTION:Réunion mensuelle virtuelle seulement. 2 jeudi. \nSalle 3 \nJoindre la réunion\n \nID de le réunion : 91087779314\nCode secret: 1234
URL:https://www.aa87.org/evenement/comite-services-aux-groupes-2/2031-02-13/
LOCATION:
CATEGORIES:Comités / Committees
END:VEVENT
BEGIN:VEVENT
DTSTART;TZID=America/Toronto:20310215T093000
DTEND;TZID=America/Toronto:20310215T120000
DTSTAMP:20260422T011933
CREATED:20260216T003819Z
LAST-MODIFIED:20260314T155127Z
UID:10038114-1928914200-1928923200@www.aa87.org
SUMMARY:Réunion du Comité des Centres de Détention
DESCRIPTION:Hybride\n\nBureau des services régionnaux\n3920\, rue Rachel Est\nMontréal (Québec) H1X 1Z3\n\nSalle 1\n\n\nJoindre la réunion\n\n  \n\nID de réunion : 944 7943 6712\nCode secret : 1234
URL:https://www.aa87.org/evenement/reunion-du-comite-des-centres-de-detention/2031-02-15/
LOCATION:BSR / ASO\, 3920\, rue Rachel Est\, Montréal QC\, H1X 1Z3\, 3920\, Rachel Est\, Montréal\, Québec\, H1X 1Z3\, Canada
CATEGORIES:Centres de détention,Comités / Committees
END:VEVENT
BEGIN:VEVENT
DTSTART;TZID=America/Toronto:20310219T190000
DTEND;TZID=America/Toronto:20310219T210000
DTSTAMP:20260422T011933
CREATED:20241217T202239Z
LAST-MODIFIED:20260314T121356Z
UID:10039601-1929294000-1929301200@www.aa87.org
SUMMARY:Comité Collaboration avec les milieux professionnels (CMP)
DESCRIPTION:Réunion zoom seulement. \nSalle 1 \nJoindre la réunion\n \n  \nID de réunion : 944 7943 6712 \nCode secret : 1234
URL:https://www.aa87.org/evenement/cmp-2/2031-02-19/
LOCATION:
CATEGORIES:Activité / Activity,Comité CMP-CPC Committee,Comités / Committees
END:VEVENT
BEGIN:VEVENT
DTSTART;TZID=America/Toronto:20310219T190000
DTEND;TZID=America/Toronto:20310219T210000
DTSTAMP:20260422T011933
CREATED:20260207T134530Z
LAST-MODIFIED:20260220T181748Z
UID:10038414-1929294000-1929301200@www.aa87.org
SUMMARY:Journée des Centres de détention
DESCRIPTION:Réunion chaque troisième mercredi du mois en présence.
URL:https://www.aa87.org/evenement/centres-de-detention-4-2-2/2031-02-19/
LOCATION:BSR / ASO\, 3920\, rue Rachel Est\, Montréal QC\, H1X 1Z3\, 3920\, Rachel Est\, Montréal\, Québec\, H1X 1Z3\, Canada
CATEGORIES:Activité / Activity,Centres de détention,Comités / Committees
END:VEVENT
BEGIN:VEVENT
DTSTART;TZID=America/Toronto:20310225T190000
DTEND;TZID=America/Toronto:20310225T210000
DTSTAMP:20260422T011933
CREATED:20241218T124818Z
LAST-MODIFIED:20260315T222718Z
UID:10040158-1929812400-1929819600@www.aa87.org
SUMMARY:Comité Aide téléphonique
DESCRIPTION:Rencontre mensuelle hybride. \nSalle 1 \nJoindre la réunion\n \n  \nID de réunion : 944 7943 6712\nCode secret : 1234
URL:https://www.aa87.org/evenement/comite-aide-telephonique/2031-02-25/
LOCATION:BSR / ASO\, 3920\, rue Rachel Est\, Montréal QC\, H1X 1Z3\, 3920\, Rachel Est\, Montréal\, Québec\, H1X 1Z3\, Canada
CATEGORIES:Comités / Committees
END:VEVENT
BEGIN:VEVENT
DTSTART;TZID=America/Toronto:20310227T190000
DTEND;TZID=America/Toronto:20310227T220000
DTSTAMP:20260422T011933
CREATED:20250111T185817Z
LAST-MODIFIED:20260314T111742Z
UID:10039660-1929985200-1929996000@www.aa87.org
SUMMARY:Comité de Direction
DESCRIPTION:Hybride\nSalle 4\nJoindre la réunion\n\n 
URL:https://www.aa87.org/evenement/comite-de-direction/2031-02-27/
LOCATION:BSR / ASO\, 3920\, rue Rachel Est\, Montréal QC\, H1X 1Z3\, 3920\, Rachel Est\, Montréal\, Québec\, H1X 1Z3\, Canada
CATEGORIES:Comité de direction/Steering Committee
END:VEVENT
BEGIN:VEVENT
DTSTART;TZID=America/Toronto:20310306T190000
DTEND;TZID=America/Toronto:20310306T220000
DTSTAMP:20260422T011933
CREATED:20251227T154306Z
LAST-MODIFIED:20260313T173521Z
UID:10039930-1930590000-1930600800@www.aa87.org
SUMMARY:Comité de direction
DESCRIPTION:Hybride\nSalle 4\nJoindre la réunion\n\n 
URL:https://www.aa87.org/evenement/comite-de-direction-3-2/2031-03-06/
LOCATION:BSR / ASO\, 3920\, rue Rachel Est\, Montréal QC\, H1X 1Z3\, 3920\, Rachel Est\, Montréal\, Québec\, H1X 1Z3\, Canada
CATEGORIES:Comité de direction/Steering Committee,Comités / Committees
END:VEVENT
BEGIN:VEVENT
DTSTART;TZID=America/Toronto:20310312T190000
DTEND;TZID=America/Toronto:20310312T210000
DTSTAMP:20260422T011933
CREATED:20241218T001332Z
LAST-MODIFIED:20260314T112615Z
UID:10040025-1931108400-1931115600@www.aa87.org
SUMMARY:Comité des technologies +
DESCRIPTION:Réunion mensuelle sur Teams. \nJoindre la réunion\n \n  \nID de réunion : 210 078 105 291 \nCode secret : HwMBfV \n 
URL:https://www.aa87.org/evenement/comite-des-technologies-2/2031-03-12/
LOCATION:Réunion virtuelle seulement\, Québec\, Canada
CATEGORIES:Activité / Activity,Comité des Technologies/ Technology Committee,Comités / Committees
END:VEVENT
BEGIN:VEVENT
DTSTART;TZID=America/Toronto:20310313T193000
DTEND;TZID=America/Toronto:20310313T210000
DTSTAMP:20260422T011933
CREATED:20251227T174400Z
LAST-MODIFIED:20260314T014619Z
UID:10039948-1931196600-1931202000@www.aa87.org
SUMMARY:Comité Services aux groupes
DESCRIPTION:Réunion mensuelle virtuelle seulement. 2 jeudi. \nSalle 3 \nJoindre la réunion\n \nID de le réunion : 91087779314\nCode secret: 1234
URL:https://www.aa87.org/evenement/comite-services-aux-groupes-2/2031-03-13/
LOCATION:
CATEGORIES:Comités / Committees
END:VEVENT
BEGIN:VEVENT
DTSTART;TZID=America/Toronto:20310405T100000
DTEND;TZID=America/Toronto:20310405T120000
DTSTAMP:20260422T011933
CREATED:20251108T131908Z
LAST-MODIFIED:20260418T121844Z
UID:10041871-1933149600-1933156800@www.aa87.org
SUMMARY:Réunion de La Vigne
DESCRIPTION:Une invitation à tous les Représentants de La Vigne. \nJoindre la réunion\n \n  \nID de réunion : 918 2068 6211\nMot de passe : 1234 \nVoir l’annonce
URL:https://www.aa87.org/evenement/reunion-de-la-vigne-2025-12-06/2031-04-05/
LOCATION:
CATEGORIES:La Vigne
END:VEVENT
END:VCALENDAR