BEGIN:VCALENDAR
VERSION:2.0
PRODID:-//Alcooliques Anonymes Région 87 - ECPv6.15.17//NONSGML v1.0//EN
CALSCALE:GREGORIAN
METHOD:PUBLISH
X-ORIGINAL-URL:https://www.aa87.org
X-WR-CALDESC:Évènements pour Alcooliques Anonymes Région 87
REFRESH-INTERVAL;VALUE=DURATION:PT1H
X-Robots-Tag:noindex
X-PUBLISHED-TTL:PT1H
BEGIN:VTIMEZONE
TZID:America/Toronto
BEGIN:DAYLIGHT
TZOFFSETFROM:-0500
TZOFFSETTO:-0400
TZNAME:EDT
DTSTART:20270314T070000
END:DAYLIGHT
BEGIN:STANDARD
TZOFFSETFROM:-0400
TZOFFSETTO:-0500
TZNAME:EST
DTSTART:20271107T060000
END:STANDARD
BEGIN:DAYLIGHT
TZOFFSETFROM:-0500
TZOFFSETTO:-0400
TZNAME:EDT
DTSTART:20280312T070000
END:DAYLIGHT
BEGIN:STANDARD
TZOFFSETFROM:-0400
TZOFFSETTO:-0500
TZNAME:EST
DTSTART:20281105T060000
END:STANDARD
BEGIN:DAYLIGHT
TZOFFSETFROM:-0500
TZOFFSETTO:-0400
TZNAME:EDT
DTSTART:20290311T070000
END:DAYLIGHT
BEGIN:STANDARD
TZOFFSETFROM:-0400
TZOFFSETTO:-0500
TZNAME:EST
DTSTART:20291104T060000
END:STANDARD
END:VTIMEZONE
BEGIN:VEVENT
DTSTART;TZID=America/Toronto:20280803T190000
DTEND;TZID=America/Toronto:20280803T220000
DTSTAMP:20260419T212213
CREATED:20251227T154306Z
LAST-MODIFIED:20260313T173521Z
UID:10017913-1848942000-1848952800@www.aa87.org
SUMMARY:Comité de direction
DESCRIPTION:Hybride\nSalle 4\nJoindre la réunion\n\n 
URL:https://www.aa87.org/evenement/comite-de-direction-3-2/2028-08-03/
LOCATION:BSR / ASO\, 3920\, rue Rachel Est\, Montréal QC\, H1X 1Z3\, 3920\, Rachel Est\, Montréal\, Québec\, H1X 1Z3\, Canada
CATEGORIES:Comité de direction/Steering Committee,Comités / Committees
END:VEVENT
BEGIN:VEVENT
DTSTART;TZID=America/Toronto:20280803T193000
DTEND;TZID=America/Toronto:20280803T213000
DTSTAMP:20260419T212213
CREATED:20251229T220820Z
LAST-MODIFIED:20251229T220820Z
UID:10014185-1848943800-1848951000@www.aa87.org
SUMMARY:Réunion des RSG du District 87-07
DESCRIPTION:Réunion mensuelle en présence.
URL:https://www.aa87.org/evenement/district-07-2-2-2/2028-08-03/
LOCATION:St. Mary’s Church\, 735\, Miller\, Greenfield Park QC\, 735\, Miller\, Greenfield Park\, Québec\, Canada
CATEGORIES:District 07
ORGANIZER;CN="District 7%2C Ch%C3%A2teauguay%2C St-Lambert%2C Valleyfield":MAILTO:district07@aa87.org
END:VEVENT
BEGIN:VEVENT
DTSTART;TZID=America/Toronto:20280805T100000
DTEND;TZID=America/Toronto:20280805T120000
DTSTAMP:20260419T212213
CREATED:20251108T131908Z
LAST-MODIFIED:20260418T121844Z
UID:10041855-1849082400-1849089600@www.aa87.org
SUMMARY:Réunion de La Vigne
DESCRIPTION:Une invitation à tous les Représentants de La Vigne. \nJoindre la réunion\n \n  \nID de réunion : 918 2068 6211\nMot de passe : 1234 \nVoir l’annonce
URL:https://www.aa87.org/evenement/reunion-de-la-vigne-2025-12-06/2028-08-05/
LOCATION:
CATEGORIES:La Vigne
END:VEVENT
BEGIN:VEVENT
DTSTART;TZID=America/Toronto:20280807T190000
DTEND;TZID=America/Toronto:20280807T210000
DTSTAMP:20260419T212213
CREATED:20241217T005615Z
LAST-MODIFIED:20260302T004538Z
UID:10014006-1849287600-1849294800@www.aa87.org
SUMMARY:Réunion des RSG du District 87-19
DESCRIPTION:Réunion mensuelle hybride. \nSalle 2 \nJoindre la réunion\n \nID de réunion : 918 2068 6211\nCode secret : 1234
URL:https://www.aa87.org/evenement/district-19-2-2/2028-08-07/
LOCATION:BSR / ASO\, 3920\, rue Rachel Est\, Montréal QC\, H1X 1Z3\, 3920\, Rachel Est\, Montréal\, Québec\, H1X 1Z3\, Canada
CATEGORIES:Activité / Activity,District 19
ORGANIZER;CN="District 19%2C Montreal%2C Westmount":MAILTO:district19@aa87.org
END:VEVENT
BEGIN:VEVENT
DTSTART;TZID=America/Toronto:20280807T193000
DTEND;TZID=America/Toronto:20280807T213000
DTSTAMP:20260419T212213
CREATED:20241217T223859Z
LAST-MODIFIED:20251230T165149Z
UID:10011489-1849289400-1849296600@www.aa87.org
SUMMARY:Réunion des RSG du District 87-26
DESCRIPTION:Réunion mensuelle en présence.
URL:https://www.aa87.org/evenement/district-26-2-2/2028-08-07/
LOCATION:École Les Trois Saisons (entrée par l’arrière) 570\, boul. de Mortagne\, Boucherville QC\, J4B 5E4\, 570\, boul. de Mortagne\, Boucherville\, Québec\, J4B 5E4\, Canada
CATEGORIES:Activité / Activity,District 26,District AA87
ORGANIZER;CN="District 26%2C Longueuil%2C Contrec%C5%93ur":MAILTO:district26@aa87.org
END:VEVENT
BEGIN:VEVENT
DTSTART;TZID=America/Toronto:20280808T190000
DTEND;TZID=America/Toronto:20280808T210000
DTSTAMP:20260419T212213
CREATED:20241218T000653Z
LAST-MODIFIED:20251230T152505Z
UID:10014361-1849374000-1849381200@www.aa87.org
SUMMARY:Réunion des RSG du District 87-18
DESCRIPTION:Réunion mensuelle en présence.
URL:https://www.aa87.org/evenement/district-18-2-2/2028-08-08/
LOCATION:Unity Church – 3455 Girouard in Montreal
CATEGORIES:District 18
ORGANIZER;CN="District 18%2C Verdun%2C Notre-Dame-de-Gr%C3%A2ce":MAILTO:district18@aa87.org
END:VEVENT
BEGIN:VEVENT
DTSTART;TZID=America/Toronto:20280808T190000
DTEND;TZID=America/Toronto:20280808T210000
DTSTAMP:20260419T212213
CREATED:20260327T151328Z
LAST-MODIFIED:20260327T153342Z
UID:10040210-1849374000-1849381200@www.aa87.org
SUMMARY:Réunion des RSG du District 87-10
DESCRIPTION:Réunion mensuelle hybride \nSalle 2 \nJoindre la réunion\n \n  \nID de réunion : 918 2068 6211\nCode secret : 1234
URL:https://www.aa87.org/evenement/district-10-2-2-2/2028-08-08/
LOCATION:BSR / ASO\, 3920\, rue Rachel Est\, Montréal QC\, H1X 1Z3\, 3920\, Rachel Est\, Montréal\, Québec\, H1X 1Z3\, Canada
CATEGORIES:District 10
END:VEVENT
BEGIN:VEVENT
DTSTART;TZID=America/Toronto:20280809T190000
DTEND;TZID=America/Toronto:20280809T210000
DTSTAMP:20260419T212213
CREATED:20241218T001332Z
LAST-MODIFIED:20260314T112615Z
UID:10010916-1849460400-1849467600@www.aa87.org
SUMMARY:Comité des technologies +
DESCRIPTION:Réunion mensuelle sur Teams. \nJoindre la réunion\n \n  \nID de réunion : 210 078 105 291 \nCode secret : HwMBfV \n 
URL:https://www.aa87.org/evenement/comite-des-technologies-2/2028-08-09/
LOCATION:Réunion virtuelle seulement\, Québec\, Canada
CATEGORIES:Activité / Activity,Comité des Technologies/ Technology Committee,Comités / Committees
END:VEVENT
BEGIN:VEVENT
DTSTART;TZID=America/Toronto:20280809T190000
DTEND;TZID=America/Toronto:20280809T210000
DTSTAMP:20260419T212213
CREATED:20241218T001518Z
LAST-MODIFIED:20260412T212452Z
UID:10014867-1849460400-1849467600@www.aa87.org
SUMMARY:Réunion des RSG du District 87-17
DESCRIPTION:Réunion mensuelle en présence.
URL:https://www.aa87.org/evenement/district-17-2-2-2/2028-08-09/
LOCATION:Chalet Roger Rousseau 7501\, avenue Rondeau\, sous-sol\, Anjou (QC)\, H1K 4Y3\, 7501 avenue Rondeau\, Anjou\, QC\, H1K 4Y3\, Canada
CATEGORIES:Activité / Activity,District 17,District AA87
ORGANIZER;CN="District 17%2C Montr%C3%A9al Est%2C Anjou":MAILTO:district17@aa87.org
END:VEVENT
BEGIN:VEVENT
DTSTART;TZID=America/Toronto:20280810T190000
DTEND;TZID=America/Toronto:20280810T210000
DTSTAMP:20260419T212213
CREATED:20250122T232304Z
LAST-MODIFIED:20260314T014249Z
UID:10018593-1849546800-1849554000@www.aa87.org
SUMMARY:Réunion mensuelle du congres AA de la rive sud
DESCRIPTION:Préparation du comité du congres de la rive-sud\nJoindre la réunion\n\nID de le réunion : 81677227760\nCode secret: \nVoir l’annonce \n\n\n\n\nCongrès de la Rive Sud\nRejoignez-nous à notre événement! \n\n\n\nVoir les détails du congrès\n \n\n 
URL:https://www.aa87.org/evenement/district-05-3/2028-08-10/
LOCATION:125 Coteau Rouge Longueuil\, Québec J4J 1W7 Canada\, 125 Coteau Rouge\, Longueuil\, QC\, J4J 1W7\, Canada
CATEGORIES:District 05
ORGANIZER;CN="District 5%2C Longueuil%2C St-Lambert":MAILTO:district05@aa87.org
END:VEVENT
BEGIN:VEVENT
DTSTART;TZID=America/Toronto:20280810T193000
DTEND;TZID=America/Toronto:20280810T210000
DTSTAMP:20260419T212213
CREATED:20251227T174400Z
LAST-MODIFIED:20260314T014619Z
UID:10036887-1849548600-1849554000@www.aa87.org
SUMMARY:Comité Services aux groupes
DESCRIPTION:Réunion mensuelle virtuelle seulement. 2 jeudi. \nSalle 3 \nJoindre la réunion\n \nID de le réunion : 91087779314\nCode secret: 1234
URL:https://www.aa87.org/evenement/comite-services-aux-groupes-2/2028-08-10/
LOCATION:
CATEGORIES:Comités / Committees
END:VEVENT
BEGIN:VEVENT
DTSTART;TZID=America/Toronto:20280814T193000
DTEND;TZID=America/Toronto:20280814T213000
DTSTAMP:20260419T212213
CREATED:20241217T205751Z
LAST-MODIFIED:20251230T050629Z
UID:10013946-1849894200-1849901400@www.aa87.org
SUMMARY:Réunion des RSG du District 87-15
DESCRIPTION:Réunion mensuelle en présence.
URL:https://www.aa87.org/evenement/district-15-2-2/2028-08-14/
LOCATION:136-A Jacques-Cartier Nord\, St-Jean-sur-Richelieu\, Québec\, Canada
CATEGORIES:District 15
ORGANIZER;CN="District 15%2C St-Jean-sur-Richelieu":MAILTO:district15@aa87.org
END:VEVENT
BEGIN:VEVENT
DTSTART;TZID=America/Toronto:20280815T193000
DTEND;TZID=America/Toronto:20280815T213000
DTSTAMP:20260419T212213
CREATED:20241217T204749Z
LAST-MODIFIED:20251230T214758Z
UID:10014467-1849980600-1849987800@www.aa87.org
SUMMARY:Réunion des RSG du District 87-04
DESCRIPTION:Réunion mensuelle en présence.
URL:https://www.aa87.org/evenement/district-04-2-2-2/2028-08-15/
LOCATION:5365\, Marie-Victorin\, Sainte-Catherine QC\, J5C 1L9\, 5365\, Marie-Victorin\, Sainte-Catherine\, Québec\, J5C 1L9\, Canada
CATEGORIES:District 04
ORGANIZER;CN="District 4%2C Laprairie%2C Candiac%2C Ch%C3%A2teauguay":MAILTO:district04@aa87.org
END:VEVENT
BEGIN:VEVENT
DTSTART;TZID=America/Toronto:20280816T190000
DTEND;TZID=America/Toronto:20280816T210000
DTSTAMP:20260419T212213
CREATED:20241217T202239Z
LAST-MODIFIED:20260314T121356Z
UID:10014524-1850065200-1850072400@www.aa87.org
SUMMARY:Comité Collaboration avec les milieux professionnels (CMP)
DESCRIPTION:Réunion zoom seulement. \nSalle 1 \nJoindre la réunion\n \n  \nID de réunion : 944 7943 6712 \nCode secret : 1234
URL:https://www.aa87.org/evenement/cmp-2/2028-08-16/
LOCATION:
CATEGORIES:Activité / Activity,Comité CMP-CPC Committee,Comités / Committees
END:VEVENT
BEGIN:VEVENT
DTSTART;TZID=America/Toronto:20280816T190000
DTEND;TZID=America/Toronto:20280816T210000
DTSTAMP:20260419T212213
CREATED:20260207T134530Z
LAST-MODIFIED:20260220T181748Z
UID:10038384-1850065200-1850072400@www.aa87.org
SUMMARY:Journée des Centres de détention
DESCRIPTION:Réunion chaque troisième mercredi du mois en présence.
URL:https://www.aa87.org/evenement/centres-de-detention-4-2-2/2028-08-16/
LOCATION:BSR / ASO\, 3920\, rue Rachel Est\, Montréal QC\, H1X 1Z3\, 3920\, Rachel Est\, Montréal\, Québec\, H1X 1Z3\, Canada
CATEGORIES:Activité / Activity,Centres de détention,Comités / Committees
END:VEVENT
BEGIN:VEVENT
DTSTART;TZID=America/Toronto:20280817T190000
DTEND;TZID=America/Toronto:20280817T210000
DTSTAMP:20260419T212213
CREATED:20251229T214552Z
LAST-MODIFIED:20251229T215234Z
UID:10033733-1850151600-1850158800@www.aa87.org
SUMMARY:Réunion des RSG du District 87-06
DESCRIPTION:Réunion mensuelle en présence.
URL:https://www.aa87.org/evenement/reunion-des-rsg-du-district-87-06/2028-08-17/
LOCATION:Parish of the Resurrection\, St-Andrew and St-Mark’s Church\, 865 Lakeshore drive\, Dorval\, 865 Lakeshore drive\, Dorval\, Québec\, H9S 2C7\, Canada
CATEGORIES:District 06,District AA87
ORGANIZER;CN="District 6%2C West Island":MAILTO:district06@aa87.org
END:VEVENT
BEGIN:VEVENT
DTSTART;TZID=America/Toronto:20280817T193000
DTEND;TZID=America/Toronto:20280817T213000
DTSTAMP:20260419T212213
CREATED:20241217T210519Z
LAST-MODIFIED:20251230T165834Z
UID:10014695-1850153400-1850160600@www.aa87.org
SUMMARY:Réunion des RSG du District 87-27
DESCRIPTION:Réunion mensuelle en présence.
URL:https://www.aa87.org/evenement/district-27-2-2/2028-08-17/
LOCATION:Centre Jean-Marc-Ducharme\, 21 Rue Louise-Joshephte\, Vaudreuil-Dorion\, Qc\, J7V 1B3\, 21 Rue Louise-Joshephte\,\, Vaudreuil-Dorion\, QC\, J7V 1B3\, Canada
CATEGORIES:Activité / Activity,District 27,District AA87
ORGANIZER;CN="District 27%2C Vaudreuil-Dorion":MAILTO:district27@aa87.org
END:VEVENT
BEGIN:VEVENT
DTSTART;TZID=America/Toronto:20280817T193000
DTEND;TZID=America/Toronto:20280817T213000
DTSTAMP:20260419T212213
CREATED:20241217T211720Z
LAST-MODIFIED:20251230T164714Z
UID:10013304-1850153400-1850160600@www.aa87.org
SUMMARY:Réunion des RSG du District 87-24
DESCRIPTION:Réunion mensuelle en présence.
URL:https://www.aa87.org/evenement/reunion-du-district-24-2-2/2028-08-17/
LOCATION:Chapelle du Séminaire\, (Local L’Étape)\, 1090\, rue Pratte\, St-Hyacinthe\, Québec\, Canada
CATEGORIES:Activité / Activity,District 24,District AA87
ORGANIZER;CN="District 24%2C Maskoutains (St-Hyacinthe)":MAILTO:district24@aa87.org
END:VEVENT
BEGIN:VEVENT
DTSTART;TZID=America/Toronto:20280818T190000
DTEND;TZID=America/Toronto:20280818T210000
DTSTAMP:20260419T212213
CREATED:20241217T215311Z
LAST-MODIFIED:20260314T121847Z
UID:10015692-1850238000-1850245200@www.aa87.org
SUMMARY:Réunion des RSG du District 87-08
DESCRIPTION:Réunion mensuelle virtuelle. \nSalle 2 \nJoindre la réunion\n \n  \nID de la réunion : 918 2068 6211 \nCode secret : 1234
URL:https://www.aa87.org/evenement/district-08-2-2/2028-08-18/
LOCATION:
CATEGORIES:Activité / Activity,District 08
ORGANIZER;CN="District 8%2C Montreal%2C Laval%2C Laurentides":MAILTO:district08@aa87.org
END:VEVENT
BEGIN:VEVENT
DTSTART;TZID=America/Toronto:20280819T093000
DTEND;TZID=America/Toronto:20280819T120000
DTSTAMP:20260419T212213
CREATED:20260216T003819Z
LAST-MODIFIED:20260314T155127Z
UID:10038099-1850290200-1850299200@www.aa87.org
SUMMARY:Réunion du Comité des Centres de Détention
DESCRIPTION:Hybride\n\nBureau des services régionnaux\n3920\, rue Rachel Est\nMontréal (Québec) H1X 1Z3\n\nSalle 1\n\n\nJoindre la réunion\n\n  \n\nID de réunion : 944 7943 6712\nCode secret : 1234
URL:https://www.aa87.org/evenement/reunion-du-comite-des-centres-de-detention/2028-08-19/
LOCATION:BSR / ASO\, 3920\, rue Rachel Est\, Montréal QC\, H1X 1Z3\, 3920\, Rachel Est\, Montréal\, Québec\, H1X 1Z3\, Canada
CATEGORIES:Centres de détention,Comités / Committees
END:VEVENT
BEGIN:VEVENT
DTSTART;TZID=America/Toronto:20280821T190000
DTEND;TZID=America/Toronto:20280821T210000
DTSTAMP:20260419T212213
CREATED:20241218T003040Z
LAST-MODIFIED:20260320T123550Z
UID:10014409-1850497200-1850504400@www.aa87.org
SUMMARY:Réunion des RSG du District 87-02
DESCRIPTION:Réunion mensuelle hybride. \nSalle 2 \nJoindre la réunion\n \n  \nID de réunion : 918 2068 6211 \nCode secret : 1234
URL:https://www.aa87.org/evenement/district-02-2-2/2028-08-21/
LOCATION:BSR / ASO\, 3920\, rue Rachel Est\, Montréal QC\, H1X 1Z3\, 3920\, Rachel Est\, Montréal\, Québec\, H1X 1Z3\, Canada
CATEGORIES:District 02
ORGANIZER;CN="District 2%2C Rosemont%2C St-Michel%2C Villeray":MAILTO:district02@aa87.org
END:VEVENT
BEGIN:VEVENT
DTSTART;TZID=America/Toronto:20280822T190000
DTEND;TZID=America/Toronto:20280822T210000
DTSTAMP:20260419T212213
CREATED:20241218T124818Z
LAST-MODIFIED:20260315T222718Z
UID:10015103-1850583600-1850590800@www.aa87.org
SUMMARY:Comité Aide téléphonique
DESCRIPTION:Rencontre mensuelle hybride. \nSalle 1 \nJoindre la réunion\n \n  \nID de réunion : 944 7943 6712\nCode secret : 1234
URL:https://www.aa87.org/evenement/comite-aide-telephonique/2028-08-22/
LOCATION:BSR / ASO\, 3920\, rue Rachel Est\, Montréal QC\, H1X 1Z3\, 3920\, Rachel Est\, Montréal\, Québec\, H1X 1Z3\, Canada
CATEGORIES:Comités / Committees
END:VEVENT
BEGIN:VEVENT
DTSTART;TZID=America/Toronto:20280823T190000
DTEND;TZID=America/Toronto:20280823T210000
DTSTAMP:20260419T212213
CREATED:20250128T233245Z
LAST-MODIFIED:20260314T155731Z
UID:10018865-1850670000-1850677200@www.aa87.org
SUMMARY:Comité d’info publique du District 87-02
DESCRIPTION:Salle 5 \nJoindre la réunion\n \n  \nID de réunion : 924 7313 7786\nCode secret: 1234
URL:https://www.aa87.org/evenement/infopubliquedistrict-87-02/2028-08-23/
LOCATION:
CATEGORIES:District 02,District AA87
ORGANIZER;CN="District 2%2C Rosemont%2C St-Michel%2C Villeray":MAILTO:district02@aa87.org
END:VEVENT
BEGIN:VEVENT
DTSTART;TZID=America/Toronto:20280824T190000
DTEND;TZID=America/Toronto:20280824T220000
DTSTAMP:20260419T212213
CREATED:20250111T185817Z
LAST-MODIFIED:20260314T111742Z
UID:10017797-1850756400-1850767200@www.aa87.org
SUMMARY:Comité de Direction
DESCRIPTION:Hybride\nSalle 4\nJoindre la réunion\n\n 
URL:https://www.aa87.org/evenement/comite-de-direction/2028-08-24/
LOCATION:BSR / ASO\, 3920\, rue Rachel Est\, Montréal QC\, H1X 1Z3\, 3920\, Rachel Est\, Montréal\, Québec\, H1X 1Z3\, Canada
CATEGORIES:Comité de direction/Steering Committee
END:VEVENT
BEGIN:VEVENT
DTSTART;TZID=America/Toronto:20280904T190000
DTEND;TZID=America/Toronto:20280904T210000
DTSTAMP:20260419T212213
CREATED:20241217T005615Z
LAST-MODIFIED:20260302T004538Z
UID:10014007-1851706800-1851714000@www.aa87.org
SUMMARY:Réunion des RSG du District 87-19
DESCRIPTION:Réunion mensuelle hybride. \nSalle 2 \nJoindre la réunion\n \nID de réunion : 918 2068 6211\nCode secret : 1234
URL:https://www.aa87.org/evenement/district-19-2-2/2028-09-04/
LOCATION:BSR / ASO\, 3920\, rue Rachel Est\, Montréal QC\, H1X 1Z3\, 3920\, Rachel Est\, Montréal\, Québec\, H1X 1Z3\, Canada
CATEGORIES:Activité / Activity,District 19
ORGANIZER;CN="District 19%2C Montreal%2C Westmount":MAILTO:district19@aa87.org
END:VEVENT
BEGIN:VEVENT
DTSTART;TZID=America/Toronto:20280904T193000
DTEND;TZID=America/Toronto:20280904T213000
DTSTAMP:20260419T212213
CREATED:20241217T223859Z
LAST-MODIFIED:20251230T165149Z
UID:10011490-1851708600-1851715800@www.aa87.org
SUMMARY:Réunion des RSG du District 87-26
DESCRIPTION:Réunion mensuelle en présence.
URL:https://www.aa87.org/evenement/district-26-2-2/2028-09-04/
LOCATION:École Les Trois Saisons (entrée par l’arrière) 570\, boul. de Mortagne\, Boucherville QC\, J4B 5E4\, 570\, boul. de Mortagne\, Boucherville\, Québec\, J4B 5E4\, Canada
CATEGORIES:Activité / Activity,District 26,District AA87
ORGANIZER;CN="District 26%2C Longueuil%2C Contrec%C5%93ur":MAILTO:district26@aa87.org
END:VEVENT
BEGIN:VEVENT
DTSTART;TZID=America/Toronto:20280905T190000
DTEND;TZID=America/Toronto:20280905T210000
DTSTAMP:20260419T212213
CREATED:20251229T223612Z
LAST-MODIFIED:20251229T223613Z
UID:10034284-1851793200-1851800400@www.aa87.org
SUMMARY:Réunion des RSG du District 87-13
DESCRIPTION:Rencontre mensuelle en présence.
URL:https://www.aa87.org/evenement/district-13-2-2-2/2028-09-05/
LOCATION:Centre St-Zotique\, 75\, carré Sir Georges-Étienne Cartier\, salle 215\, Montréal QC\, H4C 3A1\, 75\, carré Sir Georges-Étienne Cartier\, salle 215\, Montréal\, Québec\, H4C 3A1\, Canada
CATEGORIES:Activité / Activity,District 13,District AA87
END:VEVENT
BEGIN:VEVENT
DTSTART;TZID=America/Toronto:20280905T190000
DTEND;TZID=America/Toronto:20280905T210000
DTSTAMP:20260419T212213
CREATED:20251230T174102Z
LAST-MODIFIED:20251230T174746Z
UID:10036187-1851793200-1851800400@www.aa87.org
SUMMARY:Réunion des RSG du District 87-32
DESCRIPTION:Réunion mensuelle en présence. Adresse à déterminer.
URL:https://www.aa87.org/evenement/reunion-des-rsg-du-district-87-32/2028-09-05/
LOCATION:Québec
CATEGORIES:Activité / Activity,District 32
END:VEVENT
BEGIN:VEVENT
DTSTART;TZID=America/Toronto:20280905T193000
DTEND;TZID=America/Toronto:20280905T213000
DTSTAMP:20260419T212213
CREATED:20241217T224421Z
LAST-MODIFIED:20260228T232542Z
UID:10012141-1851795000-1851802200@www.aa87.org
SUMMARY:Réunion des RSG du District 87-21
DESCRIPTION:Rencontre mensuelle en présence.
URL:https://www.aa87.org/evenement/district-21-2-2/2028-09-05/
LOCATION:Centre communautaire Richard Goulet\, 170 rue St-Antoine Nord\, Granby\, Québec\, J2G 5G8\, Canada
CATEGORIES:Activité / Activity,District 21,District AA87
ORGANIZER;CN="District 21%2C Granby%2C Cowansville":MAILTO:district21@aa87.org
END:VEVENT
BEGIN:VEVENT
DTSTART;TZID=America/Toronto:20280906T193000
DTEND;TZID=America/Toronto:20280906T213000
DTSTAMP:20260419T212213
CREATED:20260220T183208Z
LAST-MODIFIED:20260220T183208Z
UID:10038574-1851881400-1851888600@www.aa87.org
SUMMARY:Réunion des RSG du District 87-16
DESCRIPTION:Rencontre mensuelle en présence.
URL:https://www.aa87.org/evenement/district-16-2-2-3-2-2-2-2/2028-09-06/
LOCATION:Centre communautaire\, 53\, rue Rabastalière\, St-Bruno QC\, J3V 1Y7\, 53\, rue Rabastalière\, St-Bruno\, Québec\, J3V 1Y7\, Canada
CATEGORIES:District 16
ORGANIZER;CN="District 16%2C Bel%C5%93il%2C St-Hilaire":MAILTO:district16@aa87.org
END:VEVENT
END:VCALENDAR