BEGIN:VCALENDAR
VERSION:2.0
PRODID:-//Alcooliques Anonymes Région 87 - ECPv6.15.17//NONSGML v1.0//EN
CALSCALE:GREGORIAN
METHOD:PUBLISH
X-WR-CALNAME:Alcooliques Anonymes Région 87
X-ORIGINAL-URL:https://www.aa87.org
X-WR-CALDESC:Évènements pour Alcooliques Anonymes Région 87
REFRESH-INTERVAL;VALUE=DURATION:PT1H
X-Robots-Tag:noindex
X-PUBLISHED-TTL:PT1H
BEGIN:VTIMEZONE
TZID:America/Toronto
BEGIN:DAYLIGHT
TZOFFSETFROM:-0500
TZOFFSETTO:-0400
TZNAME:EDT
DTSTART:20280312T070000
END:DAYLIGHT
BEGIN:STANDARD
TZOFFSETFROM:-0400
TZOFFSETTO:-0500
TZNAME:EST
DTSTART:20281105T060000
END:STANDARD
BEGIN:DAYLIGHT
TZOFFSETFROM:-0500
TZOFFSETTO:-0400
TZNAME:EDT
DTSTART:20290311T070000
END:DAYLIGHT
BEGIN:STANDARD
TZOFFSETFROM:-0400
TZOFFSETTO:-0500
TZNAME:EST
DTSTART:20291104T060000
END:STANDARD
BEGIN:DAYLIGHT
TZOFFSETFROM:-0500
TZOFFSETTO:-0400
TZNAME:EDT
DTSTART:20300310T070000
END:DAYLIGHT
BEGIN:STANDARD
TZOFFSETFROM:-0400
TZOFFSETTO:-0500
TZNAME:EST
DTSTART:20301103T060000
END:STANDARD
END:VTIMEZONE
BEGIN:VEVENT
DTSTART;TZID=America/Toronto:20291105T193000
DTEND;TZID=America/Toronto:20291105T213000
DTSTAMP:20260420T124024
CREATED:20241217T223859Z
LAST-MODIFIED:20251230T165149Z
UID:10011504-1888601400-1888608600@www.aa87.org
SUMMARY:Réunion des RSG du District 87-26
DESCRIPTION:Réunion mensuelle en présence.
URL:https://www.aa87.org/evenement/district-26-2-2/2029-11-05/
LOCATION:École Les Trois Saisons (entrée par l’arrière) 570\, boul. de Mortagne\, Boucherville QC\, J4B 5E4\, 570\, boul. de Mortagne\, Boucherville\, Québec\, J4B 5E4\, Canada
CATEGORIES:Activité / Activity,District 26,District AA87
ORGANIZER;CN="District 26%2C Longueuil%2C Contrec%C5%93ur":MAILTO:district26@aa87.org
END:VEVENT
BEGIN:VEVENT
DTSTART;TZID=America/Toronto:20291106T190000
DTEND;TZID=America/Toronto:20291106T210000
DTSTAMP:20260420T124024
CREATED:20251229T223612Z
LAST-MODIFIED:20251229T223613Z
UID:10034298-1888686000-1888693200@www.aa87.org
SUMMARY:Réunion des RSG du District 87-13
DESCRIPTION:Rencontre mensuelle en présence.
URL:https://www.aa87.org/evenement/district-13-2-2-2/2029-11-06/
LOCATION:Centre St-Zotique\, 75\, carré Sir Georges-Étienne Cartier\, salle 215\, Montréal QC\, H4C 3A1\, 75\, carré Sir Georges-Étienne Cartier\, salle 215\, Montréal\, Québec\, H4C 3A1\, Canada
CATEGORIES:Activité / Activity,District 13,District AA87
END:VEVENT
BEGIN:VEVENT
DTSTART;TZID=America/Toronto:20291106T190000
DTEND;TZID=America/Toronto:20291106T210000
DTSTAMP:20260420T124024
CREATED:20251230T174102Z
LAST-MODIFIED:20251230T174746Z
UID:10036201-1888686000-1888693200@www.aa87.org
SUMMARY:Réunion des RSG du District 87-32
DESCRIPTION:Réunion mensuelle en présence. Adresse à déterminer.
URL:https://www.aa87.org/evenement/reunion-des-rsg-du-district-87-32/2029-11-06/
CATEGORIES:Activité / Activity,District 32
END:VEVENT
BEGIN:VEVENT
DTSTART;TZID=America/Toronto:20291106T193000
DTEND;TZID=America/Toronto:20291106T213000
DTSTAMP:20260420T124024
CREATED:20241217T224421Z
LAST-MODIFIED:20260228T232542Z
UID:10012155-1888687800-1888695000@www.aa87.org
SUMMARY:Réunion des RSG du District 87-21
DESCRIPTION:Rencontre mensuelle en présence.
URL:https://www.aa87.org/evenement/district-21-2-2/2029-11-06/
LOCATION:Centre communautaire Richard Goulet\, 170 rue St-Antoine Nord\, Granby\, Québec\, J2G 5G8\, Canada
CATEGORIES:Activité / Activity,District 21,District AA87
ORGANIZER;CN="District 21%2C Granby%2C Cowansville":MAILTO:district21@aa87.org
END:VEVENT
BEGIN:VEVENT
DTSTART;TZID=America/Toronto:20291107T193000
DTEND;TZID=America/Toronto:20291107T213000
DTSTAMP:20260420T124024
CREATED:20260220T183208Z
LAST-MODIFIED:20260220T183208Z
UID:10038588-1888774200-1888781400@www.aa87.org
SUMMARY:Réunion des RSG du District 87-16
DESCRIPTION:Rencontre mensuelle en présence.
URL:https://www.aa87.org/evenement/district-16-2-2-3-2-2-2-2/2029-11-07/
LOCATION:Centre communautaire\, 53\, rue Rabastalière\, St-Bruno QC\, J3V 1Y7\, 53\, rue Rabastalière\, St-Bruno\, Québec\, J3V 1Y7\, Canada
CATEGORIES:District 16
ORGANIZER;CN="District 16%2C Bel%C5%93il%2C St-Hilaire":MAILTO:district16@aa87.org
END:VEVENT
BEGIN:VEVENT
DTSTART;TZID=America/Toronto:20291108T190000
DTEND;TZID=America/Toronto:20291108T210000
DTSTAMP:20260420T124024
CREATED:20250122T232304Z
LAST-MODIFIED:20260314T014249Z
UID:10018608-1888858800-1888866000@www.aa87.org
SUMMARY:Réunion mensuelle du congres AA de la rive sud
DESCRIPTION:Préparation du comité du congres de la rive-sud\nJoindre la réunion\n\nID de le réunion : 81677227760\nCode secret: \nVoir l’annonce \n\n\n\n\nCongrès de la Rive Sud\nRejoignez-nous à notre événement! \n\n\n\nVoir les détails du congrès\n \n\n 
URL:https://www.aa87.org/evenement/district-05-3/2029-11-08/
LOCATION:125 Coteau Rouge Longueuil\, Québec J4J 1W7 Canada\, 125 Coteau Rouge\, Longueuil\, QC\, J4J 1W7\, Canada
CATEGORIES:District 05
ORGANIZER;CN="District 5%2C Longueuil%2C St-Lambert":MAILTO:district05@aa87.org
END:VEVENT
BEGIN:VEVENT
DTSTART;TZID=America/Toronto:20291108T193000
DTEND;TZID=America/Toronto:20291108T210000
DTSTAMP:20260420T124024
CREATED:20251227T174400Z
LAST-MODIFIED:20260314T014619Z
UID:10036902-1888860600-1888866000@www.aa87.org
SUMMARY:Comité Services aux groupes
DESCRIPTION:Réunion mensuelle virtuelle seulement. 2 jeudi. \nSalle 3 \nJoindre la réunion\n \nID de le réunion : 91087779314\nCode secret: 1234
URL:https://www.aa87.org/evenement/comite-services-aux-groupes-2/2029-11-08/
CATEGORIES:Comités / Committees
LOCATION:
END:VEVENT
BEGIN:VEVENT
DTSTART;TZID=America/Toronto:20291112T193000
DTEND;TZID=America/Toronto:20291112T213000
DTSTAMP:20260420T124024
CREATED:20241217T205751Z
LAST-MODIFIED:20251230T050629Z
UID:10013961-1889206200-1889213400@www.aa87.org
SUMMARY:Réunion des RSG du District 87-15
DESCRIPTION:Réunion mensuelle en présence.
URL:https://www.aa87.org/evenement/district-15-2-2/2029-11-12/
LOCATION:136-A Jacques-Cartier Nord\, St-Jean-sur-Richelieu\, Québec\, Canada
CATEGORIES:District 15
ORGANIZER;CN="District 15%2C St-Jean-sur-Richelieu":MAILTO:district15@aa87.org
END:VEVENT
BEGIN:VEVENT
DTSTART;TZID=America/Toronto:20291113T190000
DTEND;TZID=America/Toronto:20291113T210000
DTSTAMP:20260420T124024
CREATED:20241218T000653Z
LAST-MODIFIED:20251230T152505Z
UID:10014376-1889290800-1889298000@www.aa87.org
SUMMARY:Réunion des RSG du District 87-18
DESCRIPTION:Réunion mensuelle en présence.
URL:https://www.aa87.org/evenement/district-18-2-2/2029-11-13/
LOCATION:Unity Church – 3455 Girouard in Montreal
CATEGORIES:District 18
ORGANIZER;CN="District 18%2C Verdun%2C Notre-Dame-de-Gr%C3%A2ce":MAILTO:district18@aa87.org
END:VEVENT
BEGIN:VEVENT
DTSTART;TZID=America/Toronto:20291113T190000
DTEND;TZID=America/Toronto:20291113T210000
DTSTAMP:20260420T124024
CREATED:20260327T151328Z
LAST-MODIFIED:20260327T153342Z
UID:10040222-1889290800-1889298000@www.aa87.org
SUMMARY:Réunion des RSG du District 87-10
DESCRIPTION:Réunion mensuelle hybride \nSalle 2 \nJoindre la réunion\n \n  \nID de réunion : 918 2068 6211\nCode secret : 1234
URL:https://www.aa87.org/evenement/district-10-2-2-2/2029-11-13/
LOCATION:BSR / ASO\, 3920\, rue Rachel Est\, Montréal QC\, H1X 1Z3\, 3920\, Rachel Est\, Montréal\, Québec\, H1X 1Z3\, Canada
CATEGORIES:District 10
END:VEVENT
BEGIN:VEVENT
DTSTART;TZID=America/Toronto:20291114T190000
DTEND;TZID=America/Toronto:20291114T210000
DTSTAMP:20260420T124024
CREATED:20241218T001332Z
LAST-MODIFIED:20260314T112615Z
UID:10010931-1889377200-1889384400@www.aa87.org
SUMMARY:Comité des technologies +
DESCRIPTION:Réunion mensuelle sur Teams. \nJoindre la réunion\n \n  \nID de réunion : 210 078 105 291 \nCode secret : HwMBfV \n 
URL:https://www.aa87.org/evenement/comite-des-technologies-2/2029-11-14/
LOCATION:Réunion virtuelle seulement\, Québec\, Canada
CATEGORIES:Activité / Activity,Comité des Technologies/ Technology Committee,Comités / Committees
END:VEVENT
BEGIN:VEVENT
DTSTART;TZID=America/Toronto:20291114T190000
DTEND;TZID=America/Toronto:20291114T210000
DTSTAMP:20260420T124024
CREATED:20241218T001518Z
LAST-MODIFIED:20260412T212452Z
UID:10014882-1889377200-1889384400@www.aa87.org
SUMMARY:Réunion des RSG du District 87-17
DESCRIPTION:Réunion mensuelle en présence.
URL:https://www.aa87.org/evenement/district-17-2-2-2/2029-11-14/
LOCATION:Chalet Roger Rousseau 7501\, avenue Rondeau\, sous-sol\, Anjou (QC)\, H1K 4Y3\, 7501 avenue Rondeau\, Anjou\, QC\, H1K 4Y3\, Canada
CATEGORIES:Activité / Activity,District 17,District AA87
ORGANIZER;CN="District 17%2C Montr%C3%A9al Est%2C Anjou":MAILTO:district17@aa87.org
END:VEVENT
BEGIN:VEVENT
DTSTART;TZID=America/Toronto:20291115T190000
DTEND;TZID=America/Toronto:20291115T210000
DTSTAMP:20260420T124024
CREATED:20251229T214552Z
LAST-MODIFIED:20251229T215234Z
UID:10033748-1889463600-1889470800@www.aa87.org
SUMMARY:Réunion des RSG du District 87-06
DESCRIPTION:Réunion mensuelle en présence.
URL:https://www.aa87.org/evenement/reunion-des-rsg-du-district-87-06/2029-11-15/
LOCATION:Parish of the Resurrection\, St-Andrew and St-Mark’s Church\, 865 Lakeshore drive\, Dorval\, 865 Lakeshore drive\, Dorval\, Québec\, H9S 2C7\, Canada
CATEGORIES:District 06,District AA87
ORGANIZER;CN="District 6%2C West Island":MAILTO:district06@aa87.org
END:VEVENT
BEGIN:VEVENT
DTSTART;TZID=America/Toronto:20291115T193000
DTEND;TZID=America/Toronto:20291115T213000
DTSTAMP:20260420T124024
CREATED:20241217T210519Z
LAST-MODIFIED:20251230T165834Z
UID:10014710-1889465400-1889472600@www.aa87.org
SUMMARY:Réunion des RSG du District 87-27
DESCRIPTION:Réunion mensuelle en présence.
URL:https://www.aa87.org/evenement/district-27-2-2/2029-11-15/
LOCATION:Centre Jean-Marc-Ducharme\, 21 Rue Louise-Joshephte\, Vaudreuil-Dorion\, Qc\, J7V 1B3\, 21 Rue Louise-Joshephte\,\, Vaudreuil-Dorion\, QC\, J7V 1B3\, Canada
CATEGORIES:Activité / Activity,District 27,District AA87
ORGANIZER;CN="District 27%2C Vaudreuil-Dorion":MAILTO:district27@aa87.org
END:VEVENT
BEGIN:VEVENT
DTSTART;TZID=America/Toronto:20291115T193000
DTEND;TZID=America/Toronto:20291115T213000
DTSTAMP:20260420T124024
CREATED:20241217T211720Z
LAST-MODIFIED:20251230T164714Z
UID:10013319-1889465400-1889472600@www.aa87.org
SUMMARY:Réunion des RSG du District 87-24
DESCRIPTION:Réunion mensuelle en présence.
URL:https://www.aa87.org/evenement/reunion-du-district-24-2-2/2029-11-15/
LOCATION:Chapelle du Séminaire\, (Local L’Étape)\, 1090\, rue Pratte\, St-Hyacinthe\, Québec\, Canada
CATEGORIES:Activité / Activity,District 24,District AA87
ORGANIZER;CN="District 24%2C Maskoutains (St-Hyacinthe)":MAILTO:district24@aa87.org
END:VEVENT
BEGIN:VEVENT
DTSTART;TZID=America/Toronto:20291116T190000
DTEND;TZID=America/Toronto:20291116T210000
DTSTAMP:20260420T124024
CREATED:20241217T215311Z
LAST-MODIFIED:20260314T121847Z
UID:10015707-1889550000-1889557200@www.aa87.org
SUMMARY:Réunion des RSG du District 87-08
DESCRIPTION:Réunion mensuelle virtuelle. \nSalle 2 \nJoindre la réunion\n \n  \nID de la réunion : 918 2068 6211 \nCode secret : 1234
URL:https://www.aa87.org/evenement/district-08-2-2/2029-11-16/
CATEGORIES:Activité / Activity,District 08
ORGANIZER;CN="District 8%2C Montreal%2C Laval%2C Laurentides":MAILTO:district08@aa87.org
LOCATION:
END:VEVENT
BEGIN:VEVENT
DTSTART;TZID=America/Toronto:20291119T190000
DTEND;TZID=America/Toronto:20291119T210000
DTSTAMP:20260420T124024
CREATED:20241218T003040Z
LAST-MODIFIED:20260320T123550Z
UID:10014424-1889809200-1889816400@www.aa87.org
SUMMARY:Réunion des RSG du District 87-02
DESCRIPTION:Réunion mensuelle hybride. \nSalle 2 \nJoindre la réunion\n \n  \nID de réunion : 918 2068 6211 \nCode secret : 1234
URL:https://www.aa87.org/evenement/district-02-2-2/2029-11-19/
LOCATION:BSR / ASO\, 3920\, rue Rachel Est\, Montréal QC\, H1X 1Z3\, 3920\, Rachel Est\, Montréal\, Québec\, H1X 1Z3\, Canada
CATEGORIES:District 02
ORGANIZER;CN="District 2%2C Rosemont%2C St-Michel%2C Villeray":MAILTO:district02@aa87.org
END:VEVENT
BEGIN:VEVENT
DTSTART;TZID=America/Toronto:20291120T193000
DTEND;TZID=America/Toronto:20291120T213000
DTSTAMP:20260420T124024
CREATED:20241217T204749Z
LAST-MODIFIED:20251230T214758Z
UID:10014482-1889897400-1889904600@www.aa87.org
SUMMARY:Réunion des RSG du District 87-04
DESCRIPTION:Réunion mensuelle en présence.
URL:https://www.aa87.org/evenement/district-04-2-2-2/2029-11-20/
LOCATION:5365\, Marie-Victorin\, Sainte-Catherine QC\, J5C 1L9\, 5365\, Marie-Victorin\, Sainte-Catherine\, Québec\, J5C 1L9\, Canada
CATEGORIES:District 04
ORGANIZER;CN="District 4%2C Laprairie%2C Candiac%2C Ch%C3%A2teauguay":MAILTO:district04@aa87.org
END:VEVENT
BEGIN:VEVENT
DTSTART;TZID=America/Toronto:20291121T190000
DTEND;TZID=America/Toronto:20291121T210000
DTSTAMP:20260420T124024
CREATED:20241217T202239Z
LAST-MODIFIED:20260314T121356Z
UID:10014539-1889982000-1889989200@www.aa87.org
SUMMARY:Comité Collaboration avec les milieux professionnels (CMP)
DESCRIPTION:Réunion zoom seulement. \nSalle 1 \nJoindre la réunion\n \n  \nID de réunion : 944 7943 6712 \nCode secret : 1234
URL:https://www.aa87.org/evenement/cmp-2/2029-11-21/
CATEGORIES:Activité / Activity,Comité CMP-CPC Committee,Comités / Committees
LOCATION:
END:VEVENT
BEGIN:VEVENT
DTSTART;TZID=America/Toronto:20291121T190000
DTEND;TZID=America/Toronto:20291121T210000
DTSTAMP:20260420T124024
CREATED:20260207T134530Z
LAST-MODIFIED:20260220T181748Z
UID:10038399-1889982000-1889989200@www.aa87.org
SUMMARY:Journée des Centres de détention
DESCRIPTION:Réunion chaque troisième mercredi du mois en présence.
URL:https://www.aa87.org/evenement/centres-de-detention-4-2-2/2029-11-21/
LOCATION:BSR / ASO\, 3920\, rue Rachel Est\, Montréal QC\, H1X 1Z3\, 3920\, Rachel Est\, Montréal\, Québec\, H1X 1Z3\, Canada
CATEGORIES:Activité / Activity,Centres de détention,Comités / Committees
END:VEVENT
BEGIN:VEVENT
DTSTART;TZID=America/Toronto:20291122T190000
DTEND;TZID=America/Toronto:20291122T220000
DTSTAMP:20260420T124024
CREATED:20250111T185817Z
LAST-MODIFIED:20260314T111742Z
UID:10017812-1890068400-1890079200@www.aa87.org
SUMMARY:Comité de Direction
DESCRIPTION:Hybride\nSalle 4\nJoindre la réunion\n\n 
URL:https://www.aa87.org/evenement/comite-de-direction/2029-11-22/
LOCATION:BSR / ASO\, 3920\, rue Rachel Est\, Montréal QC\, H1X 1Z3\, 3920\, Rachel Est\, Montréal\, Québec\, H1X 1Z3\, Canada
CATEGORIES:Comité de direction/Steering Committee
END:VEVENT
BEGIN:VEVENT
DTSTART;TZID=America/Toronto:20291127T190000
DTEND;TZID=America/Toronto:20291127T210000
DTSTAMP:20260420T124024
CREATED:20241218T124818Z
LAST-MODIFIED:20260315T222718Z
UID:10015118-1890500400-1890507600@www.aa87.org
SUMMARY:Comité Aide téléphonique
DESCRIPTION:Rencontre mensuelle hybride. \nSalle 1 \nJoindre la réunion\n \n  \nID de réunion : 944 7943 6712\nCode secret : 1234
URL:https://www.aa87.org/evenement/comite-aide-telephonique/2029-11-27/
LOCATION:BSR / ASO\, 3920\, rue Rachel Est\, Montréal QC\, H1X 1Z3\, 3920\, Rachel Est\, Montréal\, Québec\, H1X 1Z3\, Canada
CATEGORIES:Comités / Committees
END:VEVENT
BEGIN:VEVENT
DTSTART;TZID=America/Toronto:20291128T190000
DTEND;TZID=America/Toronto:20291128T210000
DTSTAMP:20260420T124024
CREATED:20250128T233245Z
LAST-MODIFIED:20260314T155731Z
UID:10018880-1890586800-1890594000@www.aa87.org
SUMMARY:Comité d’info publique du District 87-02
DESCRIPTION:Salle 5 \nJoindre la réunion\n \n  \nID de réunion : 924 7313 7786\nCode secret: 1234
URL:https://www.aa87.org/evenement/infopubliquedistrict-87-02/2029-11-28/
CATEGORIES:District 02,District AA87
ORGANIZER;CN="District 2%2C Rosemont%2C St-Michel%2C Villeray":MAILTO:district02@aa87.org
LOCATION:
END:VEVENT
BEGIN:VEVENT
DTSTART;TZID=America/Toronto:20291201T100000
DTEND;TZID=America/Toronto:20291201T120000
DTSTAMP:20260420T124024
CREATED:20251108T131908Z
LAST-MODIFIED:20260418T121844Z
UID:10041863-1890813600-1890820800@www.aa87.org
SUMMARY:Réunion de La Vigne
DESCRIPTION:Une invitation à tous les Représentants de La Vigne. \nJoindre la réunion\n \n  \nID de réunion : 918 2068 6211\nMot de passe : 1234 \nVoir l’annonce
URL:https://www.aa87.org/evenement/reunion-de-la-vigne-2025-12-06/2029-12-01/
CATEGORIES:La Vigne
LOCATION:
END:VEVENT
BEGIN:VEVENT
DTSTART;TZID=America/Toronto:20291203T190000
DTEND;TZID=America/Toronto:20291203T210000
DTSTAMP:20260420T124024
CREATED:20241217T005615Z
LAST-MODIFIED:20260302T004538Z
UID:10014022-1891018800-1891026000@www.aa87.org
SUMMARY:Réunion des RSG du District 87-19
DESCRIPTION:Réunion mensuelle hybride. \nSalle 2 \nJoindre la réunion\n \nID de réunion : 918 2068 6211\nCode secret : 1234
URL:https://www.aa87.org/evenement/district-19-2-2/2029-12-03/
LOCATION:BSR / ASO\, 3920\, rue Rachel Est\, Montréal QC\, H1X 1Z3\, 3920\, Rachel Est\, Montréal\, Québec\, H1X 1Z3\, Canada
CATEGORIES:Activité / Activity,District 19
ORGANIZER;CN="District 19%2C Montreal%2C Westmount":MAILTO:district19@aa87.org
END:VEVENT
BEGIN:VEVENT
DTSTART;TZID=America/Toronto:20291203T193000
DTEND;TZID=America/Toronto:20291203T213000
DTSTAMP:20260420T124024
CREATED:20241217T223859Z
LAST-MODIFIED:20251230T165149Z
UID:10011505-1891020600-1891027800@www.aa87.org
SUMMARY:Réunion des RSG du District 87-26
DESCRIPTION:Réunion mensuelle en présence.
URL:https://www.aa87.org/evenement/district-26-2-2/2029-12-03/
LOCATION:École Les Trois Saisons (entrée par l’arrière) 570\, boul. de Mortagne\, Boucherville QC\, J4B 5E4\, 570\, boul. de Mortagne\, Boucherville\, Québec\, J4B 5E4\, Canada
CATEGORIES:Activité / Activity,District 26,District AA87
ORGANIZER;CN="District 26%2C Longueuil%2C Contrec%C5%93ur":MAILTO:district26@aa87.org
END:VEVENT
BEGIN:VEVENT
DTSTART;TZID=America/Toronto:20291204T190000
DTEND;TZID=America/Toronto:20291204T210000
DTSTAMP:20260420T124024
CREATED:20251229T223612Z
LAST-MODIFIED:20251229T223613Z
UID:10034299-1891105200-1891112400@www.aa87.org
SUMMARY:Réunion des RSG du District 87-13
DESCRIPTION:Rencontre mensuelle en présence.
URL:https://www.aa87.org/evenement/district-13-2-2-2/2029-12-04/
LOCATION:Centre St-Zotique\, 75\, carré Sir Georges-Étienne Cartier\, salle 215\, Montréal QC\, H4C 3A1\, 75\, carré Sir Georges-Étienne Cartier\, salle 215\, Montréal\, Québec\, H4C 3A1\, Canada
CATEGORIES:Activité / Activity,District 13,District AA87
END:VEVENT
BEGIN:VEVENT
DTSTART;TZID=America/Toronto:20291204T190000
DTEND;TZID=America/Toronto:20291204T210000
DTSTAMP:20260420T124024
CREATED:20251230T174102Z
LAST-MODIFIED:20251230T174746Z
UID:10036202-1891105200-1891112400@www.aa87.org
SUMMARY:Réunion des RSG du District 87-32
DESCRIPTION:Réunion mensuelle en présence. Adresse à déterminer.
URL:https://www.aa87.org/evenement/reunion-des-rsg-du-district-87-32/2029-12-04/
CATEGORIES:Activité / Activity,District 32
END:VEVENT
BEGIN:VEVENT
DTSTART;TZID=America/Toronto:20291204T193000
DTEND;TZID=America/Toronto:20291204T213000
DTSTAMP:20260420T124024
CREATED:20241217T224421Z
LAST-MODIFIED:20260228T232542Z
UID:10012156-1891107000-1891114200@www.aa87.org
SUMMARY:Réunion des RSG du District 87-21
DESCRIPTION:Rencontre mensuelle en présence.
URL:https://www.aa87.org/evenement/district-21-2-2/2029-12-04/
LOCATION:Centre communautaire Richard Goulet\, 170 rue St-Antoine Nord\, Granby\, Québec\, J2G 5G8\, Canada
CATEGORIES:Activité / Activity,District 21,District AA87
ORGANIZER;CN="District 21%2C Granby%2C Cowansville":MAILTO:district21@aa87.org
END:VEVENT
BEGIN:VEVENT
DTSTART;TZID=America/Toronto:20291205T193000
DTEND;TZID=America/Toronto:20291205T213000
DTSTAMP:20260420T124024
CREATED:20260220T183208Z
LAST-MODIFIED:20260220T183208Z
UID:10038589-1891193400-1891200600@www.aa87.org
SUMMARY:Réunion des RSG du District 87-16
DESCRIPTION:Rencontre mensuelle en présence.
URL:https://www.aa87.org/evenement/district-16-2-2-3-2-2-2-2/2029-12-05/
LOCATION:Centre communautaire\, 53\, rue Rabastalière\, St-Bruno QC\, J3V 1Y7\, 53\, rue Rabastalière\, St-Bruno\, Québec\, J3V 1Y7\, Canada
CATEGORIES:District 16
ORGANIZER;CN="District 16%2C Bel%C5%93il%2C St-Hilaire":MAILTO:district16@aa87.org
END:VEVENT
END:VCALENDAR