BEGIN:VCALENDAR
VERSION:2.0
PRODID:-//Alcooliques Anonymes Région 87 - ECPv6.15.17//NONSGML v1.0//EN
CALSCALE:GREGORIAN
METHOD:PUBLISH
X-WR-CALNAME:Alcooliques Anonymes Région 87
X-ORIGINAL-URL:https://www.aa87.org
X-WR-CALDESC:Évènements pour Alcooliques Anonymes Région 87
REFRESH-INTERVAL;VALUE=DURATION:PT1H
X-Robots-Tag:noindex
X-PUBLISHED-TTL:PT1H
BEGIN:VTIMEZONE
TZID:America/Toronto
BEGIN:DAYLIGHT
TZOFFSETFROM:-0500
TZOFFSETTO:-0400
TZNAME:EDT
DTSTART:20260308T070000
END:DAYLIGHT
BEGIN:STANDARD
TZOFFSETFROM:-0400
TZOFFSETTO:-0500
TZNAME:EST
DTSTART:20261101T060000
END:STANDARD
BEGIN:DAYLIGHT
TZOFFSETFROM:-0500
TZOFFSETTO:-0400
TZNAME:EDT
DTSTART:20270314T070000
END:DAYLIGHT
BEGIN:STANDARD
TZOFFSETFROM:-0400
TZOFFSETTO:-0500
TZNAME:EST
DTSTART:20271107T060000
END:STANDARD
BEGIN:DAYLIGHT
TZOFFSETFROM:-0500
TZOFFSETTO:-0400
TZNAME:EDT
DTSTART:20280312T070000
END:DAYLIGHT
BEGIN:STANDARD
TZOFFSETFROM:-0400
TZOFFSETTO:-0500
TZNAME:EST
DTSTART:20281105T060000
END:STANDARD
END:VTIMEZONE
BEGIN:VEVENT
DTSTART;TZID=America/Toronto:20270909T193000
DTEND;TZID=America/Toronto:20270909T210000
DTSTAMP:20260419T132632
CREATED:20251227T174400Z
LAST-MODIFIED:20260314T014619Z
UID:10036876-1820518200-1820523600@www.aa87.org
SUMMARY:Comité Services aux groupes
DESCRIPTION:Réunion mensuelle virtuelle seulement. 2 jeudi. \nSalle 3 \nJoindre la réunion\n \nID de le réunion : 91087779314\nCode secret: 1234
URL:https://www.aa87.org/evenement/comite-services-aux-groupes-2/2027-09-09/
LOCATION:
CATEGORIES:Comités / Committees
END:VEVENT
BEGIN:VEVENT
DTSTART;TZID=America/Toronto:20270913T193000
DTEND;TZID=America/Toronto:20270913T213000
DTSTAMP:20260419T132632
CREATED:20241217T205751Z
LAST-MODIFIED:20251230T050629Z
UID:10013935-1820863800-1820871000@www.aa87.org
SUMMARY:Réunion des RSG du District 87-15
DESCRIPTION:Réunion mensuelle en présence.
URL:https://www.aa87.org/evenement/district-15-2-2/2027-09-13/
LOCATION:136-A Jacques-Cartier Nord\, St-Jean-sur-Richelieu\, Québec\, Canada
CATEGORIES:District 15
ORGANIZER;CN="District 15%2C St-Jean-sur-Richelieu":MAILTO:district15@aa87.org
END:VEVENT
BEGIN:VEVENT
DTSTART;TZID=America/Toronto:20270914T190000
DTEND;TZID=America/Toronto:20270914T210000
DTSTAMP:20260419T132632
CREATED:20241218T000653Z
LAST-MODIFIED:20251230T152505Z
UID:10014350-1820948400-1820955600@www.aa87.org
SUMMARY:Réunion des RSG du District 87-18
DESCRIPTION:Réunion mensuelle en présence.
URL:https://www.aa87.org/evenement/district-18-2-2/2027-09-14/
LOCATION:Unity Church – 3455 Girouard in Montreal
CATEGORIES:District 18
ORGANIZER;CN="District 18%2C Verdun%2C Notre-Dame-de-Gr%C3%A2ce":MAILTO:district18@aa87.org
END:VEVENT
BEGIN:VEVENT
DTSTART;TZID=America/Toronto:20270914T190000
DTEND;TZID=America/Toronto:20270914T210000
DTSTAMP:20260419T132632
CREATED:20260327T151328Z
LAST-MODIFIED:20260327T153342Z
UID:10040199-1820948400-1820955600@www.aa87.org
SUMMARY:Réunion des RSG du District 87-10
DESCRIPTION:Réunion mensuelle hybride \nSalle 2 \nJoindre la réunion\n \n  \nID de réunion : 918 2068 6211\nCode secret : 1234
URL:https://www.aa87.org/evenement/district-10-2-2-2/2027-09-14/
LOCATION:BSR / ASO\, 3920\, rue Rachel Est\, Montréal QC\, H1X 1Z3\, 3920\, Rachel Est\, Montréal\, Québec\, H1X 1Z3\, Canada
CATEGORIES:District 10
END:VEVENT
BEGIN:VEVENT
DTSTART;TZID=America/Toronto:20270915T190000
DTEND;TZID=America/Toronto:20270915T210000
DTSTAMP:20260419T132632
CREATED:20241217T202239Z
LAST-MODIFIED:20260314T121356Z
UID:10014513-1821034800-1821042000@www.aa87.org
SUMMARY:Comité Collaboration avec les milieux professionnels (CMP)
DESCRIPTION:Réunion zoom seulement. \nSalle 1 \nJoindre la réunion\n \n  \nID de réunion : 944 7943 6712 \nCode secret : 1234
URL:https://www.aa87.org/evenement/cmp-2/2027-09-15/
LOCATION:
CATEGORIES:Activité / Activity,Comité CMP-CPC Committee,Comités / Committees
END:VEVENT
BEGIN:VEVENT
DTSTART;TZID=America/Toronto:20270915T190000
DTEND;TZID=America/Toronto:20270915T210000
DTSTAMP:20260419T132632
CREATED:20260207T134530Z
LAST-MODIFIED:20260220T181748Z
UID:10038373-1821034800-1821042000@www.aa87.org
SUMMARY:Journée des Centres de détention
DESCRIPTION:Réunion chaque troisième mercredi du mois en présence.
URL:https://www.aa87.org/evenement/centres-de-detention-4-2-2/2027-09-15/
LOCATION:BSR / ASO\, 3920\, rue Rachel Est\, Montréal QC\, H1X 1Z3\, 3920\, Rachel Est\, Montréal\, Québec\, H1X 1Z3\, Canada
CATEGORIES:Activité / Activity,Centres de détention,Comités / Committees
END:VEVENT
BEGIN:VEVENT
DTSTART;TZID=America/Toronto:20270916T190000
DTEND;TZID=America/Toronto:20270916T210000
DTSTAMP:20260419T132632
CREATED:20251229T214552Z
LAST-MODIFIED:20251229T215234Z
UID:10033722-1821121200-1821128400@www.aa87.org
SUMMARY:Réunion des RSG du District 87-06
DESCRIPTION:Réunion mensuelle en présence.
URL:https://www.aa87.org/evenement/reunion-des-rsg-du-district-87-06/2027-09-16/
LOCATION:Parish of the Resurrection\, St-Andrew and St-Mark’s Church\, 865 Lakeshore drive\, Dorval\, 865 Lakeshore drive\, Dorval\, Québec\, H9S 2C7\, Canada
CATEGORIES:District 06,District AA87
ORGANIZER;CN="District 6%2C West Island":MAILTO:district06@aa87.org
END:VEVENT
BEGIN:VEVENT
DTSTART;TZID=America/Toronto:20270916T193000
DTEND;TZID=America/Toronto:20270916T213000
DTSTAMP:20260419T132632
CREATED:20241217T210519Z
LAST-MODIFIED:20251230T165834Z
UID:10014684-1821123000-1821130200@www.aa87.org
SUMMARY:Réunion des RSG du District 87-27
DESCRIPTION:Réunion mensuelle en présence.
URL:https://www.aa87.org/evenement/district-27-2-2/2027-09-16/
LOCATION:Centre Jean-Marc-Ducharme\, 21 Rue Louise-Joshephte\, Vaudreuil-Dorion\, Qc\, J7V 1B3\, 21 Rue Louise-Joshephte\,\, Vaudreuil-Dorion\, QC\, J7V 1B3\, Canada
CATEGORIES:Activité / Activity,District 27,District AA87
ORGANIZER;CN="District 27%2C Vaudreuil-Dorion":MAILTO:district27@aa87.org
END:VEVENT
BEGIN:VEVENT
DTSTART;TZID=America/Toronto:20270916T193000
DTEND;TZID=America/Toronto:20270916T213000
DTSTAMP:20260419T132632
CREATED:20241217T211720Z
LAST-MODIFIED:20251230T164714Z
UID:10013293-1821123000-1821130200@www.aa87.org
SUMMARY:Réunion des RSG du District 87-24
DESCRIPTION:Réunion mensuelle en présence.
URL:https://www.aa87.org/evenement/reunion-du-district-24-2-2/2027-09-16/
LOCATION:Chapelle du Séminaire\, (Local L’Étape)\, 1090\, rue Pratte\, St-Hyacinthe\, Québec\, Canada
CATEGORIES:Activité / Activity,District 24,District AA87
ORGANIZER;CN="District 24%2C Maskoutains (St-Hyacinthe)":MAILTO:district24@aa87.org
END:VEVENT
BEGIN:VEVENT
DTSTART;TZID=America/Toronto:20270917T190000
DTEND;TZID=America/Toronto:20270917T210000
DTSTAMP:20260419T132632
CREATED:20241217T215311Z
LAST-MODIFIED:20260314T121847Z
UID:10015681-1821207600-1821214800@www.aa87.org
SUMMARY:Réunion des RSG du District 87-08
DESCRIPTION:Réunion mensuelle virtuelle. \nSalle 2 \nJoindre la réunion\n \n  \nID de la réunion : 918 2068 6211 \nCode secret : 1234
URL:https://www.aa87.org/evenement/district-08-2-2/2027-09-17/
LOCATION:
CATEGORIES:Activité / Activity,District 08
ORGANIZER;CN="District 8%2C Montreal%2C Laval%2C Laurentides":MAILTO:district08@aa87.org
END:VEVENT
BEGIN:VEVENT
DTSTART;TZID=America/Toronto:20270920T190000
DTEND;TZID=America/Toronto:20270920T210000
DTSTAMP:20260419T132632
CREATED:20241218T003040Z
LAST-MODIFIED:20260320T123550Z
UID:10014398-1821466800-1821474000@www.aa87.org
SUMMARY:Réunion des RSG du District 87-02
DESCRIPTION:Réunion mensuelle hybride. \nSalle 2 \nJoindre la réunion\n \n  \nID de réunion : 918 2068 6211 \nCode secret : 1234
URL:https://www.aa87.org/evenement/district-02-2-2/2027-09-20/
LOCATION:BSR / ASO\, 3920\, rue Rachel Est\, Montréal QC\, H1X 1Z3\, 3920\, Rachel Est\, Montréal\, Québec\, H1X 1Z3\, Canada
CATEGORIES:District 02
ORGANIZER;CN="District 2%2C Rosemont%2C St-Michel%2C Villeray":MAILTO:district02@aa87.org
END:VEVENT
BEGIN:VEVENT
DTSTART;TZID=America/Toronto:20270921T193000
DTEND;TZID=America/Toronto:20270921T213000
DTSTAMP:20260419T132632
CREATED:20241217T204749Z
LAST-MODIFIED:20251230T214758Z
UID:10014456-1821555000-1821562200@www.aa87.org
SUMMARY:Réunion des RSG du District 87-04
DESCRIPTION:Réunion mensuelle en présence.
URL:https://www.aa87.org/evenement/district-04-2-2-2/2027-09-21/
LOCATION:5365\, Marie-Victorin\, Sainte-Catherine QC\, J5C 1L9\, 5365\, Marie-Victorin\, Sainte-Catherine\, Québec\, J5C 1L9\, Canada
CATEGORIES:District 04
ORGANIZER;CN="District 4%2C Laprairie%2C Candiac%2C Ch%C3%A2teauguay":MAILTO:district04@aa87.org
END:VEVENT
BEGIN:VEVENT
DTSTART;TZID=America/Toronto:20270922T190000
DTEND;TZID=America/Toronto:20270922T210000
DTSTAMP:20260419T132632
CREATED:20250128T233245Z
LAST-MODIFIED:20260314T155731Z
UID:10018854-1821639600-1821646800@www.aa87.org
SUMMARY:Comité d’info publique du District 87-02
DESCRIPTION:Salle 5 \nJoindre la réunion\n \n  \nID de réunion : 924 7313 7786\nCode secret: 1234
URL:https://www.aa87.org/evenement/infopubliquedistrict-87-02/2027-09-22/
LOCATION:
CATEGORIES:District 02,District AA87
ORGANIZER;CN="District 2%2C Rosemont%2C St-Michel%2C Villeray":MAILTO:district02@aa87.org
END:VEVENT
BEGIN:VEVENT
DTSTART;TZID=America/Toronto:20270923T190000
DTEND;TZID=America/Toronto:20270923T220000
DTSTAMP:20260419T132632
CREATED:20250111T185817Z
LAST-MODIFIED:20260314T111742Z
UID:10017786-1821726000-1821736800@www.aa87.org
SUMMARY:Comité de Direction
DESCRIPTION:Hybride\nSalle 4\nJoindre la réunion\n\n 
URL:https://www.aa87.org/evenement/comite-de-direction/2027-09-23/
LOCATION:BSR / ASO\, 3920\, rue Rachel Est\, Montréal QC\, H1X 1Z3\, 3920\, Rachel Est\, Montréal\, Québec\, H1X 1Z3\, Canada
CATEGORIES:Comité de direction/Steering Committee
END:VEVENT
BEGIN:VEVENT
DTSTART;TZID=America/Toronto:20270928T190000
DTEND;TZID=America/Toronto:20270928T210000
DTSTAMP:20260419T132632
CREATED:20241218T124818Z
LAST-MODIFIED:20260315T222718Z
UID:10015092-1822158000-1822165200@www.aa87.org
SUMMARY:Comité Aide téléphonique
DESCRIPTION:Rencontre mensuelle hybride. \nSalle 1 \nJoindre la réunion\n \n  \nID de réunion : 944 7943 6712\nCode secret : 1234
URL:https://www.aa87.org/evenement/comite-aide-telephonique/2027-09-28/
LOCATION:BSR / ASO\, 3920\, rue Rachel Est\, Montréal QC\, H1X 1Z3\, 3920\, Rachel Est\, Montréal\, Québec\, H1X 1Z3\, Canada
CATEGORIES:Comités / Committees
END:VEVENT
BEGIN:VEVENT
DTSTART;TZID=America/Toronto:20271002T100000
DTEND;TZID=America/Toronto:20271002T120000
DTSTAMP:20260419T132632
CREATED:20251108T131908Z
LAST-MODIFIED:20260418T121844Z
UID:10041850-1822471200-1822478400@www.aa87.org
SUMMARY:Réunion de La Vigne
DESCRIPTION:Une invitation à tous les Représentants de La Vigne. \nJoindre la réunion\n \n  \nID de réunion : 918 2068 6211\nMot de passe : 1234 \nVoir l’annonce
URL:https://www.aa87.org/evenement/reunion-de-la-vigne-2025-12-06/2027-10-02/
LOCATION:
CATEGORIES:La Vigne
END:VEVENT
BEGIN:VEVENT
DTSTART;TZID=America/Toronto:20271004T190000
DTEND;TZID=America/Toronto:20271004T210000
DTSTAMP:20260419T132632
CREATED:20241217T005615Z
LAST-MODIFIED:20260302T004538Z
UID:10013996-1822676400-1822683600@www.aa87.org
SUMMARY:Réunion des RSG du District 87-19
DESCRIPTION:Réunion mensuelle hybride. \nSalle 2 \nJoindre la réunion\n \nID de réunion : 918 2068 6211\nCode secret : 1234
URL:https://www.aa87.org/evenement/district-19-2-2/2027-10-04/
LOCATION:BSR / ASO\, 3920\, rue Rachel Est\, Montréal QC\, H1X 1Z3\, 3920\, Rachel Est\, Montréal\, Québec\, H1X 1Z3\, Canada
CATEGORIES:Activité / Activity,District 19
ORGANIZER;CN="District 19%2C Montreal%2C Westmount":MAILTO:district19@aa87.org
END:VEVENT
BEGIN:VEVENT
DTSTART;TZID=America/Toronto:20271004T193000
DTEND;TZID=America/Toronto:20271004T213000
DTSTAMP:20260419T132632
CREATED:20241217T223859Z
LAST-MODIFIED:20251230T165149Z
UID:10011479-1822678200-1822685400@www.aa87.org
SUMMARY:Réunion des RSG du District 87-26
DESCRIPTION:Réunion mensuelle en présence.
URL:https://www.aa87.org/evenement/district-26-2-2/2027-10-04/
LOCATION:École Les Trois Saisons (entrée par l’arrière) 570\, boul. de Mortagne\, Boucherville QC\, J4B 5E4\, 570\, boul. de Mortagne\, Boucherville\, Québec\, J4B 5E4\, Canada
CATEGORIES:Activité / Activity,District 26,District AA87
ORGANIZER;CN="District 26%2C Longueuil%2C Contrec%C5%93ur":MAILTO:district26@aa87.org
END:VEVENT
BEGIN:VEVENT
DTSTART;TZID=America/Toronto:20271005T190000
DTEND;TZID=America/Toronto:20271005T210000
DTSTAMP:20260419T132632
CREATED:20251229T223612Z
LAST-MODIFIED:20251229T223613Z
UID:10034273-1822762800-1822770000@www.aa87.org
SUMMARY:Réunion des RSG du District 87-13
DESCRIPTION:Rencontre mensuelle en présence.
URL:https://www.aa87.org/evenement/district-13-2-2-2/2027-10-05/
LOCATION:Centre St-Zotique\, 75\, carré Sir Georges-Étienne Cartier\, salle 215\, Montréal QC\, H4C 3A1\, 75\, carré Sir Georges-Étienne Cartier\, salle 215\, Montréal\, Québec\, H4C 3A1\, Canada
CATEGORIES:Activité / Activity,District 13,District AA87
END:VEVENT
BEGIN:VEVENT
DTSTART;TZID=America/Toronto:20271005T190000
DTEND;TZID=America/Toronto:20271005T210000
DTSTAMP:20260419T132632
CREATED:20251230T174102Z
LAST-MODIFIED:20251230T174746Z
UID:10036176-1822762800-1822770000@www.aa87.org
SUMMARY:Réunion des RSG du District 87-32
DESCRIPTION:Réunion mensuelle en présence. Adresse à déterminer.
URL:https://www.aa87.org/evenement/reunion-des-rsg-du-district-87-32/2027-10-05/
LOCATION:Québec
CATEGORIES:Activité / Activity,District 32
END:VEVENT
BEGIN:VEVENT
DTSTART;TZID=America/Toronto:20271005T193000
DTEND;TZID=America/Toronto:20271005T213000
DTSTAMP:20260419T132632
CREATED:20241217T224421Z
LAST-MODIFIED:20260228T232542Z
UID:10012130-1822764600-1822771800@www.aa87.org
SUMMARY:Réunion des RSG du District 87-21
DESCRIPTION:Rencontre mensuelle en présence.
URL:https://www.aa87.org/evenement/district-21-2-2/2027-10-05/
LOCATION:Centre communautaire Richard Goulet\, 170 rue St-Antoine Nord\, Granby\, Québec\, J2G 5G8\, Canada
CATEGORIES:Activité / Activity,District 21,District AA87
ORGANIZER;CN="District 21%2C Granby%2C Cowansville":MAILTO:district21@aa87.org
END:VEVENT
BEGIN:VEVENT
DTSTART;TZID=America/Toronto:20271006T193000
DTEND;TZID=America/Toronto:20271006T213000
DTSTAMP:20260419T132632
CREATED:20260220T183208Z
LAST-MODIFIED:20260220T183208Z
UID:10038563-1822851000-1822858200@www.aa87.org
SUMMARY:Réunion des RSG du District 87-16
DESCRIPTION:Rencontre mensuelle en présence.
URL:https://www.aa87.org/evenement/district-16-2-2-3-2-2-2-2/2027-10-06/
LOCATION:Centre communautaire\, 53\, rue Rabastalière\, St-Bruno QC\, J3V 1Y7\, 53\, rue Rabastalière\, St-Bruno\, Québec\, J3V 1Y7\, Canada
CATEGORIES:District 16
ORGANIZER;CN="District 16%2C Bel%C5%93il%2C St-Hilaire":MAILTO:district16@aa87.org
END:VEVENT
BEGIN:VEVENT
DTSTART;TZID=America/Toronto:20271007T190000
DTEND;TZID=America/Toronto:20271007T210000
DTSTAMP:20260419T132632
CREATED:20251229T205224Z
LAST-MODIFIED:20260303T001359Z
UID:10013222-1822935600-1822942800@www.aa87.org
SUMMARY:Réunion des RSG du District 87-05
DESCRIPTION:Réunion mensuelle hybride \nJoindre la réunion\n \nID de réunion : 862 4418 3943\nCode secret :
URL:https://www.aa87.org/evenement/district-05-2-2-2/2027-10-07/
LOCATION:Place à l’emploi\, 125 Chem. du Coteau-Rouge\, Longueuil\, QC J4J 1W7\, Canada
CATEGORIES:Activité / Activity,District 05,District AA87
ORGANIZER;CN="District 5%2C Longueuil%2C St-Lambert":MAILTO:district05@aa87.org
END:VEVENT
BEGIN:VEVENT
DTSTART;TZID=America/Toronto:20271007T190000
DTEND;TZID=America/Toronto:20271007T220000
DTSTAMP:20260419T132632
CREATED:20251227T154306Z
LAST-MODIFIED:20260313T173521Z
UID:10017903-1822935600-1822946400@www.aa87.org
SUMMARY:Comité de direction
DESCRIPTION:Hybride\nSalle 4\nJoindre la réunion\n\n 
URL:https://www.aa87.org/evenement/comite-de-direction-3-2/2027-10-07/
LOCATION:BSR / ASO\, 3920\, rue Rachel Est\, Montréal QC\, H1X 1Z3\, 3920\, Rachel Est\, Montréal\, Québec\, H1X 1Z3\, Canada
CATEGORIES:Comité de direction/Steering Committee,Comités / Committees
END:VEVENT
BEGIN:VEVENT
DTSTART;TZID=America/Toronto:20271007T193000
DTEND;TZID=America/Toronto:20271007T213000
DTSTAMP:20260419T132632
CREATED:20251229T220820Z
LAST-MODIFIED:20251229T220820Z
UID:10014175-1822937400-1822944600@www.aa87.org
SUMMARY:Réunion des RSG du District 87-07
DESCRIPTION:Réunion mensuelle en présence.
URL:https://www.aa87.org/evenement/district-07-2-2-2/2027-10-07/
LOCATION:St. Mary’s Church\, 735\, Miller\, Greenfield Park QC\, 735\, Miller\, Greenfield Park\, Québec\, Canada
CATEGORIES:District 07
ORGANIZER;CN="District 7%2C Ch%C3%A2teauguay%2C St-Lambert%2C Valleyfield":MAILTO:district07@aa87.org
END:VEVENT
BEGIN:VEVENT
DTSTART;TZID=America/Toronto:20271011T193000
DTEND;TZID=America/Toronto:20271011T213000
DTSTAMP:20260419T132632
CREATED:20241217T205751Z
LAST-MODIFIED:20251230T050629Z
UID:10013936-1823283000-1823290200@www.aa87.org
SUMMARY:Réunion des RSG du District 87-15
DESCRIPTION:Réunion mensuelle en présence.
URL:https://www.aa87.org/evenement/district-15-2-2/2027-10-11/
LOCATION:136-A Jacques-Cartier Nord\, St-Jean-sur-Richelieu\, Québec\, Canada
CATEGORIES:District 15
ORGANIZER;CN="District 15%2C St-Jean-sur-Richelieu":MAILTO:district15@aa87.org
END:VEVENT
BEGIN:VEVENT
DTSTART;TZID=America/Toronto:20271012T190000
DTEND;TZID=America/Toronto:20271012T210000
DTSTAMP:20260419T132632
CREATED:20241218T000653Z
LAST-MODIFIED:20251230T152505Z
UID:10014351-1823367600-1823374800@www.aa87.org
SUMMARY:Réunion des RSG du District 87-18
DESCRIPTION:Réunion mensuelle en présence.
URL:https://www.aa87.org/evenement/district-18-2-2/2027-10-12/
LOCATION:Unity Church – 3455 Girouard in Montreal
CATEGORIES:District 18
ORGANIZER;CN="District 18%2C Verdun%2C Notre-Dame-de-Gr%C3%A2ce":MAILTO:district18@aa87.org
END:VEVENT
BEGIN:VEVENT
DTSTART;TZID=America/Toronto:20271012T190000
DTEND;TZID=America/Toronto:20271012T210000
DTSTAMP:20260419T132632
CREATED:20260327T151328Z
LAST-MODIFIED:20260327T153342Z
UID:10040200-1823367600-1823374800@www.aa87.org
SUMMARY:Réunion des RSG du District 87-10
DESCRIPTION:Réunion mensuelle hybride \nSalle 2 \nJoindre la réunion\n \n  \nID de réunion : 918 2068 6211\nCode secret : 1234
URL:https://www.aa87.org/evenement/district-10-2-2-2/2027-10-12/
LOCATION:BSR / ASO\, 3920\, rue Rachel Est\, Montréal QC\, H1X 1Z3\, 3920\, Rachel Est\, Montréal\, Québec\, H1X 1Z3\, Canada
CATEGORIES:District 10
END:VEVENT
BEGIN:VEVENT
DTSTART;TZID=America/Toronto:20271013T190000
DTEND;TZID=America/Toronto:20271013T210000
DTSTAMP:20260419T132632
CREATED:20241218T001332Z
LAST-MODIFIED:20260314T112615Z
UID:10010906-1823454000-1823461200@www.aa87.org
SUMMARY:Comité des technologies +
DESCRIPTION:Réunion mensuelle sur Teams. \nJoindre la réunion\n \n  \nID de réunion : 210 078 105 291 \nCode secret : HwMBfV \n 
URL:https://www.aa87.org/evenement/comite-des-technologies-2/2027-10-13/
LOCATION:Réunion virtuelle seulement\, Québec\, Canada
CATEGORIES:Activité / Activity,Comité des Technologies/ Technology Committee,Comités / Committees
END:VEVENT
BEGIN:VEVENT
DTSTART;TZID=America/Toronto:20271013T190000
DTEND;TZID=America/Toronto:20271013T210000
DTSTAMP:20260419T132632
CREATED:20241218T001518Z
LAST-MODIFIED:20260412T212452Z
UID:10014857-1823454000-1823461200@www.aa87.org
SUMMARY:Réunion des RSG du District 87-17
DESCRIPTION:Réunion mensuelle en présence.
URL:https://www.aa87.org/evenement/district-17-2-2-2/2027-10-13/
LOCATION:Chalet Roger Rousseau 7501\, avenue Rondeau\, sous-sol\, Anjou (QC)\, H1K 4Y3\, 7501 avenue Rondeau\, Anjou\, QC\, H1K 4Y3\, Canada
CATEGORIES:Activité / Activity,District 17,District AA87
ORGANIZER;CN="District 17%2C Montr%C3%A9al Est%2C Anjou":MAILTO:district17@aa87.org
END:VEVENT
END:VCALENDAR