BEGIN:VCALENDAR
VERSION:2.0
PRODID:-//Alcooliques Anonymes Région 87 - ECPv6.15.17//NONSGML v1.0//EN
CALSCALE:GREGORIAN
METHOD:PUBLISH
X-WR-CALNAME:Alcooliques Anonymes Région 87
X-ORIGINAL-URL:https://www.aa87.org
X-WR-CALDESC:Évènements pour Alcooliques Anonymes Région 87
REFRESH-INTERVAL;VALUE=DURATION:PT1H
X-Robots-Tag:noindex
X-PUBLISHED-TTL:PT1H
BEGIN:VTIMEZONE
TZID:America/Toronto
BEGIN:DAYLIGHT
TZOFFSETFROM:-0500
TZOFFSETTO:-0400
TZNAME:EDT
DTSTART:20250309T070000
END:DAYLIGHT
BEGIN:STANDARD
TZOFFSETFROM:-0400
TZOFFSETTO:-0500
TZNAME:EST
DTSTART:20251102T060000
END:STANDARD
BEGIN:DAYLIGHT
TZOFFSETFROM:-0500
TZOFFSETTO:-0400
TZNAME:EDT
DTSTART:20260308T070000
END:DAYLIGHT
BEGIN:STANDARD
TZOFFSETFROM:-0400
TZOFFSETTO:-0500
TZNAME:EST
DTSTART:20261101T060000
END:STANDARD
BEGIN:DAYLIGHT
TZOFFSETFROM:-0500
TZOFFSETTO:-0400
TZNAME:EDT
DTSTART:20270314T070000
END:DAYLIGHT
BEGIN:STANDARD
TZOFFSETFROM:-0400
TZOFFSETTO:-0500
TZNAME:EST
DTSTART:20271107T060000
END:STANDARD
END:VTIMEZONE
BEGIN:VEVENT
DTSTART;VALUE=DATE:20260421
DTEND;VALUE=DATE:20260422
DTSTAMP:20260421T232016
CREATED:20250914T005030Z
LAST-MODIFIED:20250914T005030Z
UID:10025419-1776729600-1776815999@www.aa87.org
SUMMARY:Réflexion quotidienne 21 avril
DESCRIPTION:Cultiver sa foi\n21 avril\n\n« À mon avis\, disait Dr Bob lui-même\, nous ne pouvons rien réussir en ce bas monde à moins de nous y appliquer. Aussi\, pour être un bon membre des AA faut-il mettre en pratique les principes du Mouvement… Nous devons\, par exemple\,… \nacquérir l’esprit de service. Nous devons aussi nous efforcer d’acquérir une certaine forme de foi. Voilà qui n’est pas facile\, particulièrement pour quelqu’un qui a toujours été très matérialiste dans l’esprit de la société d’aujourd’hui. Mais\, pour moi\, la foi s’acquiert. Elle vient lentement ; elle doit se cultiver. Comme la tâche n’a pas été facile pour moi\, je peux comprendre les difficultés des au- tres… \nDr. Bob et les pionniers\, P. 307-308 \nLa peur est souvent une force qui m’empêche d’acquérir et de cultiver le pouvoir de la foi. Elle m’empêche d’apprécier la beauté\, la tolérance\, le pardon\, le service et la sérénité. \nExtrait du livre Réflexions quotidiennes\nCopyright © 1991 par Alcoholics Anonymous World Services\, Inc. Tous droits réservés. \nTous les Réflexions quotidiennes
URL:https://www.aa87.org/evenement/rq0421/2026-04-21/
CATEGORIES:Réflexions Quotidiennes
END:VEVENT
BEGIN:VEVENT
DTSTART;VALUE=DATE:20260422
DTEND;VALUE=DATE:20260423
DTSTAMP:20260421T232016
CREATED:20250914T010032Z
LAST-MODIFIED:20250914T010032Z
UID:10025434-1776816000-1776902399@www.aa87.org
SUMMARY:Réflexion quotidienne 22 avril
DESCRIPTION:Prendre racine dans un sol nouveau\n22 avril\n\nLes moments de perception peuvent mener à une existence empreinte de sérénité spirituelle\, comme j’ai de bonnes raisons de le savoir. Les racines de la réalité\, remplaceront les broussailles de la névrose\, résisteront aux vents violents de forces qui nous anéantiraient\, ou que nous utiliserions pour notre propre destruction. \nRéflexions de Bill\, p. 173 \nQuand je suis arrivé chez les AA\, j’étais une jeune pousse frêle dont la racine était exposée à l’air. Je ne cherchais que la survie\, mais c’était un début. J’ai grandi\, je me suis développé\, je me suis aussi replié\, mais avec l’aide des autres\, mon esprit a finalement pris racine. J’étais libre. J’ai agi\, j’ai dépéri parfois\, je me suis recueilli\, j’ai prié\, j’ai agi encore et j’ai compris à nouveau. Au-dessus de mes racines\, l’esprit a donné naissance à de grosses tiges saines qui s’élèvent toujours plus haut pour servir Dieu. \nIci\, sur terre\, Dieu continue de nous offrir sans condition l’héritage de son amour supérieur. Ma vie chez les AA m’a placé « sur une base différente… [j’ai] pris racine dans un sol nouveau » (Gros Livre\, p.13). \nExtrait du livre Réflexions quotidiennes\nCopyright © 1991 par Alcoholics Anonymous World Services\, Inc. Tous droits réservés. \nTous les Réflexions quotidiennes
URL:https://www.aa87.org/evenement/rq0422/2026-04-22/
CATEGORIES:Réflexions Quotidiennes
END:VEVENT
BEGIN:VEVENT
DTSTART;VALUE=DATE:20260423
DTEND;VALUE=DATE:20260424
DTSTAMP:20260421T232016
CREATED:20250914T123557Z
LAST-MODIFIED:20250914T123636Z
UID:10025449-1776902400-1776988799@www.aa87.org
SUMMARY:Réflexion quotidienne 23 avril
DESCRIPTION:AA n’est pas le remède universel\n23 avril\n\nCe serait pure vanité de prétendre que le mouve- ment des AA peut guérir tous les maux\, même l’al- coolisme. \nRéflexions de Bill\, p. 285 \nLes premières années où j’étais abstinent\, j’étais rempli de vanité et je croyais que les AA offraient la seule thérapie pouvant mener à une vie belle et heureuse. Le mouvement a vraiment été l’instrument de ma sobriété et\, encore aujourd’hui après plus de douze ans\, je continue de participer aux réunions\, au parrainage et au service. Néanmoins\, pendant mes quatre premières années de sobriété\, j’ai dû recourir à une aide professionnelle parce que ma santé émotive était très défaillante. Il y a aussi ceux et celles qui ont trouvé la sobriété et le bonheur grâce à d’autres associations. Les AA m’ont appris que je n’avais qu’un seul choix : prendre tous les moyens pour favoriser ma sobriété. Le mouvement des AA n’est peut-être pas le remède universel\, mais il est le centre de ma vie sans alcool. \n\nExtrait du livre Réflexions quotidiennes\nCopyright © 1991 par Alcoholics Anonymous World Services\, Inc. Tous droits réservés. \nTous les Réflexions quotidiennes
URL:https://www.aa87.org/evenement/rq0423/2026-04-23/
CATEGORIES:Réflexions Quotidiennes
END:VEVENT
BEGIN:VEVENT
DTSTART;VALUE=DATE:20260424
DTEND;VALUE=DATE:20260425
DTSTAMP:20260421T232016
CREATED:20250914T124708Z
LAST-MODIFIED:20250914T124708Z
UID:10025464-1776988800-1777075199@www.aa87.org
SUMMARY:Réflexion quotidienne 24 avril
DESCRIPTION:Apprendre à s’aimer\n24 avril\n\nL’alcoolisme nous isolait\, même si nous étions entourés de gens qui nous aimaient… Nous cher- chions notre sécurité émotive en dominant les au- tres ou en étant dominés… Nous avons encore vai- nement tenté de retrouver notre sécurité dans quelque malsaine forme de domination ou de dépendance. \nRéflexions de Bill\, p. 252 \nEn faisant mon inventaire personnel\, j’ai découvert que j’entretenais des relations malsaines avec la plupart des personnes qui occupaient une place dans ma vie\, mes amis et ma famille entre autres. Je me suis toujours senti seul et à l’écart des autres. J’ai bu pour engourdir ma souffrance affective. \nMais en m’abstenant de boire\, en ayant un bon parrain et en pratiquant les Douze Étapes\, j’ai pu remonter dans ma propre estime. Les Étapes m’ont d’abord appris à devenir mon propre meilleur ami\, puis à m’aimer moi-même\, enfin à tendre la main aux autres et à les aimer. \nExtrait du livre Réflexions quotidiennes\nCopyright © 1991 par Alcoholics Anonymous World Services\, Inc. Tous droits réservés. \nTous les Réflexions quotidiennes
URL:https://www.aa87.org/evenement/rq0424/2026-04-24/
CATEGORIES:Réflexions Quotidiennes
END:VEVENT
BEGIN:VEVENT
DTSTART;VALUE=DATE:20260425
DTEND;VALUE=DATE:20260426
DTSTAMP:20260421T232016
CREATED:20250915T222534Z
LAST-MODIFIED:20250915T222534Z
UID:10025479-1777075200-1777161599@www.aa87.org
SUMMARY:Réflexion quotidienne 25 avril
DESCRIPTION:Une nouvelle dimension\n25 avril\n\nAux derniers stades de notre alcoolisme\, la volon- té de résister a fui. Par contre\, lorsque nous admet- tons notre défaite totale et lorsque nous devenons entièrement disposés à faire l’essai des principes des AA\, l’obsession nous quitte et nous entrons dans une nouvelle dimension : la liberté entre les mains de Dieu tel que nous Le concevons. \nRéflexions de Bill\, p. 283 \nJ’ai le bonheur de faire partie de ceux qui ont connu cette impressionnante transformation dans leur vie. Quand j’ai passé la porte des AA\, seul et désespéré\, j’étais découragé au point de croire n’importe quoi. L’une des choses qu’on m’a dites était : « Ça pourrait être ton dernier lendemain de la veille\,sinon tu peux continuer de tourner en rond. » De toute évidence\, l’homme qui m’a dit ça se portait beaucoup mieux que moi. J’ai aimé cette idée d’admettre ma défaite et\, depuis\, je suis libre ! Mon cœur a entendu ce que ma raison n’avait jamais voulu entendre : « Être impuissant devant l’alcool n’est pas la fin du monde. » Je suis libre – et reconnaissant ! \nExtrait du livre Réflexions quotidiennes\nCopyright © 1991 par Alcoholics Anonymous World Services\, Inc. Tous droits réservés. \nTous les Réflexions quotidiennes
URL:https://www.aa87.org/evenement/rq0425/2026-04-25/
CATEGORIES:Réflexions Quotidiennes
END:VEVENT
BEGIN:VEVENT
DTSTART;VALUE=DATE:20260426
DTEND;VALUE=DATE:20260427
DTSTAMP:20260421T232016
CREATED:20250915T223647Z
LAST-MODIFIED:20250915T223647Z
UID:10025494-1777161600-1777247999@www.aa87.org
SUMMARY:Réflexion quotidienne 26 avril
DESCRIPTION:Ce n’est pas une question de bonheur\n26 avril\n\nJe ne pense qu’il s’agisse de bonheur ou de mal- heur. Comment affrontons-nous les problèmes ? Comment y puisons-nous les meilleures leçons et les communiquons-nous aux autres\, lorsqu’ils acceptent de les recevoir ? \nRéflexions de Bill\, p. 306 \nDans ma recherche du bonheur\, j’ai changé d’emploi\, je me suis marié\, j’ai divorcé\, j’ai recherché le dépaysement et je me suis endetté – financièrement\, émotionnellement et spirituellement. Chez les AA\, j’apprends à grandir. Plutôt que d’attendre le bonheur des gens\, des lieux et des événements\, je demande à Dieu de m’aider à m’accepter tel que je suis. Quand un problème me dépasse\, les Douze Étapes m’aident à grandir par la souffrance. La connaissance que j’en retire pourra peut-être servir à d’autres qui souffrent du même problème. Comme l’ajoute Bill : « Si la souffrance fait son apparition\, nous devons consentir à en tirer une leçon et à aider les autres à en faire autant. Si nous nageons dans le bonheur\, nous l’acceptons comme un don et rendons grâce à Dieu. » \nExtrait du livre Réflexions quotidiennes\nCopyright © 1991 par Alcoholics Anonymous World Services\, Inc. Tous droits réservés. \nTous les Réflexions quotidiennes
URL:https://www.aa87.org/evenement/rq0426/2026-04-26/
CATEGORIES:Réflexions Quotidiennes
END:VEVENT
BEGIN:VEVENT
DTSTART;VALUE=DATE:20260427
DTEND;VALUE=DATE:20260428
DTSTAMP:20260421T232016
CREATED:20250502T102037Z
LAST-MODIFIED:20250502T102037Z
UID:10021618-1777248000-1777334399@www.aa87.org
SUMMARY:Réflexion quotidienne 27 avril
DESCRIPTION:﻿﻿﻿\n \n\nTous les Réflexions quotidiennes
URL:https://www.aa87.org/evenement/rq0427/2026-04-27/
CATEGORIES:Réflexions Quotidiennes
END:VEVENT
BEGIN:VEVENT
DTSTART;VALUE=DATE:20260428
DTEND;VALUE=DATE:20260429
DTSTAMP:20260421T232016
CREATED:20250502T112248Z
LAST-MODIFIED:20250502T132813Z
UID:10021732-1777334400-1777420799@www.aa87.org
SUMMARY:Réflexion quotidienne 28 avril
DESCRIPTION:Deux « magnifiques concepts »\n28 avril\n\nTout progrès dans les AA peut se résumer en deux mots : humilité et responsabilité. Notre développe- ment spirituel peut se mesurer de façon précise par notre degré d’adhésion à ces magnifiques concepts. \nRéflexions de Bill\, p. 271 \nSavoir reconnaître et respecter les opinions\, les réalisations et les prérogatives des autres\, et accepter d’avoir tort m’indiquent montrent la voie de l’humilité . Mettre en pratique les principes desAA dans tous les domaines de ma vie m’apprend le sens des responsabilités. En faisant honneur à ces préceptes\, je donne de la crédibilité à la Quatrième Tradition et à toutes les autres. Le mouvement des Alcooliques anonymes a élaboré une philosophie de la vie pleine de solides motivations et riche en valeurs morales et en principes très valables ; et cette philosophie peut s’appliquer bien au-delà des frontières du monde alcoolique. Pour respecter ces préceptes\, il me suffit de prier et de me préoccuper de chaque être humain comme d’un frère. \nExtrait du livre Réflexions quotidiennes\nCopyright © 1991 par Alcoholics Anonymous World Services\, Inc. Tous droits réservés. \nTous les Réflexions quotidiennes
URL:https://www.aa87.org/evenement/rq0428/2026-04-28/
CATEGORIES:Réflexions Quotidiennes
END:VEVENT
BEGIN:VEVENT
DTSTART;VALUE=DATE:20260429
DTEND;VALUE=DATE:20260430
DTSTAMP:20260421T232016
CREATED:20250502T114625Z
LAST-MODIFIED:20250502T115746Z
UID:10021672-1777420800-1777507199@www.aa87.org
SUMMARY:Réflexion quotidienne 29 avril
DESCRIPTION:L’autonomie du groupe\n29 avril\n\nCertains peuvent penser que nous avons poussé jusqu’à l’extrême le principe de l’autonomie de groupe. Par exemple\, dans sa « forme intégrale » originelle\, la Quatrième Tradition dit : « Dès que deux ou trois alcooliques se rassemblent pour leur sobriété\, ils peuvent se considérer comme un groupe des AA\, pourvu qu’en tant que groupe\, ils ne soient affiliés à aucun autre organisme »*… \nCette très grande liberté n’est pourtant pas aussi risquée qu’elle le semble. \nLe mouvement des AA devient adulte\, p. 108 \nÀ l’époque où je buvais\, j’ai abusé de toutes les libertés de la vie. Comment les AA pouvaient-ils s’attendre à ce que je respecte cette « liberté absolue » que donne la Quatrième Tradition ? Apprendre le respect est devenu le travail de toute une vie. \nLes AA m’ont fait accepter pleinement la nécessité de la discipline\, de même que la nécessité de la soutenir intérieurement\, si je ne veux pas en payer le prix. Cette nécessité s’applique également aux groupes. La Quatrième Tradition me permet de prendre une orientation spirituelle\, malgré mon inclination pour l’alcool.* \nExtrait du livre Réflexions quotidiennes\nCopyright © 1991 par Alcoholics Anonymous World Services\, Inc. Tous droits réservés. \nTous les Réflexions quotidiennes \n 
URL:https://www.aa87.org/evenement/rq0429/2026-04-29/
CATEGORIES:Réflexions Quotidiennes
END:VEVENT
BEGIN:VEVENT
DTSTART;VALUE=DATE:20260430
DTEND;VALUE=DATE:20260501
DTSTAMP:20260421T232016
CREATED:20250502T120837Z
LAST-MODIFIED:20250502T121044Z
UID:10021690-1777507200-1777593599@www.aa87.org
SUMMARY:Réflexion quotidienne 30 avril
DESCRIPTION:Un grand paradoxe\n30 avril\n\nLeurs souffrances et leur rétablissement consti- tuent un héritage que les alcooliques peuvent faci- lement se transmettre l’un à l’autre. C’est le don que Dieu nous a fait et la transmission de ce don à nos semblables est le seul objectif qui anime aujourd’hui les AA dans tout l’univers. \nLes douze étapes et les douze traditions\, p. 173 \nLe grand paradoxe des AA\, c’est que la seule façon dont je peux conserver le précieux don de la sobriété est d’en faire cadeau. \nMon objectif primordial est de demeurer abstinent. Chez les AA\, je n’ai pas d’autre objectif et il est très important\, car c’est une question de vie ou de mort. Si je m’en écarte\, je suis perdu. Mais le mouvement n’existe pas seulement pour moi ; il est là aussi pour l’alcoolique qui souffre encore. Des légions d’alcooliques en voie de rétablissement arrivent à demeurer abstinents en partageant leur vécu avec leurs frères et sœurs alcooliques. La façon pour moi de me rétablir\, c’est de montrer à d’autres que ce partage nous fait grandir ensemble dans la grâce d’une Puissance supérieure\, en route vers un heureux destin. \nExtrait du livre Réflexions quotidiennes\nCopyright © 1991 par Alcoholics Anonymous World Services\, Inc. Tous droits réservés. \nTous les Réflexions quotidiennes
URL:https://www.aa87.org/evenement/rq0430/2026-04-30/
CATEGORIES:Réflexions Quotidiennes
END:VEVENT
END:VCALENDAR