BEGIN:VCALENDAR
VERSION:2.0
PRODID:-//Alcooliques Anonymes Région 87 - ECPv6.15.17//NONSGML v1.0//EN
CALSCALE:GREGORIAN
METHOD:PUBLISH
X-ORIGINAL-URL:https://www.aa87.org
X-WR-CALDESC:Évènements pour Alcooliques Anonymes Région 87
REFRESH-INTERVAL;VALUE=DURATION:PT1H
X-Robots-Tag:noindex
X-PUBLISHED-TTL:PT1H
BEGIN:VTIMEZONE
TZID:America/Toronto
BEGIN:DAYLIGHT
TZOFFSETFROM:-0500
TZOFFSETTO:-0400
TZNAME:EDT
DTSTART:20220313T070000
END:DAYLIGHT
BEGIN:STANDARD
TZOFFSETFROM:-0400
TZOFFSETTO:-0500
TZNAME:EST
DTSTART:20221106T060000
END:STANDARD
BEGIN:DAYLIGHT
TZOFFSETFROM:-0500
TZOFFSETTO:-0400
TZNAME:EDT
DTSTART:20230312T070000
END:DAYLIGHT
BEGIN:STANDARD
TZOFFSETFROM:-0400
TZOFFSETTO:-0500
TZNAME:EST
DTSTART:20231105T060000
END:STANDARD
BEGIN:DAYLIGHT
TZOFFSETFROM:-0500
TZOFFSETTO:-0400
TZNAME:EDT
DTSTART:20240310T070000
END:DAYLIGHT
BEGIN:STANDARD
TZOFFSETFROM:-0400
TZOFFSETTO:-0500
TZNAME:EST
DTSTART:20241103T060000
END:STANDARD
END:VTIMEZONE
BEGIN:VEVENT
DTSTART;VALUE=DATE:20230304
DTEND;VALUE=DATE:20230305
DTSTAMP:20260425T081900
CREATED:20230106T185421Z
LAST-MODIFIED:20230107T133036Z
UID:10004177-1677888000-1677974399@www.aa87.org
SUMMARY:Réunion comité interrégional
DESCRIPTION:04 mars et 04 novembre 2023 – Les Suites de Laviolette\, Trois-Rivières \n26 mai 2023 – 2323 Boul. Daniel-Johnson Laval
URL:https://www.aa87.org/evenement/reunion-comite-interregional/2023-03-04/
LOCATION:Les Suites de Laviolette\, Trois-Rivières\, 7201 rue Notre-Dame O\, Trpois-Rivières\, Québec\, G9B 1W2\, Canada
CATEGORIES:Comité interrégional
END:VEVENT
BEGIN:VEVENT
DTSTART;TZID=America/Toronto:20230309T190000
DTEND;TZID=America/Toronto:20230309T210000
DTSTAMP:20260425T081900
CREATED:20230105T164223Z
LAST-MODIFIED:20230324T161209Z
UID:10004667-1678388400-1678395600@www.aa87.org
SUMMARY:District 19
DESCRIPTION:
URL:https://www.aa87.org/evenement/district-19/2023-03-09/
LOCATION:BSR / ASO\, 3920\, rue Rachel Est\, Montréal QC\, H1X 1Z3\, 3920\, Rachel Est\, Montréal\, Québec\, H1X 1Z3\, Canada
ORGANIZER;CN="District 19%2C Montreal%2C Westmount":MAILTO:district19@aa87.org
END:VEVENT
BEGIN:VEVENT
DTSTART;TZID=America/Toronto:20230311T083000
DTEND;TZID=America/Toronto:20230311T143000
DTSTAMP:20260425T081900
CREATED:20230106T190223Z
LAST-MODIFIED:20230810T000442Z
UID:10004186-1678523400-1678545000@www.aa87.org
SUMMARY:Réunion du comité régional
DESCRIPTION:Salle 0 \nParticiper à la réunion Zoom \nID de réunion : 984 9889 7228 \nCode secret : 1234 \nLien vers l’annonce et la table virtuel des documents
URL:https://www.aa87.org/evenement/reunion-du-comite-regional-3/2023-03-11/
LOCATION:BSR / ASO\, 3920\, rue Rachel Est\, Montréal QC\, H1X 1Z3\, 3920\, Rachel Est\, Montréal\, Québec\, H1X 1Z3\, Canada
CATEGORIES:Réunion du comité régional
END:VEVENT
BEGIN:VEVENT
DTSTART;TZID=America/Toronto:20230311T083000
DTEND;TZID=America/Toronto:20230311T143000
DTSTAMP:20260425T081900
CREATED:20230106T190404Z
LAST-MODIFIED:20230106T190404Z
UID:10004190-1678523400-1678545000@www.aa87.org
SUMMARY:Area committee meeting
DESCRIPTION:Room 0 \nJoin the Zoom meeting \nMeeting ID: 580 137 1754 \nPasscode: 1234
URL:https://www.aa87.org/evenement/area-committee-meeting/
LOCATION:BSR / ASO\, 3920\, rue Rachel Est\, Montréal QC\, H1X 1Z3\, 3920\, Rachel Est\, Montréal\, Québec\, H1X 1Z3\, Canada
END:VEVENT
BEGIN:VEVENT
DTSTART;TZID=America/Toronto:20230315T190000
DTEND;TZID=America/Toronto:20230315T190000
DTSTAMP:20260425T081900
CREATED:20221219T114012Z
LAST-MODIFIED:20230105T003745Z
UID:10002755-1678906800-1678906800@www.aa87.org
SUMMARY:CMP
DESCRIPTION:Salle 1 \nParticiper à la réunion Zoom \nID de réunion : 944 7943 6712 \nCode secret : 1234
URL:https://www.aa87.org/evenement/cmp-cpc/2023-03-15/
LOCATION:BSR / ASO\, 3920\, rue Rachel Est\, Montréal QC\, H1X 1Z3\, 3920\, Rachel Est\, Montréal\, Québec\, H1X 1Z3\, Canada
CATEGORIES:Comité CMP-CPC Committee
END:VEVENT
BEGIN:VEVENT
DTSTART;TZID=America/Toronto:20230315T190000
DTEND;TZID=America/Toronto:20230315T210000
DTSTAMP:20260425T081900
CREATED:20230105T010125Z
LAST-MODIFIED:20230107T141436Z
UID:10003712-1678906800-1678914000@www.aa87.org
SUMMARY:Comité Semaine de gratitude
DESCRIPTION:Salle 2 \nParticiper à la réunion Zoom \nID de réunion : 918 2068 6211 \nCode secret : 1234
URL:https://www.aa87.org/evenement/fin-de-semaine-de-gratitude-c-o/2023-03-15/
CATEGORIES:Semaine de gratitude
END:VEVENT
BEGIN:VEVENT
DTSTART;TZID=America/Toronto:20230315T190000
DTEND;TZID=America/Toronto:20230315T210000
DTSTAMP:20260425T081900
CREATED:20230105T010125Z
LAST-MODIFIED:20230105T010407Z
UID:10003735-1678906800-1678914000@www.aa87.org
SUMMARY:Gratitude Weekend O.C.
DESCRIPTION:Salle 2 \nParticiper à la réunion Zoom \nID de réunion : 918 2068 6211 \nCode secret : 1234
URL:https://www.aa87.org/evenement/fin-de-semaine-de-gratitude-c-o/2023-03-15/
END:VEVENT
BEGIN:VEVENT
DTSTART;TZID=America/Toronto:20230316T190000
DTEND;TZID=America/Toronto:20230316T210000
DTSTAMP:20260425T081900
CREATED:20221219T095152Z
LAST-MODIFIED:20230106T154534Z
UID:10003434-1678993200-1679000400@www.aa87.org
SUMMARY:Archives
DESCRIPTION:Salle 1 \nParticiper à la réunion Zoom \nID de réunion : 944 7943 6712 \nCode secret : 1234
URL:https://www.aa87.org/evenement/archives/2023-03-16/
LOCATION:Réunion Virtuelle\, Québec\, Canada
CATEGORIES:Archive
END:VEVENT
BEGIN:VEVENT
DTSTART;TZID=America/Toronto:20230316T193000
DTEND;TZID=America/Toronto:20230316T213000
DTSTAMP:20260425T081900
CREATED:20230105T175547Z
LAST-MODIFIED:20230109T005539Z
UID:10003987-1678995000-1679002200@www.aa87.org
SUMMARY:Dsictrict 24
DESCRIPTION:
URL:https://www.aa87.org/evenement/dsictric-24/2023-03-16/
LOCATION:Chapelle du Séminaire\, (Local L’Étape)\, 1090\, rue Pratte\, St-Hyacinthe\, Québec\, Canada
CATEGORIES:District 24
ORGANIZER;CN="District 24%2C Maskoutains (St-Hyacinthe)":MAILTO:district24@aa87.org
END:VEVENT
BEGIN:VEVENT
DTSTART;TZID=America/Toronto:20230322T193000
DTEND;TZID=America/Toronto:20230322T193000
DTSTAMP:20260425T081900
CREATED:20221219T110027Z
LAST-MODIFIED:20230801T220414Z
UID:10003455-1679513400-1679513400@www.aa87.org
SUMMARY:Centres de traitement
DESCRIPTION:Salle 1 \nParticiper à la réunion Zoom \nID de réunion : 944 7943 6712 \nCode secret : 1234
URL:https://www.aa87.org/evenement/centres-de-traitement-treatment-facilities/2023-03-22/
LOCATION:BSR / ASO\, 3920\, rue Rachel Est\, Montréal QC\, H1X 1Z3\, 3920\, Rachel Est\, Montréal\, Québec\, H1X 1Z3\, Canada
CATEGORIES:Centres de traitement / Treatment Facilities
ORGANIZER;CN="District 50%2C Centres de traitement":MAILTO:district50@aa87.org
END:VEVENT
BEGIN:VEVENT
DTSTART;TZID=America/Toronto:20230328T190000
DTEND;TZID=America/Toronto:20230328T210000
DTSTAMP:20260425T081900
CREATED:20230105T200614Z
LAST-MODIFIED:20230105T200926Z
UID:10004086-1680030000-1680037200@www.aa87.org
SUMMARY:Radio Un jour à la fois
DESCRIPTION:Salle 2 \nParticiper à la réunion Zoom \nID de réunion : 918 2068 6211 \nCode secret : 1234
URL:https://www.aa87.org/evenement/radio-un-jour-a-la-fois/2023-03-28/
CATEGORIES:Activities
END:VEVENT
BEGIN:VEVENT
DTSTART;TZID=America/Toronto:20230330T190000
DTEND;TZID=America/Toronto:20230330T220000
DTSTAMP:20260425T081900
CREATED:20230908T121122Z
LAST-MODIFIED:20230908T121122Z
UID:10003354-1680202800-1680213600@www.aa87.org
SUMMARY:Comité de direction
DESCRIPTION:
URL:https://www.aa87.org/evenement/comite-de-direction-steering-committee/2023-03-30/
LOCATION:BSR / ASO\, 3920\, rue Rachel Est\, Montréal QC\, H1X 1Z3\, 3920\, Rachel Est\, Montréal\, Québec\, H1X 1Z3\, Canada
CATEGORIES:Comité de direction/Steering Committee
END:VEVENT
BEGIN:VEVENT
DTSTART;TZID=America/Toronto:20230330T190000
DTEND;TZID=America/Toronto:20230330T220000
DTSTAMP:20260425T081900
CREATED:20230908T121124Z
LAST-MODIFIED:20230908T121124Z
UID:10003383-1680202800-1680213600@www.aa87.org
SUMMARY:Steering Committee
DESCRIPTION:
URL:https://www.aa87.org/evenement/comite-de-direction-steering-committee/2023-03-30/
LOCATION:BSR / ASO\, 3920\, rue Rachel Est\, Montréal QC\, H1X 1Z3\, 3920\, Rachel Est\, Montréal\, Québec\, H1X 1Z3\, Canada
CATEGORIES:Comité de direction/Steering Committee
END:VEVENT
BEGIN:VEVENT
DTSTART;TZID=America/Toronto:20230330T190000
DTEND;TZID=America/Toronto:20230330T220000
DTSTAMP:20260425T081900
CREATED:20230908T121125Z
LAST-MODIFIED:20230908T121125Z
UID:10003405-1680202800-1680213600@www.aa87.org
SUMMARY:Comité de direcion
DESCRIPTION:
URL:https://www.aa87.org/evenement/comite-de-direction-steering-committee/2023-03-30/
LOCATION:BSR / ASO\, 3920\, rue Rachel Est\, Montréal QC\, H1X 1Z3\, 3920\, Rachel Est\, Montréal\, Québec\, H1X 1Z3\, Canada
CATEGORIES:Comité de direction/Steering Committee
END:VEVENT
END:VCALENDAR