BEGIN:VCALENDAR
VERSION:2.0
PRODID:-//Alcooliques Anonymes Région 87 - ECPv6.15.17//NONSGML v1.0//EN
CALSCALE:GREGORIAN
METHOD:PUBLISH
X-WR-CALNAME:Alcooliques Anonymes Région 87
X-ORIGINAL-URL:https://www.aa87.org
X-WR-CALDESC:Évènements pour Alcooliques Anonymes Région 87
REFRESH-INTERVAL;VALUE=DURATION:PT1H
X-Robots-Tag:noindex
X-PUBLISHED-TTL:PT1H
BEGIN:VTIMEZONE
TZID:America/Toronto
BEGIN:DAYLIGHT
TZOFFSETFROM:-0500
TZOFFSETTO:-0400
TZNAME:EDT
DTSTART:20230312T070000
END:DAYLIGHT
BEGIN:STANDARD
TZOFFSETFROM:-0400
TZOFFSETTO:-0500
TZNAME:EST
DTSTART:20231105T060000
END:STANDARD
BEGIN:DAYLIGHT
TZOFFSETFROM:-0500
TZOFFSETTO:-0400
TZNAME:EDT
DTSTART:20240310T070000
END:DAYLIGHT
BEGIN:STANDARD
TZOFFSETFROM:-0400
TZOFFSETTO:-0500
TZNAME:EST
DTSTART:20241103T060000
END:STANDARD
BEGIN:DAYLIGHT
TZOFFSETFROM:-0500
TZOFFSETTO:-0400
TZNAME:EDT
DTSTART:20250309T070000
END:DAYLIGHT
BEGIN:STANDARD
TZOFFSETFROM:-0400
TZOFFSETTO:-0500
TZNAME:EST
DTSTART:20251102T060000
END:STANDARD
END:VTIMEZONE
BEGIN:VEVENT
DTSTART;VALUE=DATE:20240201
DTEND;VALUE=DATE:20240202
DTSTAMP:20260423T033750
CREATED:20241122T221245Z
LAST-MODIFIED:20241122T225420Z
UID:10009914-1706745600-1706831999@www.aa87.org
SUMMARY:Réflexion quotidienne 01 février
DESCRIPTION:﻿﻿﻿﻿﻿﻿﻿\n \n\nTous les Réflexions quotidiennes
URL:https://www.aa87.org/evenement/rq0201/2024-02-01/
LOCATION:aa87.org
CATEGORIES:Réflexions Quotidiennes
END:VEVENT
BEGIN:VEVENT
DTSTART;TZID=America/Toronto:20240201T190000
DTEND;TZID=America/Toronto:20240201T210000
DTSTAMP:20260423T033750
CREATED:20231228T153002Z
LAST-MODIFIED:20231229T175154Z
UID:10005792-1706814000-1706821200@www.aa87.org
SUMMARY:District 05
DESCRIPTION:Participer à la réunion Zoom \nID de réunion : 86244183943
URL:https://www.aa87.org/evenement/district-05/2024-02-01/
LOCATION:Place à l’emploi\, 125 Chem. du Coteau-Rouge\, Longueuil\, QC J4J 1W7\, Canada
CATEGORIES:Activité / Activity,District 05,District AA87
ORGANIZER;CN="District 5%2C Longueuil%2C St-Lambert":MAILTO:district05@aa87.org
END:VEVENT
BEGIN:VEVENT
DTSTART;TZID=America/Toronto:20240201T193000
DTEND;TZID=America/Toronto:20240201T213000
DTSTAMP:20260423T033750
CREATED:20231228T154525Z
LAST-MODIFIED:20231228T154839Z
UID:10005886-1706815800-1706823000@www.aa87.org
SUMMARY:District 07
DESCRIPTION:
URL:https://www.aa87.org/evenement/district-07-2/2024-02-01/
LOCATION:St. Mary’s Church\, 735\, Miller\, Greenfield Park QC\, 735\, Miller\, Greenfield Park\, Québec\, Canada
CATEGORIES:District 07
ORGANIZER;CN="District 7%2C Ch%C3%A2teauguay%2C St-Lambert%2C Valleyfield":MAILTO:district07@aa87.org
END:VEVENT
BEGIN:VEVENT
DTSTART;TZID=America/Toronto:20240204T130000
DTEND;TZID=America/Toronto:20240204T150000
DTSTAMP:20260423T033750
CREATED:20231217T161936Z
LAST-MODIFIED:20241217T005435Z
UID:10006961-1707051600-1707058800@www.aa87.org
SUMMARY:Correctional Facilities
DESCRIPTION:Salle 1\nParticiper à la réunion Zoom \nID de réunion : 944 7943 6712 \nCode secret : 1234
URL:https://www.aa87.org/evenement/correctional-facilities/2024-02-04/
LOCATION:BSR / ASO\, 3920\, rue Rachel Est\, Montréal QC\, H1X 1Z3\, 3920\, Rachel Est\, Montréal\, Québec\, H1X 1Z3\, Canada
CATEGORIES:Activité / Activity,Comités / Committees,Correctional Facilities Committee
END:VEVENT
BEGIN:VEVENT
DTSTART;TZID=America/Toronto:20240205T190000
DTEND;TZID=America/Toronto:20240205T210000
DTSTAMP:20260423T033750
CREATED:20231228T183127Z
LAST-MODIFIED:20241217T005748Z
UID:10006049-1707159600-1707166800@www.aa87.org
SUMMARY:Comité du Congrès Régional
DESCRIPTION:Participer à la réunion Zoom \nAutres informations de connexion :\nID de réunion : 944 7943 6712\nCode secret : 1234
URL:https://www.aa87.org/evenement/comite-du-congres-regional-3/2024-02-05/
END:VEVENT
BEGIN:VEVENT
DTSTART;TZID=America/Toronto:20240206T190000
DTEND;TZID=America/Toronto:20240206T210000
DTSTAMP:20260423T033750
CREATED:20231229T143517Z
LAST-MODIFIED:20241217T010649Z
UID:10006267-1707246000-1707253200@www.aa87.org
SUMMARY:Comité de l'accueil du District 87-01
DESCRIPTION:Salle 2 \nParticiper à la réunion Zoom \nID de réunion : 918 2068 6211 \nCode secret : 1234
URL:https://www.aa87.org/evenement/comite-accueil-district-01/2024-02-06/
ORGANIZER;CN="District 1%2C Montr%C3%A9al%2C Outremont%2C C%C3%B4te-des-Neiges":MAILTO:district01@aa87.org
END:VEVENT
BEGIN:VEVENT
DTSTART;TZID=America/Toronto:20240206T193000
DTEND;TZID=America/Toronto:20240206T213000
DTSTAMP:20260423T033750
CREATED:20231229T155357Z
LAST-MODIFIED:20241217T012449Z
UID:10006422-1707247800-1707255000@www.aa87.org
SUMMARY:Réunion des RSG du District 87-21
DESCRIPTION:
URL:https://www.aa87.org/evenement/district-21-2/2024-02-06/
LOCATION:Église United Church\, 101 Rue Principale\, Granby\, QC\, J2G 2T9\, Canada
CATEGORIES:Activité / Activity,District 21,District AA87
ORGANIZER;CN="District 21%2C Granby%2C Cowansville":MAILTO:district21@aa87.org
END:VEVENT
BEGIN:VEVENT
DTSTART;TZID=America/Toronto:20240207T190000
DTEND;TZID=America/Toronto:20240207T210000
DTSTAMP:20260423T033750
CREATED:20231217T165210Z
LAST-MODIFIED:20260303T000857Z
UID:10024991-1707332400-1707339600@www.aa87.org
SUMMARY:Comité de l'Information publique +
DESCRIPTION:Salle 1\nJoindre la réunion\n\n  \nID de réunion : 944 7943 6712\nCode secret : 1234
URL:https://www.aa87.org/evenement/information-publique/2024-02-07/
LOCATION:BSR / ASO\, 3920\, rue Rachel Est\, Montréal QC\, H1X 1Z3\, 3920\, Rachel Est\, Montréal\, Québec\, H1X 1Z3\, Canada
CATEGORIES:Activité / Activity,Comité d’Information Publique,Comités / Committees
END:VEVENT
BEGIN:VEVENT
DTSTART;TZID=America/Toronto:20240207T193000
DTEND;TZID=America/Toronto:20240207T213000
DTSTAMP:20260423T033750
CREATED:20231229T144655Z
LAST-MODIFIED:20241217T113214Z
UID:10008766-1707334200-1707341400@www.aa87.org
SUMMARY:Réunion des RSG du District 87-16
DESCRIPTION:
URL:https://www.aa87.org/evenement/district-16-2-2/2024-02-07/
LOCATION:Centre communautaire\, 53\, rue Rabastalière\, St-Bruno QC\, J3V 1Y7\, 53\, rue Rabastalière\, St-Bruno\, Québec\, J3V 1Y7\, Canada
CATEGORIES:District 16
ORGANIZER;CN="District 16%2C Bel%C5%93il%2C St-Hilaire":MAILTO:district16@aa87.org
END:VEVENT
BEGIN:VEVENT
DTSTART;TZID=America/Toronto:20240208T190000
DTEND;TZID=America/Toronto:20240208T210000
DTSTAMP:20260423T033750
CREATED:20231217T170046Z
LAST-MODIFIED:20241203T005350Z
UID:10007217-1707418800-1707426000@www.aa87.org
SUMMARY:Publications
DESCRIPTION:Salle 1\nParticiper à la réunion Zoom \nID de réunion : 944 7943 6712 \nCode secret : 1234
URL:https://www.aa87.org/evenement/publications-2/2024-02-08/
CATEGORIES:Activité / Activity,Comité des Publications / Publications Committee,Comités / Committees
END:VEVENT
BEGIN:VEVENT
DTSTART;TZID=America/Toronto:20240208T190000
DTEND;TZID=America/Toronto:20240208T210000
DTSTAMP:20260423T033750
CREATED:20231229T151943Z
LAST-MODIFIED:20231229T152326Z
UID:10006328-1707418800-1707426000@www.aa87.org
SUMMARY:District 17
DESCRIPTION:
URL:https://www.aa87.org/evenement/district-17-2/2024-02-08/
LOCATION:Église Saint-Claire\, 8615\, rue Saint-Claire\, Montréal QC\, H1L 1Y1\, 8615\, rue Saint-Claire\, Montréal\, Québec\, H1L 1Y1\, Canada
CATEGORIES:Activité / Activity,District 17,District AA87
ORGANIZER;CN="District 17%2C Montr%C3%A9al Est%2C Anjou":MAILTO:district17@aa87.org
END:VEVENT
BEGIN:VEVENT
DTSTART;VALUE=DATE:20240210
DTEND;VALUE=DATE:20240211
DTSTAMP:20260423T033750
CREATED:20241103T135239Z
LAST-MODIFIED:20241103T141225Z
UID:10009086-1707523200-1707609599@www.aa87.org
SUMMARY:Réflexion quotidienne 10 février
DESCRIPTION:﻿﻿﻿﻿﻿﻿\n \n\nTous les Réflexions quotidiennes
URL:https://www.aa87.org/evenement/rq0210/2024-02-10/
LOCATION:aa87.org
CATEGORIES:Réflexions Quotidiennes
END:VEVENT
BEGIN:VEVENT
DTSTART;TZID=America/Toronto:20240210T083000
DTEND;TZID=America/Toronto:20240210T143000
DTSTAMP:20260423T033750
CREATED:20230810T000756Z
LAST-MODIFIED:20240117T232835Z
UID:10006607-1707553800-1707575400@www.aa87.org
SUMMARY:Réunion du comité régional
DESCRIPTION:Salle 0 \nParticiper à la réunion Zoom \nID de réunion : 984 9889 7228 \nCode secret : 1234 \nLien vers l’annonce et la table virtuel des documents à venir
URL:https://www.aa87.org/evenement/reunion-du-comite-regional-4/2024-02-10/
LOCATION:BSR / ASO\, 3920\, rue Rachel Est\, Montréal QC\, H1X 1Z3\, 3920\, Rachel Est\, Montréal\, Québec\, H1X 1Z3\, Canada
CATEGORIES:Activité / Activity,Comité régional,Régional
END:VEVENT
BEGIN:VEVENT
DTSTART;TZID=America/Toronto:20240212T190000
DTEND;TZID=America/Toronto:20240212T210000
DTSTAMP:20260423T033750
CREATED:20231217T164214Z
LAST-MODIFIED:20241217T222311Z
UID:10007183-1707764400-1707771600@www.aa87.org
SUMMARY:Helpline Committee
DESCRIPTION:Salle 3\nParticiper à la réunion Zoom \nID de réunion : 910 8777 9314 \nCode secret : 1234
URL:https://www.aa87.org/evenement/helpline/2024-02-12/
LOCATION:Réunion Virtuelle\, Québec\, Canada
CATEGORIES:Activité / Activity,Comités / Committees,Helpline committee
END:VEVENT
BEGIN:VEVENT
DTSTART;TZID=America/Toronto:20240212T193000
DTEND;TZID=America/Toronto:20240212T213000
DTSTAMP:20260423T033750
CREATED:20231229T142706Z
LAST-MODIFIED:20231229T143007Z
UID:10006234-1707766200-1707773400@www.aa87.org
SUMMARY:District 15
DESCRIPTION:
URL:https://www.aa87.org/evenement/district-15-2/2024-02-12/
LOCATION:136-A Jacques-Cartier Nord\, St-Jean-sur-Richelieu\, Québec\, Canada
CATEGORIES:District 15
ORGANIZER;CN="District 15%2C St-Jean-sur-Richelieu":MAILTO:district15@aa87.org
END:VEVENT
BEGIN:VEVENT
DTSTART;TZID=America/Toronto:20240213T190000
DTEND;TZID=America/Toronto:20240213T210000
DTSTAMP:20260423T033750
CREATED:20231228T174213Z
LAST-MODIFIED:20231228T175254Z
UID:10005972-1707850800-1707858000@www.aa87.org
SUMMARY:District 10
DESCRIPTION:Salle 2 \nParticiper à la réunion Zoom \nID de réunion : 918 2068 6211 \nCode secret : 1234
URL:https://www.aa87.org/evenement/district-10-2/2024-02-13/
LOCATION:BSR / ASO\, 3920\, rue Rachel Est\, Montréal QC\, H1X 1Z3\, 3920\, Rachel Est\, Montréal\, Québec\, H1X 1Z3\, Canada
CATEGORIES:District 10
END:VEVENT
BEGIN:VEVENT
DTSTART;TZID=America/Toronto:20240213T190000
DTEND;TZID=America/Toronto:20240213T210000
DTSTAMP:20260423T033750
CREATED:20231229T153124Z
LAST-MODIFIED:20231229T153411Z
UID:10006360-1707850800-1707858000@www.aa87.org
SUMMARY:District 18
DESCRIPTION:
URL:https://www.aa87.org/evenement/district-18-2/2024-02-13/
LOCATION:Unity Church – 3455 Girouard in Montreal
CATEGORIES:District 18
ORGANIZER;CN="District 18%2C Verdun%2C Notre-Dame-de-Gr%C3%A2ce":MAILTO:district18@aa87.org
END:VEVENT
BEGIN:VEVENT
DTSTART;TZID=America/Toronto:20240213T190000
DTEND;TZID=America/Toronto:20240213T210000
DTSTAMP:20260423T033750
CREATED:20240104T231252Z
LAST-MODIFIED:20240105T151731Z
UID:10006803-1707850800-1707858000@www.aa87.org
SUMMARY:Écho Echo Eco
DESCRIPTION:Salle 3: \nParticiper à la réunion zoom \nID de réunion : 910 8777 9314 \nCode secret : 1234
URL:https://www.aa87.org/evenement/echo-echo-echo-2024-01-09-au-2024-12-10/2024-02-13/
END:VEVENT
BEGIN:VEVENT
DTSTART;TZID=America/Toronto:20240213T193000
DTEND;TZID=America/Toronto:20240213T213000
DTSTAMP:20260423T033750
CREATED:20231217T173651Z
LAST-MODIFIED:20231217T174012Z
UID:10005345-1707852600-1707859800@www.aa87.org
SUMMARY:Grupos de Servicio
DESCRIPTION:Salle 1\nParticiper à la réunion Zoom \nID de réunion : 944 7943 6712 \nCode secret : 1234
URL:https://www.aa87.org/evenement/services-aux-groupes-2/2024-02-13/
LOCATION:Réunion Virtuelle\, Québec\, Canada
END:VEVENT
BEGIN:VEVENT
DTSTART;TZID=America/Toronto:20240214T190000
DTEND;TZID=America/Toronto:20240214T210000
DTSTAMP:20260423T033750
CREATED:20230104T223256Z
LAST-MODIFIED:20231228T141245Z
UID:10005412-1707937200-1707944400@www.aa87.org
SUMMARY:District 01
DESCRIPTION:Salle 2 \nParticiper à la réunion Zoom \nID de réunion : 918 2068 6211 \nCode secret : 1234
URL:https://www.aa87.org/evenement/district-01/2024-02-14/
LOCATION:BSR / ASO\, 3920\, rue Rachel Est\, Montréal QC\, H1X 1Z3\, 3920\, Rachel Est\, Montréal\, Québec\, H1X 1Z3\, Canada
CATEGORIES:District 01
ORGANIZER;CN="District 1%2C Montr%C3%A9al%2C Outremont%2C C%C3%B4te-des-Neiges":MAILTO:district01@aa87.org
END:VEVENT
BEGIN:VEVENT
DTSTART;TZID=America/Toronto:20240214T190000
DTEND;TZID=America/Toronto:20240214T210000
DTSTAMP:20260423T033750
CREATED:20231217T182237Z
LAST-MODIFIED:20241217T005153Z
UID:10005365-1707937200-1707944400@www.aa87.org
SUMMARY:Comité des technologies
DESCRIPTION:Réunion mensuel d’équipe. \nParticipez à la réunion Teams
URL:https://www.aa87.org/evenement/comite-des-technologies/2024-02-14/
LOCATION:Réunion Virtuelle\, Québec\, Canada
CATEGORIES:Activité / Activity,Comité des Technologies/ Technology Committee,Comités / Committees
END:VEVENT
BEGIN:VEVENT
DTSTART;TZID=America/Toronto:20240214T193000
DTEND;TZID=America/Toronto:20240214T213000
DTSTAMP:20260423T033750
CREATED:20231228T135244Z
LAST-MODIFIED:20240113T153751Z
UID:10005400-1707939000-1707946200@www.aa87.org
SUMMARY:Services aux groupes
DESCRIPTION:Salle 3\nParticiper à la réunion Zoom \nID de réunion : 910 8777 9314 \nCode secret : 1234
URL:https://www.aa87.org/evenement/services-aux-groupes-2-2/2024-02-14/
LOCATION:Réunion Virtuelle\, Québec\, Canada
CATEGORIES:Activité / Activity,Comités / Committees,Services aux groupes / Group Services
END:VEVENT
BEGIN:VEVENT
DTSTART;TZID=America/Toronto:20240214T193000
DTEND;TZID=America/Toronto:20240214T213000
DTSTAMP:20260423T033750
CREATED:20231228T135244Z
LAST-MODIFIED:20240113T154715Z
UID:10007205-1707939000-1707946200@www.aa87.org
SUMMARY:Group Services
DESCRIPTION:Room 3\nJoin the Zoom meeting \nMeeting ID: 910 8777 9314 \nSecret code: 1234
URL:https://www.aa87.org/evenement/services-aux-groupes-2-2/2024-02-14/
LOCATION:Réunion Virtuelle\, Québec\, Canada
END:VEVENT
BEGIN:VEVENT
DTSTART;TZID=America/Toronto:20240214T193000
DTEND;TZID=America/Toronto:20240214T213000
DTSTAMP:20260423T033750
CREATED:20231229T162036Z
LAST-MODIFIED:20231229T162606Z
UID:10006454-1707939000-1707946200@www.aa87.org
SUMMARY:District 22
DESCRIPTION:
URL:https://www.aa87.org/evenement/district-22-2/2024-02-14/
LOCATION:Centre d’action bénévole\, 95\, rue Salaberry\, Salaberry-de-Valleyfield QC\, J6T 2H5\, 95\, rue Salaberry\, Salaberry-de-Valleyfield\, Québec\, J6T 2H5\, Canada
CATEGORIES:Activité / Activity,District 22,District AA87
ORGANIZER;CN="District 22%2C Valleyfield":MAILTO:district22@aa87.org
END:VEVENT
BEGIN:VEVENT
DTSTART;TZID=America/Toronto:20240215T190000
DTEND;TZID=America/Toronto:20240215T210000
DTSTAMP:20260423T033750
CREATED:20231217T013930Z
LAST-MODIFIED:20231217T140053Z
UID:10004970-1708023600-1708030800@www.aa87.org
SUMMARY:Archives
DESCRIPTION:Salle 1\nParticiper à la réunion Zoom \nID de réunion : 944 7943 6712 \nCode secret : 1234
URL:https://www.aa87.org/evenement/archives-2/2024-02-15/
LOCATION:Réunion Virtuelle\, Québec\, Canada
CATEGORIES:Activité / Activity,Comité des Archives,Comités / Committees
END:VEVENT
BEGIN:VEVENT
DTSTART;TZID=America/Toronto:20240215T190000
DTEND;TZID=America/Toronto:20240215T210000
DTSTAMP:20260423T033750
CREATED:20231228T153720Z
LAST-MODIFIED:20231228T154121Z
UID:10005858-1708023600-1708030800@www.aa87.org
SUMMARY:District 06
DESCRIPTION:
URL:https://www.aa87.org/evenement/district-06-2/2024-02-15/
LOCATION:Parish of the Resurrection\, St-Andrew and St-Mark’s Church\, 865 Lakeshore drive\, Dorval\, 865 Lakeshore drive\, Dorval\, Québec\, H9S 2C7\, Canada
CATEGORIES:District 06
ORGANIZER;CN="District 6%2C West Island":MAILTO:district06@aa87.org
END:VEVENT
BEGIN:VEVENT
DTSTART;TZID=America/Toronto:20240215T193000
DTEND;TZID=America/Toronto:20240215T213000
DTSTAMP:20260423T033750
CREATED:20231228T184322Z
LAST-MODIFIED:20231228T184614Z
UID:10006106-1708025400-1708032600@www.aa87.org
SUMMARY:District 11
DESCRIPTION:
URL:https://www.aa87.org/evenement/district-11-2/2024-02-15/
LOCATION:Chalet du Parc Dixie\, 257\, 54e Avenue\, Lachine\, 257\, 54e Avenue\, Lachine\, Québec\, Canada
CATEGORIES:District 11
ORGANIZER;CN="District 11%2C Ouest de l%C3%AEle":MAILTO:district11@aa87.org
END:VEVENT
BEGIN:VEVENT
DTSTART;TZID=America/Toronto:20240215T193000
DTEND;TZID=America/Toronto:20240215T213000
DTSTAMP:20260423T033750
CREATED:20231229T175958Z
LAST-MODIFIED:20240914T135932Z
UID:10006995-1708025400-1708032600@www.aa87.org
SUMMARY:District 27
DESCRIPTION:
URL:https://www.aa87.org/evenement/district-27-2/2024-02-15/
LOCATION:Centre Jean-Marc-Ducharme\, 21 Rue Louise-Joshephte\, Vaudreuil-Dorion\, Qc\, J7V 1B3\, 21 Rue Louise-Joshephte\,\, Vaudreuil-Dorion\, QC\, J7V 1B3\, Canada
CATEGORIES:Activité / Activity,District 27,District AA87
ORGANIZER;CN="District 27%2C Vaudreuil-Dorion":MAILTO:district27@aa87.org
END:VEVENT
BEGIN:VEVENT
DTSTART;TZID=America/Toronto:20240215T193000
DTEND;TZID=America/Toronto:20240215T223000
DTSTAMP:20260423T033750
CREATED:20231229T163708Z
LAST-MODIFIED:20231229T164757Z
UID:10006486-1708025400-1708036200@www.aa87.org
SUMMARY:District 24
DESCRIPTION:
URL:https://www.aa87.org/evenement/reunion-du-district-24-2/2024-02-15/
LOCATION:Chapelle du Séminaire\, (Local L’Étape)\, 1090\, rue Pratte\, St-Hyacinthe\, Québec\, Canada
CATEGORIES:Activité / Activity,District 24,District AA87
ORGANIZER;CN="District 24%2C Maskoutains (St-Hyacinthe)":MAILTO:district24@aa87.org
END:VEVENT
BEGIN:VEVENT
DTSTART;TZID=America/Toronto:20240217T090000
DTEND;TZID=America/Toronto:20240217T110000
DTSTAMP:20260423T033750
CREATED:20231217T020030Z
LAST-MODIFIED:20241217T221011Z
UID:10004976-1708160400-1708167600@www.aa87.org
SUMMARY:Comité Centres de détention
DESCRIPTION:
URL:https://www.aa87.org/evenement/centres-de-detention-4/2024-02-17/
LOCATION:BSR / ASO\, 3920\, rue Rachel Est\, Montréal QC\, H1X 1Z3\, 3920\, Rachel Est\, Montréal\, Québec\, H1X 1Z3\, Canada
CATEGORIES:Activité / Activity,Centres de détention,Comités / Committees
END:VEVENT
END:VCALENDAR