BEGIN:VCALENDAR
VERSION:2.0
PRODID:-//Alcooliques Anonymes Région 87 - ECPv6.15.17//NONSGML v1.0//EN
CALSCALE:GREGORIAN
METHOD:PUBLISH
X-ORIGINAL-URL:https://www.aa87.org
X-WR-CALDESC:Évènements pour Alcooliques Anonymes Région 87
REFRESH-INTERVAL;VALUE=DURATION:PT1H
X-Robots-Tag:noindex
X-PUBLISHED-TTL:PT1H
BEGIN:VTIMEZONE
TZID:America/Toronto
BEGIN:DAYLIGHT
TZOFFSETFROM:-0500
TZOFFSETTO:-0400
TZNAME:EDT
DTSTART:20230312T070000
END:DAYLIGHT
BEGIN:STANDARD
TZOFFSETFROM:-0400
TZOFFSETTO:-0500
TZNAME:EST
DTSTART:20231105T060000
END:STANDARD
BEGIN:DAYLIGHT
TZOFFSETFROM:-0500
TZOFFSETTO:-0400
TZNAME:EDT
DTSTART:20240310T070000
END:DAYLIGHT
BEGIN:STANDARD
TZOFFSETFROM:-0400
TZOFFSETTO:-0500
TZNAME:EST
DTSTART:20241103T060000
END:STANDARD
BEGIN:DAYLIGHT
TZOFFSETFROM:-0500
TZOFFSETTO:-0400
TZNAME:EDT
DTSTART:20250309T070000
END:DAYLIGHT
BEGIN:STANDARD
TZOFFSETFROM:-0400
TZOFFSETTO:-0500
TZNAME:EST
DTSTART:20251102T060000
END:STANDARD
END:VTIMEZONE
BEGIN:VEVENT
DTSTART;VALUE=DATE:20240302
DTEND;VALUE=DATE:20240303
DTSTAMP:20260423T020926
CREATED:20240101T141617Z
LAST-MODIFIED:20240101T142326Z
UID:10006631-1709337600-1709423999@www.aa87.org
SUMMARY:Réunion comité interrégional
DESCRIPTION:02 mars et 02 novembre 2024 – Les Suites de Laviolette\, Trois-Rivières \n24 mai 2024 – 3920\, rue Rachel Est\, Montréal (Québec) H1X 1Z3
URL:https://www.aa87.org/evenement/reunion-comite-interregional-2/2024-03-02/
LOCATION:Les Suites de Laviolette\, Trois-Rivières\, 7201 rue Notre-Dame O\, Trpois-Rivières\, Québec\, G9B 1W2\, Canada
CATEGORIES:Activité / Activity,Comité interrégional,Comités / Committees
END:VEVENT
BEGIN:VEVENT
DTSTART;TZID=America/Toronto:20240303T130000
DTEND;TZID=America/Toronto:20240303T150000
DTSTAMP:20260423T020926
CREATED:20231217T161936Z
LAST-MODIFIED:20241217T005435Z
UID:10006962-1709470800-1709478000@www.aa87.org
SUMMARY:Correctional Facilities
DESCRIPTION:Salle 1\nParticiper à la réunion Zoom \nID de réunion : 944 7943 6712 \nCode secret : 1234
URL:https://www.aa87.org/evenement/correctional-facilities/2024-03-03/
LOCATION:BSR / ASO\, 3920\, rue Rachel Est\, Montréal QC\, H1X 1Z3\, 3920\, Rachel Est\, Montréal\, Québec\, H1X 1Z3\, Canada
CATEGORIES:Activité / Activity,Comités / Committees,Correctional Facilities Committee
END:VEVENT
BEGIN:VEVENT
DTSTART;TZID=America/Toronto:20240304T190000
DTEND;TZID=America/Toronto:20240304T210000
DTSTAMP:20260423T020926
CREATED:20231228T183127Z
LAST-MODIFIED:20241217T005748Z
UID:10006050-1709578800-1709586000@www.aa87.org
SUMMARY:Comité du Congrès Régional
DESCRIPTION:Participer à la réunion Zoom \nAutres informations de connexion :\nID de réunion : 944 7943 6712\nCode secret : 1234
URL:https://www.aa87.org/evenement/comite-du-congres-regional-3/2024-03-04/
END:VEVENT
BEGIN:VEVENT
DTSTART;TZID=America/Toronto:20240304T190000
DTEND;TZID=America/Toronto:20240304T220000
DTSTAMP:20260423T020926
CREATED:20231103T131611Z
LAST-MODIFIED:20240614T003816Z
UID:10006394-1709578800-1709589600@www.aa87.org
SUMMARY:District 19
DESCRIPTION:Salle 2 \nParticiper à la réunion Zoom \nID de réunion : 918 2068 6211 \nCode secret : 1234
URL:https://www.aa87.org/evenement/district-19-2/2024-03-04/
LOCATION:BSR / ASO\, 3920\, rue Rachel Est\, Montréal QC\, H1X 1Z3\, 3920\, Rachel Est\, Montréal\, Québec\, H1X 1Z3\, Canada
CATEGORIES:Activité / Activity,District 19
ORGANIZER;CN="District 19%2C Montreal%2C Westmount":MAILTO:district19@aa87.org
END:VEVENT
BEGIN:VEVENT
DTSTART;TZID=America/Toronto:20240304T193000
DTEND;TZID=America/Toronto:20240304T213000
DTSTAMP:20260423T020926
CREATED:20231229T174008Z
LAST-MODIFIED:20241217T010132Z
UID:10006549-1709580600-1709587800@www.aa87.org
SUMMARY:Réunion des RSG du District 87-26
DESCRIPTION:
URL:https://www.aa87.org/evenement/district-26-2/2024-03-04/
LOCATION:École Les Trois Saisons (entrée par l’arrière) 570\, boul. de Mortagne\, Boucherville QC\, J4B 5E4\, 570\, boul. de Mortagne\, Boucherville\, Québec\, J4B 5E4\, Canada
CATEGORIES:Activité / Activity,District 26,District AA87
ORGANIZER;CN="District 26%2C Longueuil%2C Contrec%C5%93ur":MAILTO:district26@aa87.org
END:VEVENT
BEGIN:VEVENT
DTSTART;TZID=America/Toronto:20240305T060000
DTEND;TZID=America/Toronto:20240305T060000
DTSTAMP:20260423T020926
CREATED:20231229T130646Z
LAST-MODIFIED:20241217T113831Z
UID:10007996-1709618400-1709618400@www.aa87.org
SUMMARY:Réunion des RSG du District 87-13
DESCRIPTION:
URL:https://www.aa87.org/evenement/district-13/2024-03-05/
LOCATION:Centre St-Zotique\, 75\, carré Sir Georges-Étienne Cartier\, salle 215\, Montréal QC\, H4C 3A1\, 75\, carré Sir Georges-Étienne Cartier\, salle 215\, Montréal\, Québec\, H4C 3A1\, Canada
CATEGORIES:Activité / Activity,District 13,District AA87
END:VEVENT
BEGIN:VEVENT
DTSTART;TZID=America/Toronto:20240305T190000
DTEND;TZID=America/Toronto:20240305T210000
DTSTAMP:20260423T020926
CREATED:20231229T143517Z
LAST-MODIFIED:20241217T010649Z
UID:10006268-1709665200-1709672400@www.aa87.org
SUMMARY:Comité de l'accueil du District 87-01
DESCRIPTION:Salle 2 \nParticiper à la réunion Zoom \nID de réunion : 918 2068 6211 \nCode secret : 1234
URL:https://www.aa87.org/evenement/comite-accueil-district-01/2024-03-05/
ORGANIZER;CN="District 1%2C Montr%C3%A9al%2C Outremont%2C C%C3%B4te-des-Neiges":MAILTO:district01@aa87.org
END:VEVENT
BEGIN:VEVENT
DTSTART;TZID=America/Toronto:20240305T193000
DTEND;TZID=America/Toronto:20240305T213000
DTSTAMP:20260423T020926
CREATED:20231229T155357Z
LAST-MODIFIED:20241217T012449Z
UID:10006423-1709667000-1709674200@www.aa87.org
SUMMARY:Réunion des RSG du District 87-21
DESCRIPTION:
URL:https://www.aa87.org/evenement/district-21-2/2024-03-05/
LOCATION:Église United Church\, 101 Rue Principale\, Granby\, QC\, J2G 2T9\, Canada
CATEGORIES:Activité / Activity,District 21,District AA87
ORGANIZER;CN="District 21%2C Granby%2C Cowansville":MAILTO:district21@aa87.org
END:VEVENT
BEGIN:VEVENT
DTSTART;TZID=America/Toronto:20240306T190000
DTEND;TZID=America/Toronto:20240306T210000
DTSTAMP:20260423T020926
CREATED:20231217T165210Z
LAST-MODIFIED:20260303T000857Z
UID:10024992-1709751600-1709758800@www.aa87.org
SUMMARY:Comité de l'Information publique +
DESCRIPTION:Salle 1\nJoindre la réunion\n\n  \nID de réunion : 944 7943 6712\nCode secret : 1234
URL:https://www.aa87.org/evenement/information-publique/2024-03-06/
LOCATION:BSR / ASO\, 3920\, rue Rachel Est\, Montréal QC\, H1X 1Z3\, 3920\, Rachel Est\, Montréal\, Québec\, H1X 1Z3\, Canada
CATEGORIES:Activité / Activity,Comité d’Information Publique,Comités / Committees
END:VEVENT
BEGIN:VEVENT
DTSTART;TZID=America/Toronto:20240306T193000
DTEND;TZID=America/Toronto:20240306T213000
DTSTAMP:20260423T020926
CREATED:20231229T144655Z
LAST-MODIFIED:20241217T113214Z
UID:10008767-1709753400-1709760600@www.aa87.org
SUMMARY:Réunion des RSG du District 87-16
DESCRIPTION:
URL:https://www.aa87.org/evenement/district-16-2-2/2024-03-06/
LOCATION:Centre communautaire\, 53\, rue Rabastalière\, St-Bruno QC\, J3V 1Y7\, 53\, rue Rabastalière\, St-Bruno\, Québec\, J3V 1Y7\, Canada
CATEGORIES:District 16
ORGANIZER;CN="District 16%2C Bel%C5%93il%2C St-Hilaire":MAILTO:district16@aa87.org
END:VEVENT
BEGIN:VEVENT
DTSTART;TZID=America/Toronto:20240307T060000
DTEND;TZID=America/Toronto:20240307T060000
DTSTAMP:20260423T020926
CREATED:20231229T130646Z
LAST-MODIFIED:20241217T113831Z
UID:10012745-1709791200-1709791200@www.aa87.org
SUMMARY:Réunion des RSG du District 87-13
DESCRIPTION:
URL:https://www.aa87.org/evenement/district-13/2024-03-07/
LOCATION:Centre St-Zotique\, 75\, carré Sir Georges-Étienne Cartier\, salle 215\, Montréal QC\, H4C 3A1\, 75\, carré Sir Georges-Étienne Cartier\, salle 215\, Montréal\, Québec\, H4C 3A1\, Canada
CATEGORIES:Activité / Activity,District 13,District AA87
END:VEVENT
BEGIN:VEVENT
DTSTART;TZID=America/Toronto:20240307T190000
DTEND;TZID=America/Toronto:20240307T210000
DTSTAMP:20260423T020926
CREATED:20231228T153002Z
LAST-MODIFIED:20231229T175154Z
UID:10005793-1709838000-1709845200@www.aa87.org
SUMMARY:District 05
DESCRIPTION:Participer à la réunion Zoom \nID de réunion : 86244183943
URL:https://www.aa87.org/evenement/district-05/2024-03-07/
LOCATION:Place à l’emploi\, 125 Chem. du Coteau-Rouge\, Longueuil\, QC J4J 1W7\, Canada
CATEGORIES:Activité / Activity,District 05,District AA87
ORGANIZER;CN="District 5%2C Longueuil%2C St-Lambert":MAILTO:district05@aa87.org
END:VEVENT
BEGIN:VEVENT
DTSTART;TZID=America/Toronto:20240307T193000
DTEND;TZID=America/Toronto:20240307T213000
DTSTAMP:20260423T020926
CREATED:20231228T154525Z
LAST-MODIFIED:20231228T154839Z
UID:10005887-1709839800-1709847000@www.aa87.org
SUMMARY:District 07
DESCRIPTION:
URL:https://www.aa87.org/evenement/district-07-2/2024-03-07/
LOCATION:St. Mary’s Church\, 735\, Miller\, Greenfield Park QC\, 735\, Miller\, Greenfield Park\, Québec\, Canada
CATEGORIES:District 07
ORGANIZER;CN="District 7%2C Ch%C3%A2teauguay%2C St-Lambert%2C Valleyfield":MAILTO:district07@aa87.org
END:VEVENT
BEGIN:VEVENT
DTSTART;TZID=America/Toronto:20240309T100000
DTEND;TZID=America/Toronto:20240309T143000
DTSTAMP:20260423T020926
CREATED:20240101T145808Z
LAST-MODIFIED:20240302T141625Z
UID:10007379-1709978400-1709994600@www.aa87.org
SUMMARY:Assemblée Pré-Conférence et Réunion du comité régional
DESCRIPTION:Réunion hybride\n \nParticiper à la réunion Zoom \nID de réunion : 984 9889 7228\nCode secret : 1234 \nUne seule touche sur l’appareil mobile\n+14388097799\,\,87628417881# Canada \n 
URL:https://www.aa87.org/evenement/assemblee-pre-conference-et-reunion-du-comite-regional/2024-03-09/
LOCATION:Centre St-Zotique Zoom\, Québec\, Canada
END:VEVENT
BEGIN:VEVENT
DTSTART;TZID=America/Toronto:20240311T190000
DTEND;TZID=America/Toronto:20240311T210000
DTSTAMP:20260423T020926
CREATED:20231217T164214Z
LAST-MODIFIED:20241217T222311Z
UID:10013708-1710183600-1710190800@www.aa87.org
SUMMARY:Helpline Committee
DESCRIPTION:Salle 3\nParticiper à la réunion Zoom \nID de réunion : 910 8777 9314 \nCode secret : 1234
URL:https://www.aa87.org/evenement/helpline/2024-03-11/
LOCATION:Réunion Virtuelle\, Québec\, Canada
CATEGORIES:Activité / Activity,Comités / Committees,Helpline committee
END:VEVENT
BEGIN:VEVENT
DTSTART;TZID=America/Toronto:20240311T193000
DTEND;TZID=America/Toronto:20240311T213000
DTSTAMP:20260423T020926
CREATED:20231229T142706Z
LAST-MODIFIED:20231229T143007Z
UID:10006235-1710185400-1710192600@www.aa87.org
SUMMARY:District 15
DESCRIPTION:
URL:https://www.aa87.org/evenement/district-15-2/2024-03-11/
LOCATION:136-A Jacques-Cartier Nord\, St-Jean-sur-Richelieu\, Québec\, Canada
CATEGORIES:District 15
ORGANIZER;CN="District 15%2C St-Jean-sur-Richelieu":MAILTO:district15@aa87.org
END:VEVENT
BEGIN:VEVENT
DTSTART;TZID=America/Toronto:20240312T190000
DTEND;TZID=America/Toronto:20240312T210000
DTSTAMP:20260423T020926
CREATED:20231228T174213Z
LAST-MODIFIED:20231228T175254Z
UID:10005973-1710270000-1710277200@www.aa87.org
SUMMARY:District 10
DESCRIPTION:Salle 2 \nParticiper à la réunion Zoom \nID de réunion : 918 2068 6211 \nCode secret : 1234
URL:https://www.aa87.org/evenement/district-10-2/2024-03-12/
LOCATION:BSR / ASO\, 3920\, rue Rachel Est\, Montréal QC\, H1X 1Z3\, 3920\, Rachel Est\, Montréal\, Québec\, H1X 1Z3\, Canada
CATEGORIES:District 10
END:VEVENT
BEGIN:VEVENT
DTSTART;TZID=America/Toronto:20240312T190000
DTEND;TZID=America/Toronto:20240312T210000
DTSTAMP:20260423T020926
CREATED:20231229T153124Z
LAST-MODIFIED:20231229T153411Z
UID:10006361-1710270000-1710277200@www.aa87.org
SUMMARY:District 18
DESCRIPTION:
URL:https://www.aa87.org/evenement/district-18-2/2024-03-12/
LOCATION:Unity Church – 3455 Girouard in Montreal
CATEGORIES:District 18
ORGANIZER;CN="District 18%2C Verdun%2C Notre-Dame-de-Gr%C3%A2ce":MAILTO:district18@aa87.org
END:VEVENT
BEGIN:VEVENT
DTSTART;TZID=America/Toronto:20240312T190000
DTEND;TZID=America/Toronto:20240312T210000
DTSTAMP:20260423T020926
CREATED:20240104T231252Z
LAST-MODIFIED:20240105T151731Z
UID:10006804-1710270000-1710277200@www.aa87.org
SUMMARY:Écho Echo Eco
DESCRIPTION:Salle 3: \nParticiper à la réunion zoom \nID de réunion : 910 8777 9314 \nCode secret : 1234
URL:https://www.aa87.org/evenement/echo-echo-echo-2024-01-09-au-2024-12-10/2024-03-12/
END:VEVENT
BEGIN:VEVENT
DTSTART;TZID=America/Toronto:20240312T193000
DTEND;TZID=America/Toronto:20240312T213000
DTSTAMP:20260423T020926
CREATED:20231217T173651Z
LAST-MODIFIED:20231217T174012Z
UID:10005346-1710271800-1710279000@www.aa87.org
SUMMARY:Grupos de Servicio
DESCRIPTION:Salle 1\nParticiper à la réunion Zoom \nID de réunion : 944 7943 6712 \nCode secret : 1234
URL:https://www.aa87.org/evenement/services-aux-groupes-2/2024-03-12/
LOCATION:Réunion Virtuelle\, Québec\, Canada
END:VEVENT
BEGIN:VEVENT
DTSTART;TZID=America/Toronto:20240313T190000
DTEND;TZID=America/Toronto:20240313T210000
DTSTAMP:20260423T020926
CREATED:20230104T223256Z
LAST-MODIFIED:20231228T141245Z
UID:10005413-1710356400-1710363600@www.aa87.org
SUMMARY:District 01
DESCRIPTION:Salle 2 \nParticiper à la réunion Zoom \nID de réunion : 918 2068 6211 \nCode secret : 1234
URL:https://www.aa87.org/evenement/district-01/2024-03-13/
LOCATION:BSR / ASO\, 3920\, rue Rachel Est\, Montréal QC\, H1X 1Z3\, 3920\, Rachel Est\, Montréal\, Québec\, H1X 1Z3\, Canada
CATEGORIES:District 01
ORGANIZER;CN="District 1%2C Montr%C3%A9al%2C Outremont%2C C%C3%B4te-des-Neiges":MAILTO:district01@aa87.org
END:VEVENT
BEGIN:VEVENT
DTSTART;TZID=America/Toronto:20240313T190000
DTEND;TZID=America/Toronto:20240313T210000
DTSTAMP:20260423T020926
CREATED:20231217T182237Z
LAST-MODIFIED:20241217T005153Z
UID:10005366-1710356400-1710363600@www.aa87.org
SUMMARY:Comité des technologies
DESCRIPTION:Réunion mensuel d’équipe. \nParticipez à la réunion Teams
URL:https://www.aa87.org/evenement/comite-des-technologies/2024-03-13/
LOCATION:Réunion Virtuelle\, Québec\, Canada
CATEGORIES:Activité / Activity,Comité des Technologies/ Technology Committee,Comités / Committees
END:VEVENT
BEGIN:VEVENT
DTSTART;TZID=America/Toronto:20240313T193000
DTEND;TZID=America/Toronto:20240313T213000
DTSTAMP:20260423T020926
CREATED:20231228T135244Z
LAST-MODIFIED:20240113T153751Z
UID:10005401-1710358200-1710365400@www.aa87.org
SUMMARY:Services aux groupes
DESCRIPTION:Salle 3\nParticiper à la réunion Zoom \nID de réunion : 910 8777 9314 \nCode secret : 1234
URL:https://www.aa87.org/evenement/services-aux-groupes-2-2/2024-03-13/
LOCATION:Réunion Virtuelle\, Québec\, Canada
CATEGORIES:Activité / Activity,Comités / Committees,Services aux groupes / Group Services
END:VEVENT
BEGIN:VEVENT
DTSTART;TZID=America/Toronto:20240313T193000
DTEND;TZID=America/Toronto:20240313T213000
DTSTAMP:20260423T020926
CREATED:20231228T135244Z
LAST-MODIFIED:20240113T154715Z
UID:10007206-1710358200-1710365400@www.aa87.org
SUMMARY:Group Services
DESCRIPTION:Room 3\nJoin the Zoom meeting \nMeeting ID: 910 8777 9314 \nSecret code: 1234
URL:https://www.aa87.org/evenement/services-aux-groupes-2-2/2024-03-13/
LOCATION:Réunion Virtuelle\, Québec\, Canada
END:VEVENT
BEGIN:VEVENT
DTSTART;TZID=America/Toronto:20240313T193000
DTEND;TZID=America/Toronto:20240313T213000
DTSTAMP:20260423T020926
CREATED:20231229T162036Z
LAST-MODIFIED:20231229T162606Z
UID:10006455-1710358200-1710365400@www.aa87.org
SUMMARY:District 22
DESCRIPTION:
URL:https://www.aa87.org/evenement/district-22-2/2024-03-13/
LOCATION:Centre d’action bénévole\, 95\, rue Salaberry\, Salaberry-de-Valleyfield QC\, J6T 2H5\, 95\, rue Salaberry\, Salaberry-de-Valleyfield\, Québec\, J6T 2H5\, Canada
CATEGORIES:Activité / Activity,District 22,District AA87
ORGANIZER;CN="District 22%2C Valleyfield":MAILTO:district22@aa87.org
END:VEVENT
BEGIN:VEVENT
DTSTART;TZID=America/Toronto:20240314T190000
DTEND;TZID=America/Toronto:20240314T210000
DTSTAMP:20260423T020926
CREATED:20231217T170046Z
LAST-MODIFIED:20241203T005350Z
UID:10007218-1710442800-1710450000@www.aa87.org
SUMMARY:Publications
DESCRIPTION:Salle 1\nParticiper à la réunion Zoom \nID de réunion : 944 7943 6712 \nCode secret : 1234
URL:https://www.aa87.org/evenement/publications-2/2024-03-14/
CATEGORIES:Activité / Activity,Comité des Publications / Publications Committee,Comités / Committees
END:VEVENT
BEGIN:VEVENT
DTSTART;TZID=America/Toronto:20240316T090000
DTEND;TZID=America/Toronto:20240316T110000
DTSTAMP:20260423T020926
CREATED:20231217T020030Z
LAST-MODIFIED:20241217T221011Z
UID:10013497-1710579600-1710586800@www.aa87.org
SUMMARY:Comité Centres de détention
DESCRIPTION:
URL:https://www.aa87.org/evenement/centres-de-detention-4/2024-03-16/
LOCATION:BSR / ASO\, 3920\, rue Rachel Est\, Montréal QC\, H1X 1Z3\, 3920\, Rachel Est\, Montréal\, Québec\, H1X 1Z3\, Canada
CATEGORIES:Activité / Activity,Centres de détention,Comités / Committees
END:VEVENT
BEGIN:VEVENT
DTSTART;TZID=America/Toronto:20240317T080000
DTEND;TZID=America/Toronto:20240317T170000
DTSTAMP:20260423T020926
CREATED:20240102T113940Z
LAST-MODIFIED:20240102T114518Z
UID:10006647-1710662400-1710694800@www.aa87.org
SUMMARY:Orientation des délégués
DESCRIPTION:
URL:https://www.aa87.org/evenement/orientation-des-delegues/
CATEGORIES:Assemblée du Délégué
END:VEVENT
BEGIN:VEVENT
DTSTART;TZID=America/Toronto:20240318T190000
DTEND;TZID=America/Toronto:20240318T210000
DTSTAMP:20260423T020926
CREATED:20231228T141616Z
LAST-MODIFIED:20240806T231019Z
UID:10005443-1710788400-1710795600@www.aa87.org
SUMMARY:District 02
DESCRIPTION:Salle 2 \nParticiper à la réunion Zoom \nID de réunion : 918 2068 6211 \nCode secret : 1234
URL:https://www.aa87.org/evenement/district-02-2/2024-03-18/
LOCATION:BSR / ASO\, 3920\, rue Rachel Est\, Montréal QC\, H1X 1Z3\, 3920\, Rachel Est\, Montréal\, Québec\, H1X 1Z3\, Canada
CATEGORIES:District 02
ORGANIZER;CN="District 2%2C Rosemont%2C St-Michel%2C Villeray":MAILTO:district02@aa87.org
END:VEVENT
BEGIN:VEVENT
DTSTART;TZID=America/Toronto:20240319T193000
DTEND;TZID=America/Toronto:20240319T213000
DTSTAMP:20260423T020926
CREATED:20240206T020553Z
LAST-MODIFIED:20240206T021352Z
UID:10007252-1710876600-1710883800@www.aa87.org
SUMMARY:District 04
DESCRIPTION:
URL:https://www.aa87.org/evenement/district-04-2-2/2024-03-19/
LOCATION:5365\, Marie-Victorin\, Sainte-Catherine QC\, J5C 1L9\, 5365\, Marie-Victorin\, Sainte-Catherine\, Québec\, J5C 1L9\, Canada
CATEGORIES:District 04
ORGANIZER;CN="District 4%2C Laprairie%2C Candiac%2C Ch%C3%A2teauguay":MAILTO:district04@aa87.org
END:VEVENT
END:VCALENDAR