BEGIN:VCALENDAR
VERSION:2.0
PRODID:-//Alcooliques Anonymes Région 87 - ECPv6.15.17//NONSGML v1.0//EN
CALSCALE:GREGORIAN
METHOD:PUBLISH
X-ORIGINAL-URL:https://www.aa87.org
X-WR-CALDESC:Évènements pour Alcooliques Anonymes Région 87
REFRESH-INTERVAL;VALUE=DURATION:PT1H
X-Robots-Tag:noindex
X-PUBLISHED-TTL:PT1H
BEGIN:VTIMEZONE
TZID:America/Toronto
BEGIN:DAYLIGHT
TZOFFSETFROM:-0500
TZOFFSETTO:-0400
TZNAME:EDT
DTSTART:20230312T070000
END:DAYLIGHT
BEGIN:STANDARD
TZOFFSETFROM:-0400
TZOFFSETTO:-0500
TZNAME:EST
DTSTART:20231105T060000
END:STANDARD
BEGIN:DAYLIGHT
TZOFFSETFROM:-0500
TZOFFSETTO:-0400
TZNAME:EDT
DTSTART:20240310T070000
END:DAYLIGHT
BEGIN:STANDARD
TZOFFSETFROM:-0400
TZOFFSETTO:-0500
TZNAME:EST
DTSTART:20241103T060000
END:STANDARD
BEGIN:DAYLIGHT
TZOFFSETFROM:-0500
TZOFFSETTO:-0400
TZNAME:EDT
DTSTART:20250309T070000
END:DAYLIGHT
BEGIN:STANDARD
TZOFFSETFROM:-0400
TZOFFSETTO:-0500
TZNAME:EST
DTSTART:20251102T060000
END:STANDARD
END:VTIMEZONE
BEGIN:VEVENT
DTSTART;TZID=America/Toronto:20240801T060000
DTEND;TZID=America/Toronto:20240801T060000
DTSTAMP:20260422T191210
CREATED:20231229T130646Z
LAST-MODIFIED:20241217T113831Z
UID:10012750-1722492000-1722492000@www.aa87.org
SUMMARY:Réunion des RSG du District 87-13
DESCRIPTION:
URL:https://www.aa87.org/evenement/district-13/2024-08-01/
LOCATION:Centre St-Zotique\, 75\, carré Sir Georges-Étienne Cartier\, salle 215\, Montréal QC\, H4C 3A1\, 75\, carré Sir Georges-Étienne Cartier\, salle 215\, Montréal\, Québec\, H4C 3A1\, Canada
CATEGORIES:Activité / Activity,District 13,District AA87
END:VEVENT
BEGIN:VEVENT
DTSTART;TZID=America/Toronto:20240804T130000
DTEND;TZID=America/Toronto:20240804T150000
DTSTAMP:20260422T191210
CREATED:20231217T161936Z
LAST-MODIFIED:20241217T005435Z
UID:10006967-1722776400-1722783600@www.aa87.org
SUMMARY:Correctional Facilities
DESCRIPTION:Salle 1\nParticiper à la réunion Zoom \nID de réunion : 944 7943 6712 \nCode secret : 1234
URL:https://www.aa87.org/evenement/correctional-facilities/2024-08-04/
LOCATION:BSR / ASO\, 3920\, rue Rachel Est\, Montréal QC\, H1X 1Z3\, 3920\, Rachel Est\, Montréal\, Québec\, H1X 1Z3\, Canada
CATEGORIES:Activité / Activity,Comités / Committees,Correctional Facilities Committee
END:VEVENT
BEGIN:VEVENT
DTSTART;TZID=America/Toronto:20240805T190000
DTEND;TZID=America/Toronto:20240805T210000
DTSTAMP:20260422T191210
CREATED:20231228T183127Z
LAST-MODIFIED:20241217T005748Z
UID:10006055-1722884400-1722891600@www.aa87.org
SUMMARY:Comité du Congrès Régional
DESCRIPTION:Participer à la réunion Zoom \nAutres informations de connexion :\nID de réunion : 944 7943 6712\nCode secret : 1234
URL:https://www.aa87.org/evenement/comite-du-congres-regional-3/2024-08-05/
END:VEVENT
BEGIN:VEVENT
DTSTART;TZID=America/Toronto:20240808T190000
DTEND;TZID=America/Toronto:20240808T210000
DTSTAMP:20260422T191210
CREATED:20231217T170046Z
LAST-MODIFIED:20241203T005350Z
UID:10007223-1723143600-1723150800@www.aa87.org
SUMMARY:Publications
DESCRIPTION:Salle 1\nParticiper à la réunion Zoom \nID de réunion : 944 7943 6712 \nCode secret : 1234
URL:https://www.aa87.org/evenement/publications-2/2024-08-08/
CATEGORIES:Activité / Activity,Comité des Publications / Publications Committee,Comités / Committees
END:VEVENT
BEGIN:VEVENT
DTSTART;TZID=America/Toronto:20240808T193000
DTEND;TZID=America/Toronto:20240808T210000
DTSTAMP:20260422T191210
CREATED:20240417T211938Z
LAST-MODIFIED:20240417T212253Z
UID:10007468-1723145400-1723150800@www.aa87.org
SUMMARY:Services aux groupes
DESCRIPTION:Salle 3\nParticiper à la réunion Zoom \nID de réunion : 910 8777 9314 \nCode secret : 1234
URL:https://www.aa87.org/evenement/services-aux-groupes-2-2-2/2024-08-08/
LOCATION:Réunion Virtuelle\, Québec\, Canada
CATEGORIES:Activité / Activity,Comités / Committees,Services aux groupes / Group Services
END:VEVENT
BEGIN:VEVENT
DTSTART;TZID=America/Toronto:20240809T080000
DTEND;TZID=America/Toronto:20240809T170000
DTSTAMP:20260422T191210
CREATED:20240510T154340Z
LAST-MODIFIED:20240510T194412Z
UID:10007485-1723190400-1723222800@www.aa87.org
SUMMARY:45e Congrès AA District 87-21
DESCRIPTION:Nous avons le plaisir de vous inviter à notre prochain événement : \n45e CONGRÈS AA DISTRICT 87-21\nTHÈME : MAIN DANS LA MAIN \nLes 9 et 10 août 2024\nOuverture vendredi 18h00 et samedi 8h00 \nCégep de Granby – 235\, rue St-Jacques – Entrée rue St-Antoine Sud\nGranby\, Québec J2G 3N1\nCanada\nMap It \nAvec la participation de Al-Anon\nAccès à mobilité réduite\nContribution volontaire \nPartages\, décompte\, danse\nVendredi Orchestre\nSamedi DJ
URL:https://www.aa87.org/evenement/45e-congres-aa-district-87-21/2024-08-09/
CATEGORIES:Activité / Activity,District 21
ORGANIZER;CN="District 21%2C Granby%2C Cowansville":MAILTO:district21@aa87.org
END:VEVENT
BEGIN:VEVENT
DTSTART;TZID=America/Toronto:20240810T080000
DTEND;TZID=America/Toronto:20240810T170000
DTSTAMP:20260422T191210
CREATED:20240510T154340Z
LAST-MODIFIED:20240510T194412Z
UID:10007486-1723276800-1723309200@www.aa87.org
SUMMARY:45e Congrès AA District 87-21
DESCRIPTION:Nous avons le plaisir de vous inviter à notre prochain événement : \n45e CONGRÈS AA DISTRICT 87-21\nTHÈME : MAIN DANS LA MAIN \nLes 9 et 10 août 2024\nOuverture vendredi 18h00 et samedi 8h00 \nCégep de Granby – 235\, rue St-Jacques – Entrée rue St-Antoine Sud\nGranby\, Québec J2G 3N1\nCanada\nMap It \nAvec la participation de Al-Anon\nAccès à mobilité réduite\nContribution volontaire \nPartages\, décompte\, danse\nVendredi Orchestre\nSamedi DJ
URL:https://www.aa87.org/evenement/45e-congres-aa-district-87-21/2024-08-10/
CATEGORIES:Activité / Activity,District 21
ORGANIZER;CN="District 21%2C Granby%2C Cowansville":MAILTO:district21@aa87.org
END:VEVENT
BEGIN:VEVENT
DTSTART;TZID=America/Toronto:20240810T083000
DTEND;TZID=America/Toronto:20240810T130000
DTSTAMP:20260422T191210
CREATED:20240102T130551Z
LAST-MODIFIED:20240801T145359Z
UID:10006663-1723278600-1723294800@www.aa87.org
SUMMARY:Réunion itinérante du comité régional
DESCRIPTION:Salle 0 \nParticiper à la réunion Zoom \nID de réunion : 984 9889 7228\nCode secret : 1234 \nNOUVEAU : DÈS 8H00 NOUS VOUS ATTENDONS POUR ÉCHANGER AUTOUR D’UN SUCCULENT BRUNCH !
URL:https://www.aa87.org/evenement/reunion-itinerante-du-comite-regional/
LOCATION:Au sous-sol de l’église Ste-Eugénie\, 4750 Rue Jacques-Cartier\, Saint-Hyacinthe\, QC\, J2S 3Y9\, Canada
CATEGORIES:Activité / Activity,Comité régional,Comités / Committees,Régional
END:VEVENT
BEGIN:VEVENT
DTSTART;TZID=America/Toronto:20240812T190000
DTEND;TZID=America/Toronto:20240812T210000
DTSTAMP:20260422T191210
CREATED:20231217T133410Z
LAST-MODIFIED:20240830T174151Z
UID:10008034-1723489200-1723496400@www.aa87.org
SUMMARY:Communications internes
DESCRIPTION:Salle 1\nParticiper à la réunion Zoom \nID de réunion : 944 7943 6712 \nCode secret : 1234
URL:https://www.aa87.org/evenement/communications-internes/2024-08-12/
LOCATION:Réunion Virtuelle\, Québec\, Canada
CATEGORIES:Activité / Activity,Comités / Committees,Communications internes / Internal Communication
END:VEVENT
BEGIN:VEVENT
DTSTART;TZID=America/Toronto:20240812T190000
DTEND;TZID=America/Toronto:20240812T210000
DTSTAMP:20260422T191210
CREATED:20231217T164214Z
LAST-MODIFIED:20241217T222311Z
UID:10013711-1723489200-1723496400@www.aa87.org
SUMMARY:Helpline Committee
DESCRIPTION:Salle 3\nParticiper à la réunion Zoom \nID de réunion : 910 8777 9314 \nCode secret : 1234
URL:https://www.aa87.org/evenement/helpline/2024-08-12/
LOCATION:Réunion Virtuelle\, Québec\, Canada
CATEGORIES:Activité / Activity,Comités / Committees,Helpline committee
END:VEVENT
BEGIN:VEVENT
DTSTART;TZID=America/Toronto:20240812T193000
DTEND;TZID=America/Toronto:20240812T213000
DTSTAMP:20260422T191210
CREATED:20231229T142706Z
LAST-MODIFIED:20231229T143007Z
UID:10006239-1723491000-1723498200@www.aa87.org
SUMMARY:District 15
DESCRIPTION:
URL:https://www.aa87.org/evenement/district-15-2/2024-08-12/
LOCATION:136-A Jacques-Cartier Nord\, St-Jean-sur-Richelieu\, Québec\, Canada
CATEGORIES:District 15
ORGANIZER;CN="District 15%2C St-Jean-sur-Richelieu":MAILTO:district15@aa87.org
END:VEVENT
BEGIN:VEVENT
DTSTART;TZID=America/Toronto:20240813T190000
DTEND;TZID=America/Toronto:20240813T210000
DTSTAMP:20260422T191210
CREATED:20231228T174213Z
LAST-MODIFIED:20231228T175254Z
UID:10005977-1723575600-1723582800@www.aa87.org
SUMMARY:District 10
DESCRIPTION:Salle 2 \nParticiper à la réunion Zoom \nID de réunion : 918 2068 6211 \nCode secret : 1234
URL:https://www.aa87.org/evenement/district-10-2/2024-08-13/
LOCATION:BSR / ASO\, 3920\, rue Rachel Est\, Montréal QC\, H1X 1Z3\, 3920\, Rachel Est\, Montréal\, Québec\, H1X 1Z3\, Canada
CATEGORIES:District 10
END:VEVENT
BEGIN:VEVENT
DTSTART;TZID=America/Toronto:20240813T190000
DTEND;TZID=America/Toronto:20240813T210000
DTSTAMP:20260422T191210
CREATED:20231229T153124Z
LAST-MODIFIED:20231229T153411Z
UID:10006365-1723575600-1723582800@www.aa87.org
SUMMARY:District 18
DESCRIPTION:
URL:https://www.aa87.org/evenement/district-18-2/2024-08-13/
LOCATION:Unity Church – 3455 Girouard in Montreal
CATEGORIES:District 18
ORGANIZER;CN="District 18%2C Verdun%2C Notre-Dame-de-Gr%C3%A2ce":MAILTO:district18@aa87.org
END:VEVENT
BEGIN:VEVENT
DTSTART;TZID=America/Toronto:20240813T190000
DTEND;TZID=America/Toronto:20240813T210000
DTSTAMP:20260422T191210
CREATED:20240104T231252Z
LAST-MODIFIED:20240105T151731Z
UID:10006809-1723575600-1723582800@www.aa87.org
SUMMARY:Écho Echo Eco
DESCRIPTION:Salle 3: \nParticiper à la réunion zoom \nID de réunion : 910 8777 9314 \nCode secret : 1234
URL:https://www.aa87.org/evenement/echo-echo-echo-2024-01-09-au-2024-12-10/2024-08-13/
END:VEVENT
BEGIN:VEVENT
DTSTART;TZID=America/Toronto:20240814T190000
DTEND;TZID=America/Toronto:20240814T210000
DTSTAMP:20260422T191210
CREATED:20231217T182237Z
LAST-MODIFIED:20241217T005153Z
UID:10005370-1723662000-1723669200@www.aa87.org
SUMMARY:Comité des technologies
DESCRIPTION:Réunion mensuel d’équipe. \nParticipez à la réunion Teams
URL:https://www.aa87.org/evenement/comite-des-technologies/2024-08-14/
LOCATION:Réunion Virtuelle\, Québec\, Canada
CATEGORIES:Activité / Activity,Comité des Technologies/ Technology Committee,Comités / Committees
END:VEVENT
BEGIN:VEVENT
DTSTART;TZID=America/Toronto:20240817T090000
DTEND;TZID=America/Toronto:20240817T110000
DTSTAMP:20260422T191210
CREATED:20231217T020030Z
LAST-MODIFIED:20241217T221011Z
UID:10004979-1723885200-1723892400@www.aa87.org
SUMMARY:Comité Centres de détention
DESCRIPTION:
URL:https://www.aa87.org/evenement/centres-de-detention-4/2024-08-17/
LOCATION:BSR / ASO\, 3920\, rue Rachel Est\, Montréal QC\, H1X 1Z3\, 3920\, Rachel Est\, Montréal\, Québec\, H1X 1Z3\, Canada
CATEGORIES:Activité / Activity,Centres de détention,Comités / Committees
END:VEVENT
BEGIN:VEVENT
DTSTART;TZID=America/Toronto:20240819T190000
DTEND;TZID=America/Toronto:20240819T210000
DTSTAMP:20260422T191210
CREATED:20231228T141616Z
LAST-MODIFIED:20240806T231019Z
UID:10007962-1724094000-1724101200@www.aa87.org
SUMMARY:District 02
DESCRIPTION:Salle 2 \nParticiper à la réunion Zoom \nID de réunion : 918 2068 6211 \nCode secret : 1234
URL:https://www.aa87.org/evenement/district-02-2/2024-08-19/
LOCATION:BSR / ASO\, 3920\, rue Rachel Est\, Montréal QC\, H1X 1Z3\, 3920\, Rachel Est\, Montréal\, Québec\, H1X 1Z3\, Canada
CATEGORIES:District 02
ORGANIZER;CN="District 2%2C Rosemont%2C St-Michel%2C Villeray":MAILTO:district02@aa87.org
END:VEVENT
BEGIN:VEVENT
DTSTART;TZID=America/Toronto:20240822T190000
DTEND;TZID=America/Toronto:20240822T220000
DTSTAMP:20260422T191210
CREATED:20231217T000319Z
LAST-MODIFIED:20231217T135552Z
UID:10004842-1724353200-1724364000@www.aa87.org
SUMMARY:Comité de direction
DESCRIPTION:Salle 4
URL:https://www.aa87.org/evenement/comite-de-direction-2/2024-08-22/
LOCATION:Réunion Virtuelle\, Québec\, Canada
CATEGORIES:Comité de direction/Steering Committee
END:VEVENT
BEGIN:VEVENT
DTSTART;VALUE=DATE:20240823
DTEND;VALUE=DATE:20240826
DTSTAMP:20260422T191210
CREATED:20240102T132209Z
LAST-MODIFIED:20240102T132549Z
UID:10006666-1724371200-1724630399@www.aa87.org
SUMMARY:Forum Territorial de l’est du Canada
DESCRIPTION:
URL:https://www.aa87.org/evenement/forum-territorial-de-lest-du-canada/
LOCATION:Hôtel Delta Ottawa\, 101 Lyon St. N\, Ottawa\, ON\, K1R 5T9\, Canada
CATEGORIES:Événements,Forum territorial
END:VEVENT
BEGIN:VEVENT
DTSTART;TZID=America/Toronto:20240826T190000
DTEND;TZID=America/Toronto:20240826T210000
DTSTAMP:20260422T191210
CREATED:20231217T002921Z
LAST-MODIFIED:20240830T163654Z
UID:10007974-1724698800-1724706000@www.aa87.org
SUMMARY:Réunions des coordonnateurs
DESCRIPTION:Salle 1\nParticiper à la réunion Zoom \nID de réunion : 944 7943 6712 \nCode secret : 1234
URL:https://www.aa87.org/evenement/reunions-des-coordonnateurs/2024-08-26/
LOCATION:Réunion Virtuelle\, Québec\, Canada
CATEGORIES:Activité / Activity,Comités / Committees,Coordonnateurs de comité / Committee’s Coordinator
END:VEVENT
BEGIN:VEVENT
DTSTART;TZID=America/Toronto:20240827T190000
DTEND;TZID=America/Toronto:20240827T210000
DTSTAMP:20260422T191210
CREATED:20231217T010701Z
LAST-MODIFIED:20231217T011207Z
UID:10004946-1724785200-1724792400@www.aa87.org
SUMMARY:Aide téléphonique
DESCRIPTION:Salle 1\nParticiper à la réunion Zoom \nID de réunion : 944 7943 6712 \nCode secret : 1234 \nPrendre note que les réunions  du :\n23 janvier\, 27 février et le 26 mars 2024 seronts en virtuel (zoom) seulement
URL:https://www.aa87.org/evenement/aide-telephonique-2/2024-08-27/
LOCATION:BSR / ASO\, 3920\, rue Rachel Est\, Montréal QC\, H1X 1Z3\, 3920\, Rachel Est\, Montréal\, Québec\, H1X 1Z3\, Canada
CATEGORIES:Activité / Activity,Comité d’Aide télephonique,Comités / Committees
END:VEVENT
BEGIN:VEVENT
DTSTART;TZID=America/Toronto:20240827T190000
DTEND;TZID=America/Toronto:20240827T210000
DTSTAMP:20260422T191210
CREATED:20240104T221429Z
LAST-MODIFIED:20240106T225014Z
UID:10007154-1724785200-1724792400@www.aa87.org
SUMMARY:Un jour à la fois
DESCRIPTION:Salle 2: \nParticiper à la réunion zoom \nID de réunion : 918 2068 6211 \nCode secret : 1234
URL:https://www.aa87.org/evenement/un-jour-a-la-fois/2024-08-27/
END:VEVENT
BEGIN:VEVENT
DTSTART;TZID=America/Toronto:20240828T190000
DTEND;TZID=America/Toronto:20240828T210000
DTSTAMP:20260422T191210
CREATED:20231217T132720Z
LAST-MODIFIED:20250110T202822Z
UID:10007968-1724871600-1724878800@www.aa87.org
SUMMARY:Centres de traitement
DESCRIPTION:HYBRIDE\nAu BSR et virtuelle salle 1\nParticiper à la réunion Zoom \nID de réunion : 944 7943 6712 \nCode secret : 1234
URL:https://www.aa87.org/evenement/centres-de-traitement/2024-08-28/
LOCATION:BSR / ASO\, 3920\, rue Rachel Est\, Montréal QC\, H1X 1Z3\, 3920\, Rachel Est\, Montréal\, Québec\, H1X 1Z3\, Canada
CATEGORIES:Activité / Activity,Centres de traitement / Treatment Facilities,Comités / Committees
ORGANIZER;CN="Centre de traitement":MAILTO:centresdetraitement@aa87.org
END:VEVENT
BEGIN:VEVENT
DTSTART;VALUE=DATE:20240831
DTEND;VALUE=DATE:20240901
DTSTAMP:20260422T191210
CREATED:20241019T001138Z
LAST-MODIFIED:20250725T175249Z
UID:10008746-1725062400-1725148799@www.aa87.org
SUMMARY:Réflexion quotidienne 31 août
DESCRIPTION:﻿﻿﻿\n \n\nTous les Réflexions quotidiennes
URL:https://www.aa87.org/evenement/rq0831-2/2024-08-31/
CATEGORIES:Réflexions Quotidiennes
END:VEVENT
BEGIN:VEVENT
DTSTART;VALUE=DATE:20240831
DTEND;VALUE=DATE:20240901
DTSTAMP:20260422T191210
CREATED:20241019T001138Z
LAST-MODIFIED:20241019T001714Z
UID:10008758-1725062400-1725148799@www.aa87.org
SUMMARY:Daily reflection August 31
DESCRIPTION:A unique program\nAugust 31\n\nAlcoholics Anonymous will never have a professional class. We have gained some understanding of the ancient words « Freely ye have received\, freely give. » We have discovered that at the point of professionalism\, money and spirituality do not mix. \nTwelve steps and twelve traditions\, p. 166 \nI believe that Alcoholics Anonymous stands alone in the treatment of alcoholism because it is based solely on the principle of one alcoholic sharing with another alcoholic. This is what makes the program unique. When I decided that I wanted to stay sober\, I called a woman who I knew was a sober member of A.A.\, and she carried the message of Alcoholics Anonymous to me. She received no monetary compensation\, but rather was paid by staying sober another day herself. Today I could ask for no payment other than another day free from alcohol\, so in that respect\, I am generously paid for my labor. \n\n\nFrom the book Daily Reflections.\nCopyright © 1990 by Alcoholics Anonymous World Services\, Inc. All rights reserved. \n\n\nAll Daily reflections
URL:https://www.aa87.org/evenement/rq0831/
LOCATION:aa87.org
END:VEVENT
END:VCALENDAR