BEGIN:VCALENDAR
VERSION:2.0
PRODID:-//Alcooliques Anonymes Région 87 - ECPv6.15.17//NONSGML v1.0//EN
CALSCALE:GREGORIAN
METHOD:PUBLISH
X-ORIGINAL-URL:https://www.aa87.org
X-WR-CALDESC:Évènements pour Alcooliques Anonymes Région 87
REFRESH-INTERVAL;VALUE=DURATION:PT1H
X-Robots-Tag:noindex
X-PUBLISHED-TTL:PT1H
BEGIN:VTIMEZONE
TZID:America/Toronto
BEGIN:DAYLIGHT
TZOFFSETFROM:-0500
TZOFFSETTO:-0400
TZNAME:EDT
DTSTART:20230312T070000
END:DAYLIGHT
BEGIN:STANDARD
TZOFFSETFROM:-0400
TZOFFSETTO:-0500
TZNAME:EST
DTSTART:20231105T060000
END:STANDARD
BEGIN:DAYLIGHT
TZOFFSETFROM:-0500
TZOFFSETTO:-0400
TZNAME:EDT
DTSTART:20240310T070000
END:DAYLIGHT
BEGIN:STANDARD
TZOFFSETFROM:-0400
TZOFFSETTO:-0500
TZNAME:EST
DTSTART:20241103T060000
END:STANDARD
BEGIN:DAYLIGHT
TZOFFSETFROM:-0500
TZOFFSETTO:-0400
TZNAME:EDT
DTSTART:20250309T070000
END:DAYLIGHT
BEGIN:STANDARD
TZOFFSETFROM:-0400
TZOFFSETTO:-0500
TZNAME:EST
DTSTART:20251102T060000
END:STANDARD
END:VTIMEZONE
BEGIN:VEVENT
DTSTART;VALUE=DATE:20241001
DTEND;VALUE=DATE:20241002
DTSTAMP:20260422T161802
CREATED:20240923T001221Z
LAST-MODIFIED:20240923T002316Z
UID:10008304-1727740800-1727827199@www.aa87.org
SUMMARY:Réflexion quotidienne 01 octobre
DESCRIPTION:DE PEUR DE DEVENIR VANITEUX\n1 octobre \nIl est facile de commencer à négliger le programme spirituel et de se reposer sur ses lauriers. Si nous le faisons\, nous nous préparons de sérieux ennuis\, car l’alcool est un ennemi subtil. \nLes Alcooliques Anonymes\, P. 96 \nQuand je souffre\, je me tiens d’instinct près des amis que je me suis faits dans le mouvement. Les solutions que contiennent les Douze Étapes me soulagent de ma souffrance. Par contre\, quand je me sens bien et que tout va bien\, je deviens facilement vaniteux. Plus simplement\, par paresse\, je me tourne vers le problème plutôt que vers la solution. Il faut donc passer à l’action\, faire mon inventaire : savoir où j’en suis et où je m’en vais. Un inventaire quotidien m’indique ce que je dois changer pour retrouver mon équilibre spirituel. Avouer à Dieu et à un autre être humain ce que je découvre en moi m’aide à rester honnête et humble. \nExtrait du livre Réflexions quotidiennes\nCopyright © 1991 par Alcoholics Anonymous World Services\, Inc. Tous droits réservés. \nTous les Réflexions quotidiennes
URL:https://www.aa87.org/evenement/rq1001/2024-10-01/
LOCATION:aa87.org
CATEGORIES:Réflexions Quotidiennes
END:VEVENT
BEGIN:VEVENT
DTSTART;TZID=America/Toronto:20241001T190000
DTEND;TZID=America/Toronto:20241001T210000
DTSTAMP:20260422T161802
CREATED:20231229T143517Z
LAST-MODIFIED:20241217T010649Z
UID:10006273-1727809200-1727816400@www.aa87.org
SUMMARY:Comité de l'accueil du District 87-01
DESCRIPTION:Salle 2 \nParticiper à la réunion Zoom \nID de réunion : 918 2068 6211 \nCode secret : 1234
URL:https://www.aa87.org/evenement/comite-accueil-district-01/2024-10-01/
ORGANIZER;CN="District 1%2C Montr%C3%A9al%2C Outremont%2C C%C3%B4te-des-Neiges":MAILTO:district01@aa87.org
END:VEVENT
BEGIN:VEVENT
DTSTART;TZID=America/Toronto:20241001T193000
DTEND;TZID=America/Toronto:20241001T213000
DTSTAMP:20260422T161802
CREATED:20231229T155357Z
LAST-MODIFIED:20241217T012449Z
UID:10006429-1727811000-1727818200@www.aa87.org
SUMMARY:Réunion des RSG du District 87-21
DESCRIPTION:
URL:https://www.aa87.org/evenement/district-21-2/2024-10-01/
LOCATION:Église United Church\, 101 Rue Principale\, Granby\, QC\, J2G 2T9\, Canada
CATEGORIES:Activité / Activity,District 21,District AA87
ORGANIZER;CN="District 21%2C Granby%2C Cowansville":MAILTO:district21@aa87.org
END:VEVENT
BEGIN:VEVENT
DTSTART;VALUE=DATE:20241002
DTEND;VALUE=DATE:20241003
DTSTAMP:20260422T161802
CREATED:20240923T230634Z
LAST-MODIFIED:20240924T105516Z
UID:10008324-1727827200-1727913599@www.aa87.org
SUMMARY:Réflexion quotidienne 02 octobre
DESCRIPTION:« La minute de vérité»\n2 octobre\n\nEn travaillant les neuf premières Étapes nous nous préparons à l’aventure d’une vie nouvelle. Quand nous entreprenons la Dixième Étape\, nous commençons à mettre en pratique le mode de vie des AA\, jour après jour\, par beau ou mauvais temps. Mais voici venue la minute de vérité : pouvons-nous demeurer abstinents\, garder notre équilibre émotif et\, en toutes circonstances\, mener une vie qui sert à quelque chose ? \nLes douzes étapes et les douzes traditions\, p. 100 \nJe sais que les promesses se réalisent dans ma vie\, mais je veux conserver ce que j’ai acquis et le développer. Pour cela\, je pratique quotidiennement la Dixième Étape. Elle m’apprend à reconnaître que lorsque quelqu’un me perturbe\, c’est que quelque chose ne va pas en moi. L’autre a peut-être tort également\, mais je ne peux m’occuper que de mes propres émotions. Si je suis blessé ou contrarié\, je dois toujours en rechercher la cause en moi\, puis admettre et corriger mes erreurs. Cela n’est pas facile mais tant que je progresse spirituellement\, je peux considérer ces efforts comme un travail bien fait. J’ai découvert que la souffrance est une amie ; elle m’indique que ça ne tourne pas rond au niveau de mes émotions\, exactement comme la douleur physique est un indice que quelque chose ne va pas dans mon corps. En posant les gestes appropriés à l’aide des Douze Étapes\, la souffrance disparaît graduellement. \n\nExtrait du livre Réflexions quotidiennes\nCopyright © 1991 par Alcoholics Anonymous World Services\, Inc. Tous droits réservés.\n\n \nTous les Réflexions quotidiennes
URL:https://www.aa87.org/evenement/rq1002/2024-10-02/
LOCATION:aa87.org
CATEGORIES:Réflexions Quotidiennes
END:VEVENT
BEGIN:VEVENT
DTSTART;TZID=America/Toronto:20241002T190000
DTEND;TZID=America/Toronto:20241002T210000
DTSTAMP:20260422T161802
CREATED:20231217T165210Z
LAST-MODIFIED:20260303T000857Z
UID:10024997-1727895600-1727902800@www.aa87.org
SUMMARY:Comité de l'Information publique +
DESCRIPTION:Salle 1\nJoindre la réunion\n\n  \nID de réunion : 944 7943 6712\nCode secret : 1234
URL:https://www.aa87.org/evenement/information-publique/2024-10-02/
LOCATION:BSR / ASO\, 3920\, rue Rachel Est\, Montréal QC\, H1X 1Z3\, 3920\, Rachel Est\, Montréal\, Québec\, H1X 1Z3\, Canada
CATEGORIES:Activité / Activity,Comité d’Information Publique,Comités / Committees
END:VEVENT
BEGIN:VEVENT
DTSTART;TZID=America/Toronto:20241002T193000
DTEND;TZID=America/Toronto:20241002T213000
DTSTAMP:20260422T161802
CREATED:20231229T144655Z
LAST-MODIFIED:20241217T113214Z
UID:10008772-1727897400-1727904600@www.aa87.org
SUMMARY:Réunion des RSG du District 87-16
DESCRIPTION:
URL:https://www.aa87.org/evenement/district-16-2-2/2024-10-02/
LOCATION:Centre communautaire\, 53\, rue Rabastalière\, St-Bruno QC\, J3V 1Y7\, 53\, rue Rabastalière\, St-Bruno\, Québec\, J3V 1Y7\, Canada
CATEGORIES:District 16
ORGANIZER;CN="District 16%2C Bel%C5%93il%2C St-Hilaire":MAILTO:district16@aa87.org
END:VEVENT
BEGIN:VEVENT
DTSTART;TZID=America/Toronto:20241003T060000
DTEND;TZID=America/Toronto:20241003T060000
DTSTAMP:20260422T161802
CREATED:20231229T130646Z
LAST-MODIFIED:20241217T113831Z
UID:10012751-1727935200-1727935200@www.aa87.org
SUMMARY:Réunion des RSG du District 87-13
DESCRIPTION:
URL:https://www.aa87.org/evenement/district-13/2024-10-03/
LOCATION:Centre St-Zotique\, 75\, carré Sir Georges-Étienne Cartier\, salle 215\, Montréal QC\, H4C 3A1\, 75\, carré Sir Georges-Étienne Cartier\, salle 215\, Montréal\, Québec\, H4C 3A1\, Canada
CATEGORIES:Activité / Activity,District 13,District AA87
END:VEVENT
BEGIN:VEVENT
DTSTART;TZID=America/Toronto:20241003T190000
DTEND;TZID=America/Toronto:20241003T210000
DTSTAMP:20260422T161802
CREATED:20231228T153002Z
LAST-MODIFIED:20231229T175154Z
UID:10005798-1727982000-1727989200@www.aa87.org
SUMMARY:District 05
DESCRIPTION:Participer à la réunion Zoom \nID de réunion : 86244183943
URL:https://www.aa87.org/evenement/district-05/2024-10-03/
LOCATION:Place à l’emploi\, 125 Chem. du Coteau-Rouge\, Longueuil\, QC J4J 1W7\, Canada
CATEGORIES:Activité / Activity,District 05,District AA87
ORGANIZER;CN="District 5%2C Longueuil%2C St-Lambert":MAILTO:district05@aa87.org
END:VEVENT
BEGIN:VEVENT
DTSTART;TZID=America/Toronto:20241003T193000
DTEND;TZID=America/Toronto:20241003T213000
DTSTAMP:20260422T161802
CREATED:20231228T154525Z
LAST-MODIFIED:20231228T154839Z
UID:10005892-1727983800-1727991000@www.aa87.org
SUMMARY:District 07
DESCRIPTION:
URL:https://www.aa87.org/evenement/district-07-2/2024-10-03/
LOCATION:St. Mary’s Church\, 735\, Miller\, Greenfield Park QC\, 735\, Miller\, Greenfield Park\, Québec\, Canada
CATEGORIES:District 07
ORGANIZER;CN="District 7%2C Ch%C3%A2teauguay%2C St-Lambert%2C Valleyfield":MAILTO:district07@aa87.org
END:VEVENT
BEGIN:VEVENT
DTSTART;TZID=America/Toronto:20241003T193000
DTEND;TZID=America/Toronto:20241003T213000
DTSTAMP:20260422T161802
CREATED:20240322T030612Z
LAST-MODIFIED:20241110T003100Z
UID:10009687-1727983800-1727991000@www.aa87.org
SUMMARY:District 14
DESCRIPTION:La réunion est maintenent en présentiel seulement à une nouvelle adresse.
URL:https://www.aa87.org/evenement/district-14/2024-10-03/
LOCATION:3225 rue Courchesne Sorel-Tracy  Local 210\, 3225 rue Courchesne\, Sorel-Tracy\, QC\, J3R 3A7\, Canada
CATEGORIES:Activité / Activity,District 14,District AA87
ORGANIZER;CN="District 14%2C Sorel%2C Tracy et environs":MAILTO:district14@aa87.org
END:VEVENT
BEGIN:VEVENT
DTSTART;VALUE=DATE:20241005
DTEND;VALUE=DATE:20241006
DTSTAMP:20260422T161802
CREATED:20241018T155533Z
LAST-MODIFIED:20241018T160250Z
UID:10008692-1728086400-1728172799@www.aa87.org
SUMMARY:Réflexion quotidienne 05 octobre
DESCRIPTION:﻿﻿﻿\n \n\nTous les Réflexions quotidiennes
URL:https://www.aa87.org/evenement/rq1005/2024-10-05/
LOCATION:aa87.org
CATEGORIES:Réflexions Quotidiennes
END:VEVENT
BEGIN:VEVENT
DTSTART;VALUE=DATE:20241006
DTEND;VALUE=DATE:20241007
DTSTAMP:20260422T161802
CREATED:20241018T153728Z
LAST-MODIFIED:20241018T160551Z
UID:10008674-1728172800-1728259199@www.aa87.org
SUMMARY:Réflexion quotidienne 06 octobre
DESCRIPTION:﻿﻿﻿﻿\n \n\nTous les Réflexions quotidiennes
URL:https://www.aa87.org/evenement/rq1006/2024-10-06/
LOCATION:aa87.org
CATEGORIES:Réflexions Quotidiennes
END:VEVENT
BEGIN:VEVENT
DTSTART;TZID=America/Toronto:20241006T130000
DTEND;TZID=America/Toronto:20241006T150000
DTSTAMP:20260422T161802
CREATED:20231217T161936Z
LAST-MODIFIED:20241217T005435Z
UID:10006969-1728219600-1728226800@www.aa87.org
SUMMARY:Correctional Facilities
DESCRIPTION:Salle 1\nParticiper à la réunion Zoom \nID de réunion : 944 7943 6712 \nCode secret : 1234
URL:https://www.aa87.org/evenement/correctional-facilities/2024-10-06/
LOCATION:BSR / ASO\, 3920\, rue Rachel Est\, Montréal QC\, H1X 1Z3\, 3920\, Rachel Est\, Montréal\, Québec\, H1X 1Z3\, Canada
CATEGORIES:Activité / Activity,Comités / Committees,Correctional Facilities Committee
END:VEVENT
BEGIN:VEVENT
DTSTART;TZID=America/Toronto:20241007T190000
DTEND;TZID=America/Toronto:20241007T210000
DTSTAMP:20260422T161802
CREATED:20231228T183127Z
LAST-MODIFIED:20241217T005748Z
UID:10006057-1728327600-1728334800@www.aa87.org
SUMMARY:Comité du Congrès Régional
DESCRIPTION:Participer à la réunion Zoom \nAutres informations de connexion :\nID de réunion : 944 7943 6712\nCode secret : 1234
URL:https://www.aa87.org/evenement/comite-du-congres-regional-3/2024-10-07/
END:VEVENT
BEGIN:VEVENT
DTSTART;TZID=America/Toronto:20241007T190000
DTEND;TZID=America/Toronto:20241007T220000
DTSTAMP:20260422T161802
CREATED:20231103T131611Z
LAST-MODIFIED:20240614T003816Z
UID:10006399-1728327600-1728338400@www.aa87.org
SUMMARY:District 19
DESCRIPTION:Salle 2 \nParticiper à la réunion Zoom \nID de réunion : 918 2068 6211 \nCode secret : 1234
URL:https://www.aa87.org/evenement/district-19-2/2024-10-07/
LOCATION:BSR / ASO\, 3920\, rue Rachel Est\, Montréal QC\, H1X 1Z3\, 3920\, Rachel Est\, Montréal\, Québec\, H1X 1Z3\, Canada
CATEGORIES:Activité / Activity,District 19
ORGANIZER;CN="District 19%2C Montreal%2C Westmount":MAILTO:district19@aa87.org
END:VEVENT
BEGIN:VEVENT
DTSTART;TZID=America/Toronto:20241007T193000
DTEND;TZID=America/Toronto:20241007T213000
DTSTAMP:20260422T161802
CREATED:20231229T174008Z
LAST-MODIFIED:20241217T010132Z
UID:10006554-1728329400-1728336600@www.aa87.org
SUMMARY:Réunion des RSG du District 87-26
DESCRIPTION:
URL:https://www.aa87.org/evenement/district-26-2/2024-10-07/
LOCATION:École Les Trois Saisons (entrée par l’arrière) 570\, boul. de Mortagne\, Boucherville QC\, J4B 5E4\, 570\, boul. de Mortagne\, Boucherville\, Québec\, J4B 5E4\, Canada
CATEGORIES:Activité / Activity,District 26,District AA87
ORGANIZER;CN="District 26%2C Longueuil%2C Contrec%C5%93ur":MAILTO:district26@aa87.org
END:VEVENT
BEGIN:VEVENT
DTSTART;TZID=America/Toronto:20241008T190000
DTEND;TZID=America/Toronto:20241008T210000
DTSTAMP:20260422T161802
CREATED:20231228T174213Z
LAST-MODIFIED:20231228T175254Z
UID:10005979-1728414000-1728421200@www.aa87.org
SUMMARY:District 10
DESCRIPTION:Salle 2 \nParticiper à la réunion Zoom \nID de réunion : 918 2068 6211 \nCode secret : 1234
URL:https://www.aa87.org/evenement/district-10-2/2024-10-08/
LOCATION:BSR / ASO\, 3920\, rue Rachel Est\, Montréal QC\, H1X 1Z3\, 3920\, Rachel Est\, Montréal\, Québec\, H1X 1Z3\, Canada
CATEGORIES:District 10
END:VEVENT
BEGIN:VEVENT
DTSTART;TZID=America/Toronto:20241008T190000
DTEND;TZID=America/Toronto:20241008T210000
DTSTAMP:20260422T161802
CREATED:20231229T153124Z
LAST-MODIFIED:20231229T153411Z
UID:10006367-1728414000-1728421200@www.aa87.org
SUMMARY:District 18
DESCRIPTION:
URL:https://www.aa87.org/evenement/district-18-2/2024-10-08/
LOCATION:Unity Church – 3455 Girouard in Montreal
CATEGORIES:District 18
ORGANIZER;CN="District 18%2C Verdun%2C Notre-Dame-de-Gr%C3%A2ce":MAILTO:district18@aa87.org
END:VEVENT
BEGIN:VEVENT
DTSTART;TZID=America/Toronto:20241008T190000
DTEND;TZID=America/Toronto:20241008T210000
DTSTAMP:20260422T161802
CREATED:20240104T231252Z
LAST-MODIFIED:20240105T151731Z
UID:10006811-1728414000-1728421200@www.aa87.org
SUMMARY:Écho Echo Eco
DESCRIPTION:Salle 3: \nParticiper à la réunion zoom \nID de réunion : 910 8777 9314 \nCode secret : 1234
URL:https://www.aa87.org/evenement/echo-echo-echo-2024-01-09-au-2024-12-10/2024-10-08/
END:VEVENT
BEGIN:VEVENT
DTSTART;TZID=America/Toronto:20241009T190000
DTEND;TZID=America/Toronto:20241009T210000
DTSTAMP:20260422T161802
CREATED:20230104T223256Z
LAST-MODIFIED:20231228T141245Z
UID:10005418-1728500400-1728507600@www.aa87.org
SUMMARY:District 01
DESCRIPTION:Salle 2 \nParticiper à la réunion Zoom \nID de réunion : 918 2068 6211 \nCode secret : 1234
URL:https://www.aa87.org/evenement/district-01/2024-10-09/
LOCATION:BSR / ASO\, 3920\, rue Rachel Est\, Montréal QC\, H1X 1Z3\, 3920\, Rachel Est\, Montréal\, Québec\, H1X 1Z3\, Canada
CATEGORIES:District 01
ORGANIZER;CN="District 1%2C Montr%C3%A9al%2C Outremont%2C C%C3%B4te-des-Neiges":MAILTO:district01@aa87.org
END:VEVENT
BEGIN:VEVENT
DTSTART;TZID=America/Toronto:20241009T190000
DTEND;TZID=America/Toronto:20241009T210000
DTSTAMP:20260422T161802
CREATED:20231217T182237Z
LAST-MODIFIED:20241217T005153Z
UID:10005372-1728500400-1728507600@www.aa87.org
SUMMARY:Comité des technologies
DESCRIPTION:Réunion mensuel d’équipe. \nParticipez à la réunion Teams
URL:https://www.aa87.org/evenement/comite-des-technologies/2024-10-09/
LOCATION:Réunion Virtuelle\, Québec\, Canada
CATEGORIES:Activité / Activity,Comité des Technologies/ Technology Committee,Comités / Committees
END:VEVENT
BEGIN:VEVENT
DTSTART;TZID=America/Toronto:20241009T190000
DTEND;TZID=America/Toronto:20241009T210000
DTSTAMP:20260422T161802
CREATED:20240906T161025Z
LAST-MODIFIED:20240906T161026Z
UID:10008041-1728500400-1728507600@www.aa87.org
SUMMARY:District 17
DESCRIPTION:
URL:https://www.aa87.org/evenement/district-17-2-2/2024-10-09/
LOCATION:Église Saint-Claire\, 8615\, rue Saint-Claire\, Montréal QC\, H1L 1Y1\, 8615\, rue Saint-Claire\, Montréal\, Québec\, H1L 1Y1\, Canada
CATEGORIES:Activité / Activity,District 17,District AA87
ORGANIZER;CN="District 17%2C Montr%C3%A9al Est%2C Anjou":MAILTO:district17@aa87.org
END:VEVENT
BEGIN:VEVENT
DTSTART;TZID=America/Toronto:20241009T193000
DTEND;TZID=America/Toronto:20241009T213000
DTSTAMP:20260422T161802
CREATED:20231229T162036Z
LAST-MODIFIED:20231229T162606Z
UID:10006461-1728502200-1728509400@www.aa87.org
SUMMARY:District 22
DESCRIPTION:
URL:https://www.aa87.org/evenement/district-22-2/2024-10-09/
LOCATION:Centre d’action bénévole\, 95\, rue Salaberry\, Salaberry-de-Valleyfield QC\, J6T 2H5\, 95\, rue Salaberry\, Salaberry-de-Valleyfield\, Québec\, J6T 2H5\, Canada
CATEGORIES:Activité / Activity,District 22,District AA87
ORGANIZER;CN="District 22%2C Valleyfield":MAILTO:district22@aa87.org
END:VEVENT
BEGIN:VEVENT
DTSTART;TZID=America/Toronto:20241010T190000
DTEND;TZID=America/Toronto:20241010T210000
DTSTAMP:20260422T161802
CREATED:20231217T170046Z
LAST-MODIFIED:20241203T005350Z
UID:10007225-1728586800-1728594000@www.aa87.org
SUMMARY:Publications
DESCRIPTION:Salle 1\nParticiper à la réunion Zoom \nID de réunion : 944 7943 6712 \nCode secret : 1234
URL:https://www.aa87.org/evenement/publications-2/2024-10-10/
CATEGORIES:Activité / Activity,Comité des Publications / Publications Committee,Comités / Committees
END:VEVENT
BEGIN:VEVENT
DTSTART;TZID=America/Toronto:20241010T193000
DTEND;TZID=America/Toronto:20241010T210000
DTSTAMP:20260422T161802
CREATED:20240417T211938Z
LAST-MODIFIED:20240417T212253Z
UID:10007470-1728588600-1728594000@www.aa87.org
SUMMARY:Services aux groupes
DESCRIPTION:Salle 3\nParticiper à la réunion Zoom \nID de réunion : 910 8777 9314 \nCode secret : 1234
URL:https://www.aa87.org/evenement/services-aux-groupes-2-2-2/2024-10-10/
LOCATION:Réunion Virtuelle\, Québec\, Canada
CATEGORIES:Activité / Activity,Comités / Committees,Services aux groupes / Group Services
END:VEVENT
BEGIN:VEVENT
DTSTART;VALUE=DATE:20241012
DTEND;VALUE=DATE:20241013
DTSTAMP:20260422T161802
CREATED:20241018T165135Z
LAST-MODIFIED:20241018T170020Z
UID:10008710-1728691200-1728777599@www.aa87.org
SUMMARY:Réflexion quotidienne 12 octobre
DESCRIPTION:﻿﻿﻿\n \n\nTous les Réflexions quotidiennes
URL:https://www.aa87.org/evenement/rq1012/2024-10-12/
LOCATION:aa87.org
CATEGORIES:Réflexions Quotidiennes
END:VEVENT
BEGIN:VEVENT
DTSTART;TZID=America/Toronto:20241012T100000
DTEND;TZID=America/Toronto:20241012T200000
DTSTAMP:20260422T161802
CREATED:20240801T010941Z
LAST-MODIFIED:20240801T012503Z
UID:10007958-1728727200-1728763200@www.aa87.org
SUMMARY:Journée des centres de détention
DESCRIPTION:
URL:https://www.aa87.org/evenement/journee-des-centres-de-detention-2/
LOCATION:Saint Ignatius of Loyola Church\, 4455 rue West Broadway\,\, Montreal\, QC\, H4B 2A7\, Canada
CATEGORIES:Activité / Activity,Centres de détention,Comités / Committees,District 13,District AA87
END:VEVENT
BEGIN:VEVENT
DTSTART;VALUE=DATE:20241013
DTEND;VALUE=DATE:20241014
DTSTAMP:20260422T161802
CREATED:20241018T171103Z
LAST-MODIFIED:20241018T171743Z
UID:10008728-1728777600-1728863999@www.aa87.org
SUMMARY:Réflexion quotidienne 13 octobre
DESCRIPTION:﻿﻿﻿\n \n\nTous les Réflexions quotidiennes
URL:https://www.aa87.org/evenement/rq1013/2024-10-13/
LOCATION:aa87.org
CATEGORIES:Réflexions Quotidiennes
END:VEVENT
BEGIN:VEVENT
DTSTART;TZID=America/Toronto:20241014T190000
DTEND;TZID=America/Toronto:20241014T210000
DTSTAMP:20260422T161802
CREATED:20231217T133410Z
LAST-MODIFIED:20240830T174151Z
UID:10008031-1728932400-1728939600@www.aa87.org
SUMMARY:Communications internes
DESCRIPTION:Salle 1\nParticiper à la réunion Zoom \nID de réunion : 944 7943 6712 \nCode secret : 1234
URL:https://www.aa87.org/evenement/communications-internes/2024-10-14/
LOCATION:Réunion Virtuelle\, Québec\, Canada
CATEGORIES:Activité / Activity,Comités / Committees,Communications internes / Internal Communication
END:VEVENT
BEGIN:VEVENT
DTSTART;TZID=America/Toronto:20241014T190000
DTEND;TZID=America/Toronto:20241014T210000
DTSTAMP:20260422T161802
CREATED:20231217T164214Z
LAST-MODIFIED:20241217T222311Z
UID:10013712-1728932400-1728939600@www.aa87.org
SUMMARY:Helpline Committee
DESCRIPTION:Salle 3\nParticiper à la réunion Zoom \nID de réunion : 910 8777 9314 \nCode secret : 1234
URL:https://www.aa87.org/evenement/helpline/2024-10-14/
LOCATION:Réunion Virtuelle\, Québec\, Canada
CATEGORIES:Activité / Activity,Comités / Committees,Helpline committee
END:VEVENT
END:VCALENDAR