BEGIN:VCALENDAR
VERSION:2.0
PRODID:-//Alcooliques Anonymes Région 87 - ECPv6.15.17//NONSGML v1.0//EN
CALSCALE:GREGORIAN
METHOD:PUBLISH
X-WR-CALNAME:Alcooliques Anonymes Région 87
X-ORIGINAL-URL:https://www.aa87.org
X-WR-CALDESC:Évènements pour Alcooliques Anonymes Région 87
REFRESH-INTERVAL;VALUE=DURATION:PT1H
X-Robots-Tag:noindex
X-PUBLISHED-TTL:PT1H
BEGIN:VTIMEZONE
TZID:America/Toronto
BEGIN:DAYLIGHT
TZOFFSETFROM:-0500
TZOFFSETTO:-0400
TZNAME:EDT
DTSTART:20230312T070000
END:DAYLIGHT
BEGIN:STANDARD
TZOFFSETFROM:-0400
TZOFFSETTO:-0500
TZNAME:EST
DTSTART:20231105T060000
END:STANDARD
BEGIN:DAYLIGHT
TZOFFSETFROM:-0500
TZOFFSETTO:-0400
TZNAME:EDT
DTSTART:20240310T070000
END:DAYLIGHT
BEGIN:STANDARD
TZOFFSETFROM:-0400
TZOFFSETTO:-0500
TZNAME:EST
DTSTART:20241103T060000
END:STANDARD
BEGIN:DAYLIGHT
TZOFFSETFROM:-0500
TZOFFSETTO:-0400
TZNAME:EDT
DTSTART:20250309T070000
END:DAYLIGHT
BEGIN:STANDARD
TZOFFSETFROM:-0400
TZOFFSETTO:-0500
TZNAME:EST
DTSTART:20251102T060000
END:STANDARD
END:VTIMEZONE
BEGIN:VEVENT
DTSTART;VALUE=DATE:20241101
DTEND;VALUE=DATE:20241102
DTSTAMP:20260422T145610
CREATED:20241017T230225Z
LAST-MODIFIED:20241018T153218Z
UID:10008636-1730419200-1730505599@www.aa87.org
SUMMARY:Réflexion quotidienne 01 novembre
DESCRIPTION:Je ne peux changer la direction du vent\n1 novembre\n\nIl est facile de commencer à négliger le programme spirituel et de se reposer sur ses lauriers. Si nous le faisons\, nous nous préparons de sérieux ennuis\, car l’alcool est un ennemi subtil. \nLes Alcooliques Anonymes\, p. 96 \nMon premier parrain m’a dit deux choses importantes au sujet de la prière et de la méditation : premièrement\, je devais commencer\, et deuxièmement\, je devais continuer. Quand je suis arrivé chez les AA ma vie spirituelle était une faillite totale. Lorsque j’accordais la moindre attention à Dieu\, c’était pour l’appeler au secours parce que ma seule volonté n’arrivait pas à venir à bout d’une tâche ou parce que des peurs terrifiantes terrassaient mon ego. \nAujourd’hui\, j’éprouve de la gratitude pour ma nouvelle vie\, et mes prières sont des actions de grâce. Au moment de la prière\, j’écoute plus que je ne parle. Je sais maintenant que si je ne peux pas changer la direction du vent\, je peux ajuster ma voile. Je connais la différence entre superstition et spiritualité. Je sais qu’il y a une manière élégante d’avoir raison et de nombreuses façons d’avoir tort. \n\n\nExtrait du livre Réflexions quotidiennes\nCopyright © 1991 par Alcoholics Anonymous World Services\, Inc. Tous droits réservés. \nTous les Réflexions quotidiennes
URL:https://www.aa87.org/evenement/rq1101/2024-11-01/
LOCATION:aa87.org
CATEGORIES:Réflexions Quotidiennes
END:VEVENT
BEGIN:VEVENT
DTSTART;VALUE=DATE:20241102
DTEND;VALUE=DATE:20241103
DTSTAMP:20260422T145610
CREATED:20241017T231501Z
LAST-MODIFIED:20241103T125534Z
UID:10008656-1730505600-1730591999@www.aa87.org
SUMMARY:Réflexion quotidienne 02 novembre
DESCRIPTION:﻿﻿﻿﻿﻿﻿﻿\n \n\nTous les Réflexions quotidiennes
URL:https://www.aa87.org/evenement/rq1102/2024-11-02/
LOCATION:aa87.org
CATEGORIES:Réflexions Quotidiennes
END:VEVENT
BEGIN:VEVENT
DTSTART;VALUE=DATE:20241102
DTEND;VALUE=DATE:20241103
DTSTAMP:20260422T145610
CREATED:20240101T141617Z
LAST-MODIFIED:20240101T142326Z
UID:10006632-1730534400-1730566800@www.aa87.org
SUMMARY:Réunion comité interrégional
DESCRIPTION:02 mars et 02 novembre 2024 – Les Suites de Laviolette\, Trois-Rivières \n24 mai 2024 – 3920\, rue Rachel Est\, Montréal (Québec) H1X 1Z3
URL:https://www.aa87.org/evenement/reunion-comite-interregional-2/2024-11-02/
LOCATION:Les Suites de Laviolette\, Trois-Rivières\, 7201 rue Notre-Dame O\, Trpois-Rivières\, Québec\, G9B 1W2\, Canada
CATEGORIES:Activité / Activity,Comité interrégional,Comités / Committees
END:VEVENT
BEGIN:VEVENT
DTSTART;VALUE=DATE:20241103
DTEND;VALUE=DATE:20241104
DTSTAMP:20260422T145610
CREATED:20241027T002729Z
LAST-MODIFIED:20241201T042445Z
UID:10008795-1730592000-1730678399@www.aa87.org
SUMMARY:Réflexion quotidienne 03 novembre
DESCRIPTION:﻿﻿﻿﻿﻿\n \n\nTous les Réflexions quotidiennes
URL:https://www.aa87.org/evenement/rq1103/2024-11-03/
LOCATION:aa87.org
CATEGORIES:Réflexions Quotidiennes
END:VEVENT
BEGIN:VEVENT
DTSTART;TZID=America/Toronto:20241103T130000
DTEND;TZID=America/Toronto:20241103T150000
DTSTAMP:20260422T145610
CREATED:20231217T161936Z
LAST-MODIFIED:20241217T005435Z
UID:10006970-1730638800-1730646000@www.aa87.org
SUMMARY:Correctional Facilities
DESCRIPTION:Salle 1\nParticiper à la réunion Zoom \nID de réunion : 944 7943 6712 \nCode secret : 1234
URL:https://www.aa87.org/evenement/correctional-facilities/2024-11-03/
LOCATION:BSR / ASO\, 3920\, rue Rachel Est\, Montréal QC\, H1X 1Z3\, 3920\, Rachel Est\, Montréal\, Québec\, H1X 1Z3\, Canada
CATEGORIES:Activité / Activity,Comités / Committees,Correctional Facilities Committee
END:VEVENT
BEGIN:VEVENT
DTSTART;VALUE=DATE:20241104
DTEND;VALUE=DATE:20241105
DTSTAMP:20260422T145610
CREATED:20241027T115751Z
LAST-MODIFIED:20251122T040244Z
UID:10008829-1730678400-1730764799@www.aa87.org
SUMMARY:Réflexion quotidienne 04 novembre
DESCRIPTION:Une discipline quotidienne\n4 novembre\n\n… quand elles [les pratiques de l’examen de cons- cience\, de la méditation et de la prière] sont logiquement reliées et conjuguées\, elles forment une assise inébranlable pour la vie. \nLes douze étapes et les douze traditions\, p. 111 \nLes trois dernières Étapes du programme des AA font appel à la discipline bienveillante de Dieu pour tempérer ma nature entêtée. Quelques instants consacrés tous les soirs à l’examen des principaux moments de ma journée et l’aveu de ses aspects les moins réussis m’éclairent sur ma vie\, ce qui est essentiel dans l’aventure de la découverte de soi. Je note mes progrès – ou l’absence de progrès – et je demande\, dans une méditation faite de prière\, d’être libéré des défauts qui me font constamment souffrir. La méditation et la prière m’apprennent aussi l’art de la concentration et de l’écoute. Quand je prie pour connaître la volonté de Dieu et pour me faire guider par lui\, l’agitation de la journée s’apaise. Quand je lui demande de m’aider\, dans ma recherche de la perfection\, je trouve moins assommante la tâche de chaque jour\, car je sais qu’il y a de l’honneur dans un travail bien fait. Cette discipline quotidienne de prière et de méditation me garde en forme\, spirituellement\, et me rend capable d’affronter toutes les situations de la journée\, sans penser à la boisson. \n\n\nExtrait du livre Réflexions quotidiennes\nCopyright © 1991 par Alcoholics Anonymous World Services\, Inc. Tous droits réservés. \nTous les Réflexions quotidiennes
URL:https://www.aa87.org/evenement/rq1104/2024-11-04/
LOCATION:aa87.org
CATEGORIES:Réflexions Quotidiennes
END:VEVENT
BEGIN:VEVENT
DTSTART;TZID=America/Toronto:20241104T190000
DTEND;TZID=America/Toronto:20241104T210000
DTSTAMP:20260422T145610
CREATED:20231228T183127Z
LAST-MODIFIED:20241217T005748Z
UID:10006058-1730746800-1730754000@www.aa87.org
SUMMARY:Comité du Congrès Régional
DESCRIPTION:Participer à la réunion Zoom \nAutres informations de connexion :\nID de réunion : 944 7943 6712\nCode secret : 1234
URL:https://www.aa87.org/evenement/comite-du-congres-regional-3/2024-11-04/
END:VEVENT
BEGIN:VEVENT
DTSTART;TZID=America/Toronto:20241104T190000
DTEND;TZID=America/Toronto:20241104T220000
DTSTAMP:20260422T145610
CREATED:20231103T131611Z
LAST-MODIFIED:20240614T003816Z
UID:10006400-1730746800-1730757600@www.aa87.org
SUMMARY:District 19
DESCRIPTION:Salle 2 \nParticiper à la réunion Zoom \nID de réunion : 918 2068 6211 \nCode secret : 1234
URL:https://www.aa87.org/evenement/district-19-2/2024-11-04/
LOCATION:BSR / ASO\, 3920\, rue Rachel Est\, Montréal QC\, H1X 1Z3\, 3920\, Rachel Est\, Montréal\, Québec\, H1X 1Z3\, Canada
CATEGORIES:Activité / Activity,District 19
ORGANIZER;CN="District 19%2C Montreal%2C Westmount":MAILTO:district19@aa87.org
END:VEVENT
BEGIN:VEVENT
DTSTART;TZID=America/Toronto:20241104T193000
DTEND;TZID=America/Toronto:20241104T213000
DTSTAMP:20260422T145610
CREATED:20231229T174008Z
LAST-MODIFIED:20241217T010132Z
UID:10006555-1730748600-1730755800@www.aa87.org
SUMMARY:Réunion des RSG du District 87-26
DESCRIPTION:
URL:https://www.aa87.org/evenement/district-26-2/2024-11-04/
LOCATION:École Les Trois Saisons (entrée par l’arrière) 570\, boul. de Mortagne\, Boucherville QC\, J4B 5E4\, 570\, boul. de Mortagne\, Boucherville\, Québec\, J4B 5E4\, Canada
CATEGORIES:Activité / Activity,District 26,District AA87
ORGANIZER;CN="District 26%2C Longueuil%2C Contrec%C5%93ur":MAILTO:district26@aa87.org
END:VEVENT
BEGIN:VEVENT
DTSTART;VALUE=DATE:20241105
DTEND;VALUE=DATE:20241106
DTSTAMP:20260422T145610
CREATED:20241027T232122Z
LAST-MODIFIED:20251126T214254Z
UID:10008849-1730764800-1730851199@www.aa87.org
SUMMARY:Réflexion quotidienne 05 novembre
DESCRIPTION:Une foi de qualité\n5 novembre\n\nC’est une question de qualité de foi… Nous n’avions jamais fait d’inventaire personnel profond et sérieux… Nous n’avions même pas prié correc- tement. Nous avions toujours dit : « Réponds à mes désirs » au lieu de dire : « Que ta volonté soit faite ». \nLes douze étapes et les douze traditions\, p. 38 \nDieu ne me donne pas de biens matériels\, ne m’enlève pas ma souffrance et ne me met pas à l’abri des catastrophes\, mais il me donne une bonne vie ainsi que la capacité de m’adapter et la paix d’esprit. Mes prières sont simples. J’exprime d’abord ma gratitude pour les bonnes choses de la vie\, même si je dois travailler fort pour les obtenir. Puis je demande seulement le courage et la sagesse de faire sa volonté. En réponse\, j’obtiens des solutions à mes problèmes\, la capacité de faire face aux frustrations de la journée avec une sérénité que je ne croyais pas possible\, et la force de mettre en pratique les principes des AA dans mes activités quotidiennes. \nExtrait du livre Réflexions quotidiennes\nCopyright © 1991 par Alcoholics Anonymous World Services\, Inc. Tous droits réservés. \nTous les Réflexions quotidiennes
URL:https://www.aa87.org/evenement/rq1105/2024-11-05/
LOCATION:aa87.org
CATEGORIES:Réflexions Quotidiennes
END:VEVENT
BEGIN:VEVENT
DTSTART;TZID=America/Toronto:20241105T190000
DTEND;TZID=America/Toronto:20241105T210000
DTSTAMP:20260422T145610
CREATED:20231229T143517Z
LAST-MODIFIED:20241217T010649Z
UID:10006274-1730833200-1730840400@www.aa87.org
SUMMARY:Comité de l'accueil du District 87-01
DESCRIPTION:Salle 2 \nParticiper à la réunion Zoom \nID de réunion : 918 2068 6211 \nCode secret : 1234
URL:https://www.aa87.org/evenement/comite-accueil-district-01/2024-11-05/
ORGANIZER;CN="District 1%2C Montr%C3%A9al%2C Outremont%2C C%C3%B4te-des-Neiges":MAILTO:district01@aa87.org
END:VEVENT
BEGIN:VEVENT
DTSTART;TZID=America/Toronto:20241105T193000
DTEND;TZID=America/Toronto:20241105T213000
DTSTAMP:20260422T145610
CREATED:20231229T155357Z
LAST-MODIFIED:20241217T012449Z
UID:10006430-1730835000-1730842200@www.aa87.org
SUMMARY:Réunion des RSG du District 87-21
DESCRIPTION:
URL:https://www.aa87.org/evenement/district-21-2/2024-11-05/
LOCATION:Église United Church\, 101 Rue Principale\, Granby\, QC\, J2G 2T9\, Canada
CATEGORIES:Activité / Activity,District 21,District AA87
ORGANIZER;CN="District 21%2C Granby%2C Cowansville":MAILTO:district21@aa87.org
END:VEVENT
BEGIN:VEVENT
DTSTART;VALUE=DATE:20241106
DTEND;VALUE=DATE:20241107
DTSTAMP:20260422T145610
CREATED:20241027T234225Z
LAST-MODIFIED:20251126T214504Z
UID:10008864-1730851200-1730937599@www.aa87.org
SUMMARY:Réflexion quotidienne 06 novembre
DESCRIPTION:SUIVRE LE COURANT\n6 novembre\n\nNous avons cherché par la prière et la méditation à améliorer notre contact conscient avec Dieu\, tel que nous Le concevions… \nLES DOUZE ÉTAPES ET LES DOUZE TRADITIONS\, P. 109 \nMes premières paroles\, en me levant le matin\, sont : « Mon Dieu\, je me lève pour faire ta volonté. » C’est la prière la plus courte que je connaisse et elle est profondément enracinée en moi. La prière ne change pas l’attitude de Dieu envers moi\, mais elle change mon attitude envers Dieu. Quant à la méditation\, elle est un moment de calme et de silence. Elle procure la détente physique\, le calme émotif\, la concentration mentale et la conscience spirituelle. \nUne bonne manière de maintenir la communication et d’améliorer mon contact conscient avec Dieu\, c’est de conserver une attitude reconnaissante. Les jours où je suis reconnaissant\, il semble se produire de bonnes choses dans ma vie. Mais dès que je me mets à maudire mon sort\, ce courant de bonnes choses s’arrête. Ce n’est pas Dieu qui l’interrompt\, mais mon attitude négative. \nExtrait du livre Réflexions quotidiennes\nCopyright © 1991 par Alcoholics Anonymous World Services\, Inc. Tous droits réservés. \nTous les Réflexions quotidiennes
URL:https://www.aa87.org/evenement/rq1106/2024-11-06/
LOCATION:aa87.org
CATEGORIES:Réflexions Quotidiennes
END:VEVENT
BEGIN:VEVENT
DTSTART;TZID=America/Toronto:20241106T190000
DTEND;TZID=America/Toronto:20241106T210000
DTSTAMP:20260422T145610
CREATED:20231217T165210Z
LAST-MODIFIED:20260303T000857Z
UID:10024998-1730919600-1730926800@www.aa87.org
SUMMARY:Comité de l'Information publique +
DESCRIPTION:Salle 1\nJoindre la réunion\n\n  \nID de réunion : 944 7943 6712\nCode secret : 1234
URL:https://www.aa87.org/evenement/information-publique/2024-11-06/
LOCATION:BSR / ASO\, 3920\, rue Rachel Est\, Montréal QC\, H1X 1Z3\, 3920\, Rachel Est\, Montréal\, Québec\, H1X 1Z3\, Canada
CATEGORIES:Activité / Activity,Comité d’Information Publique,Comités / Committees
END:VEVENT
BEGIN:VEVENT
DTSTART;TZID=America/Toronto:20241106T193000
DTEND;TZID=America/Toronto:20241106T213000
DTSTAMP:20260422T145610
CREATED:20231229T144655Z
LAST-MODIFIED:20241217T113214Z
UID:10008773-1730921400-1730928600@www.aa87.org
SUMMARY:Réunion des RSG du District 87-16
DESCRIPTION:
URL:https://www.aa87.org/evenement/district-16-2-2/2024-11-06/
LOCATION:Centre communautaire\, 53\, rue Rabastalière\, St-Bruno QC\, J3V 1Y7\, 53\, rue Rabastalière\, St-Bruno\, Québec\, J3V 1Y7\, Canada
CATEGORIES:District 16
ORGANIZER;CN="District 16%2C Bel%C5%93il%2C St-Hilaire":MAILTO:district16@aa87.org
END:VEVENT
BEGIN:VEVENT
DTSTART;VALUE=DATE:20241107
DTEND;VALUE=DATE:20241108
DTSTAMP:20260422T145610
CREATED:20241027T235928Z
LAST-MODIFIED:20251126T214640Z
UID:10008884-1730937600-1731023999@www.aa87.org
SUMMARY:Réflexion quotidienne 07 novembre
DESCRIPTION:Laisser agir Dieu\n7 novembre\n\n… Lui demandant seulement de connaître Sa volonté à notre égard et de nous donner la force de l’exécuter. \nLes douze étapes et les douze traditions\, p. 109 \nQuand je lâche prise et laisse agir Dieu\, je peux réfléchir avec clarté et sagesse. Sans y penser\, je démissionne rapidement devant les choses qui me font mal et me mettent mal à l’aise. Quand je trouve trop difficile de lâcher prise devant les inquiétudes ou les attitudes négatives qui m’angoissent\, tout ce que j’ai à faire\, c’est de laisser Dieu\, tel que je le conçois\, m’en libérer ; sur-le-champ\, je laisse tomber les pensées\, les souvenirs ou les attitudes qui me troublent. \nQuand je reçois l’aide de Dieu\, tel que je le conçois\, je vis ma vie une journée à la fois et j’arrive à faire face à tous les défis qui se présentent. Alors seulement\, ma vie devient une victoire sur l’alcool dans le réconfort de la sobriété. \n\nExtrait du livre Réflexions quotidiennes\nCopyright © 1991 par Alcoholics Anonymous World Services\, Inc. Tous droits réservés. \nTous les Réflexions quotidiennes
URL:https://www.aa87.org/evenement/rq1107/2024-11-07/
LOCATION:aa87.org
CATEGORIES:Réflexions Quotidiennes
END:VEVENT
BEGIN:VEVENT
DTSTART;TZID=America/Toronto:20241107T060000
DTEND;TZID=America/Toronto:20241107T060000
DTSTAMP:20260422T145610
CREATED:20231229T130646Z
LAST-MODIFIED:20241217T113831Z
UID:10012752-1730959200-1730959200@www.aa87.org
SUMMARY:Réunion des RSG du District 87-13
DESCRIPTION:
URL:https://www.aa87.org/evenement/district-13/2024-11-07/
LOCATION:Centre St-Zotique\, 75\, carré Sir Georges-Étienne Cartier\, salle 215\, Montréal QC\, H4C 3A1\, 75\, carré Sir Georges-Étienne Cartier\, salle 215\, Montréal\, Québec\, H4C 3A1\, Canada
CATEGORIES:Activité / Activity,District 13,District AA87
END:VEVENT
BEGIN:VEVENT
DTSTART;TZID=America/Toronto:20241107T190000
DTEND;TZID=America/Toronto:20241107T210000
DTSTAMP:20260422T145610
CREATED:20231228T153002Z
LAST-MODIFIED:20231229T175154Z
UID:10005799-1731006000-1731013200@www.aa87.org
SUMMARY:District 05
DESCRIPTION:Participer à la réunion Zoom \nID de réunion : 86244183943
URL:https://www.aa87.org/evenement/district-05/2024-11-07/
LOCATION:Place à l’emploi\, 125 Chem. du Coteau-Rouge\, Longueuil\, QC J4J 1W7\, Canada
CATEGORIES:Activité / Activity,District 05,District AA87
ORGANIZER;CN="District 5%2C Longueuil%2C St-Lambert":MAILTO:district05@aa87.org
END:VEVENT
BEGIN:VEVENT
DTSTART;TZID=America/Toronto:20241107T193000
DTEND;TZID=America/Toronto:20241107T213000
DTSTAMP:20260422T145610
CREATED:20231228T154525Z
LAST-MODIFIED:20231228T154839Z
UID:10005893-1731007800-1731015000@www.aa87.org
SUMMARY:District 07
DESCRIPTION:
URL:https://www.aa87.org/evenement/district-07-2/2024-11-07/
LOCATION:St. Mary’s Church\, 735\, Miller\, Greenfield Park QC\, 735\, Miller\, Greenfield Park\, Québec\, Canada
CATEGORIES:District 07
ORGANIZER;CN="District 7%2C Ch%C3%A2teauguay%2C St-Lambert%2C Valleyfield":MAILTO:district07@aa87.org
END:VEVENT
BEGIN:VEVENT
DTSTART;TZID=America/Toronto:20241107T193000
DTEND;TZID=America/Toronto:20241107T213000
DTSTAMP:20260422T145610
CREATED:20240322T030612Z
LAST-MODIFIED:20241110T003100Z
UID:10009688-1731007800-1731015000@www.aa87.org
SUMMARY:District 14
DESCRIPTION:La réunion est maintenent en présentiel seulement à une nouvelle adresse.
URL:https://www.aa87.org/evenement/district-14/2024-11-07/
LOCATION:3225 rue Courchesne Sorel-Tracy  Local 210\, 3225 rue Courchesne\, Sorel-Tracy\, QC\, J3R 3A7\, Canada
CATEGORIES:Activité / Activity,District 14,District AA87
ORGANIZER;CN="District 14%2C Sorel%2C Tracy et environs":MAILTO:district14@aa87.org
END:VEVENT
BEGIN:VEVENT
DTSTART;VALUE=DATE:20241108
DTEND;VALUE=DATE:20241109
DTSTAMP:20260422T145610
CREATED:20241102T190908Z
LAST-MODIFIED:20251126T214813Z
UID:10008899-1731024000-1731110399@www.aa87.org
SUMMARY:Réflexion quotidienne 08 novembre
DESCRIPTION:Uue aventure personnelle\n8 novembre\n\nLa méditation est un exercice qui peut prendre sans cesse plus d’envergure. Elle ne connaît pas de limites\, ni en largeur ni en hauteur. Favorisée par toutes les connaissances et tous les exemples que nous pourrons trouver\, elle devient en somme une aventure personnelle que chacun de nous peut conduire à sa guise. \nLes douze étapes et les douze traditions\, p. 115 \nMa croissance spirituelle est dans les mains de Dieu tel que je le conçois. Il m’aide à me connaître vraiment. La prière et la méditation quotidiennes renforcent la source de mon bien-être. Elles me procurent l’ouverture d’esprit qui me permet d’accepter tout ce que Dieu a à m’offrir. Avec la présence de Dieu dans ma vie\, je suis assuré que mon voyage sera comme il le souhaite et je lui en suis reconnaissant. \nExtrait du livre Réflexions quotidiennes\nCopyright © 1991 par Alcoholics Anonymous World Services\, Inc. Tous droits réservés. \nTous les Réflexions quotidiennes
URL:https://www.aa87.org/evenement/rq1108/2024-11-08/
LOCATION:aa87.org
CATEGORIES:Réflexions Quotidiennes
END:VEVENT
BEGIN:VEVENT
DTSTART;VALUE=DATE:20241109
DTEND;VALUE=DATE:20241110
DTSTAMP:20260422T145610
CREATED:20241102T191806Z
LAST-MODIFIED:20251126T221409Z
UID:10008914-1731110400-1731196799@www.aa87.org
SUMMARY:Réflexion quotidienne 09 novembre
DESCRIPTION:MARCHER AU SOLEIL\n9 novembre\n\nNous voudrons faire croître et fleurir ce qu’il y a de bon en chacun de nous\, même chez les plus minables. Il est bien certain que nous aurons besoin d’air tonifiant et de nourriture abondante. Mais avant tout\, nous chercherons du soleil. Il ne pousse pratiquement rien dans le noir. C’est la méditation qui nous fait sortir au soleil. \nRÉFLEXIONS DE BILL\, P. 10 \nIl m’arrive parfois de penser que je n’ai pas le temps de méditer et de prier. J’oublie alors que j’ai toujours trouvé le temps de boire. Je peux toujours trouver le temps de faire quelque chose que je désire vraiment faire. Quand je commence à prier et à méditer\, j’ai intérêt à prévoir un peu de temps pour cela. Le matin\, je lis une page d’un livre des AA et le soir\, en me mettant au lit\, je remercie Dieu. L’habitude de la prière étant bien ancrée\, j’y consacrerai plus de temps\, sans même me rendre compte qu’elle empiète sur ma journée si occupée. Lorsque j’ai du mal à prier\, je ne fais que répéter le Notre Père\, car cette prière résume tout. Puis je pense aux choses pour lesquelles je peux être reconnaissant et je dis merci. \nJe n’ai pas besoin de m’enfermer dans un placard pour prier. Je peux même le faire dans une pièce pleine de monde. Je n’ai qu’à me retirer mentalement\, pendant un moment. Une fois la pratique de la prière bien développée\, je me rendrai compte que les mots ne sont plus nécessaires\, car Dieu entend mes pensées dans le silence. \nExtrait du livre Réflexions quotidiennes\nCopyright © 1991 par Alcoholics Anonymous World Services\, Inc. Tous droits réservés. \nTous les Réflexions quotidiennes
URL:https://www.aa87.org/evenement/rq1109/2024-11-09/
LOCATION:aa87.org
CATEGORIES:Réflexions Quotidiennes
END:VEVENT
BEGIN:VEVENT
DTSTART;TZID=America/Toronto:20241109T083000
DTEND;TZID=America/Toronto:20241109T143000
DTSTAMP:20260422T145610
CREATED:20230810T000756Z
LAST-MODIFIED:20240117T232835Z
UID:10006610-1731141000-1731162600@www.aa87.org
SUMMARY:Réunion du comité régional
DESCRIPTION:Salle 0 \nParticiper à la réunion Zoom \nID de réunion : 984 9889 7228 \nCode secret : 1234 \nLien vers l’annonce et la table virtuel des documents à venir
URL:https://www.aa87.org/evenement/reunion-du-comite-regional-4/2024-11-09/
LOCATION:BSR / ASO\, 3920\, rue Rachel Est\, Montréal QC\, H1X 1Z3\, 3920\, Rachel Est\, Montréal\, Québec\, H1X 1Z3\, Canada
CATEGORIES:Activité / Activity,Comité régional,Régional
END:VEVENT
BEGIN:VEVENT
DTSTART;VALUE=DATE:20241110
DTEND;VALUE=DATE:20241111
DTSTAMP:20260422T145610
CREATED:20241102T192857Z
LAST-MODIFIED:20251126T221607Z
UID:10008929-1731196800-1731283199@www.aa87.org
SUMMARY:Réflexion quotidienne 10 novembre
DESCRIPTION:Un sentiment d’appartenance\n10 novembre\n\nL’une des plus précieuses récompenses que peuvent nous apporter la prière et la méditation\, c’est sans doute le sentiment d’appartenance que nous en tirons. \nLes douze étapes et les douze traditions\, p. 120 \nCe qui compte est l’appartenance ! Après une séance de méditation\, j’ai su que ce que je ressentais était un sentiment d’appartenance\, parce que j’étais très détendu. Je me sentais plus calme intérieurement\, plus à même d’écarter les petites irritations de la vie. Je goûtais mon sens de l’humour. Dans cette pratique quotidienne de la méditation\, je ressens également le pur plaisir d’appartenir au courant créateur de l’univers de Dieu. Comme il est bien pour nous que la prière et la méditation s’inscrivent dans notre mode de vie des AA. \n\nExtrait du livre Réflexions quotidiennes\nCopyright © 1991 par Alcoholics Anonymous World Services\, Inc. Tous droits réservés. \nTous les Réflexions quotidiennes
URL:https://www.aa87.org/evenement/rq1110/2024-11-10/
LOCATION:aa87.org
CATEGORIES:Réflexions Quotidiennes
END:VEVENT
BEGIN:VEVENT
DTSTART;VALUE=DATE:20241111
DTEND;VALUE=DATE:20241112
DTSTAMP:20260422T145610
CREATED:20241102T194620Z
LAST-MODIFIED:20251126T221727Z
UID:10008946-1731283200-1731369599@www.aa87.org
SUMMARY:Réflexion quotidienne 11 novembre
DESCRIPTION:S’accepter soi-même\n11 novembre\n\nNous savons que Dieu veille avec amour sur nous. Nous savons qu’en nous tournant vers Lui\, tout ira bien pour nous\, ici-bas et dans l’au-delà. \nLes douze étapes et les douze traditions\, p. 120 \nJe prie pour me rappeler que je suis un enfant de Dieu\, une âme divine dans une forme humaine\, et que la tâche de ma vie la plus fondamentale et la plus pressante est de m’accepter\, de me connaître\, de m’aimer et de m’éduquer moi-même. En m’acceptant\, j’accepte la volonté de Dieu. En me connaissant et en m’aimant\, j’apprends à connaître et à aimer Dieu. En m’éduquant moi-même\, j’agis en me laissant guider par Dieu. \nJe prie pour ne plus faire une autocritique arrogante et pour louer Dieu en m’acceptant avec humilité et bienveillance tel que je suis. \nExtrait du livre Réflexions quotidiennes\nCopyright © 1991 par Alcoholics Anonymous World Services\, Inc. Tous droits réservés. \nTous les Réflexions quotidiennes
URL:https://www.aa87.org/evenement/rq1111/2024-11-11/
LOCATION:aa87.org
CATEGORIES:Réflexions Quotidiennes
END:VEVENT
BEGIN:VEVENT
DTSTART;TZID=America/Toronto:20241111T190000
DTEND;TZID=America/Toronto:20241111T210000
DTSTAMP:20260422T145610
CREATED:20231217T164214Z
LAST-MODIFIED:20241217T222311Z
UID:10007985-1731351600-1731358800@www.aa87.org
SUMMARY:Helpline Committee
DESCRIPTION:Salle 3\nParticiper à la réunion Zoom \nID de réunion : 910 8777 9314 \nCode secret : 1234
URL:https://www.aa87.org/evenement/helpline/2024-11-11/
LOCATION:Réunion Virtuelle\, Québec\, Canada
CATEGORIES:Activité / Activity,Comités / Committees,Helpline committee
END:VEVENT
BEGIN:VEVENT
DTSTART;TZID=America/Toronto:20241111T193000
DTEND;TZID=America/Toronto:20241111T213000
DTSTAMP:20260422T145610
CREATED:20231229T142706Z
LAST-MODIFIED:20231229T143007Z
UID:10006242-1731353400-1731360600@www.aa87.org
SUMMARY:District 15
DESCRIPTION:
URL:https://www.aa87.org/evenement/district-15-2/2024-11-11/
LOCATION:136-A Jacques-Cartier Nord\, St-Jean-sur-Richelieu\, Québec\, Canada
CATEGORIES:District 15
ORGANIZER;CN="District 15%2C St-Jean-sur-Richelieu":MAILTO:district15@aa87.org
END:VEVENT
BEGIN:VEVENT
DTSTART;VALUE=DATE:20241112
DTEND;VALUE=DATE:20241113
DTSTAMP:20260422T145610
CREATED:20241102T225240Z
LAST-MODIFIED:20251126T221909Z
UID:10008961-1731369600-1731455999@www.aa87.org
SUMMARY:Réflexion quotidienne 12 novembre
DESCRIPTION:Pensées du matin\n12 novembre\n\nDans votre méditation du matin\, demandez-Lui ce que vous pouvez faire chaque jour pour celui qui souffre encore. \nLes Alcooliques Anonymes\, p. 185 \nLongtemps\, j’ai réfléchi à la volonté de Dieu à mon égard\, en songeant qu’il me réservait peut-être un grand destin. Après tout\, est-ce que je n’avais pas appris dans la religion de ma jeunesse que j’étais « élu » ? J’ai finalement compris\, en lisant le passage cité\, que la volonté de Dieu à mon égard est que je pratique la Douzième Étape chaque jour et de mon mieux. J’ai vite constaté que cette pratique m’aide à vivre dans le contexte du quotidien. \nExtrait du livre Réflexions quotidiennes\nCopyright © 1991 par Alcoholics Anonymous World Services\, Inc. Tous droits réservés. \nTous les Réflexions quotidiennes
URL:https://www.aa87.org/evenement/rq1112/2024-11-12/
LOCATION:aa87.org
CATEGORIES:Réflexions Quotidiennes
END:VEVENT
BEGIN:VEVENT
DTSTART;TZID=America/Toronto:20241112T190000
DTEND;TZID=America/Toronto:20241112T210000
DTSTAMP:20260422T145610
CREATED:20231228T174213Z
LAST-MODIFIED:20231228T175254Z
UID:10005980-1731438000-1731445200@www.aa87.org
SUMMARY:District 10
DESCRIPTION:Salle 2 \nParticiper à la réunion Zoom \nID de réunion : 918 2068 6211 \nCode secret : 1234
URL:https://www.aa87.org/evenement/district-10-2/2024-11-12/
LOCATION:BSR / ASO\, 3920\, rue Rachel Est\, Montréal QC\, H1X 1Z3\, 3920\, Rachel Est\, Montréal\, Québec\, H1X 1Z3\, Canada
CATEGORIES:District 10
END:VEVENT
BEGIN:VEVENT
DTSTART;TZID=America/Toronto:20241112T190000
DTEND;TZID=America/Toronto:20241112T210000
DTSTAMP:20260422T145610
CREATED:20231229T153124Z
LAST-MODIFIED:20231229T153411Z
UID:10006368-1731438000-1731445200@www.aa87.org
SUMMARY:District 18
DESCRIPTION:
URL:https://www.aa87.org/evenement/district-18-2/2024-11-12/
LOCATION:Unity Church – 3455 Girouard in Montreal
CATEGORIES:District 18
ORGANIZER;CN="District 18%2C Verdun%2C Notre-Dame-de-Gr%C3%A2ce":MAILTO:district18@aa87.org
END:VEVENT
END:VCALENDAR